BEGIN:VCALENDAR
VERSION:2.0
PRODID:-//Pacheco Community Center - ECPv6.15.15//NONSGML v1.0//EN
CALSCALE:GREGORIAN
METHOD:PUBLISH
X-WR-CALNAME:Pacheco Community Center
X-ORIGINAL-URL:https://www.pachecocommunitycenter.com
X-WR-CALDESC:Events for Pacheco Community Center
REFRESH-INTERVAL;VALUE=DURATION:PT1H
X-Robots-Tag:noindex
X-PUBLISHED-TTL:PT1H
BEGIN:VTIMEZONE
TZID:America/Los_Angeles
BEGIN:DAYLIGHT
TZOFFSETFROM:-0800
TZOFFSETTO:-0700
TZNAME:PDT
DTSTART:20230312T100000
END:DAYLIGHT
BEGIN:STANDARD
TZOFFSETFROM:-0700
TZOFFSETTO:-0800
TZNAME:PST
DTSTART:20231105T090000
END:STANDARD
BEGIN:DAYLIGHT
TZOFFSETFROM:-0800
TZOFFSETTO:-0700
TZNAME:PDT
DTSTART:20240310T100000
END:DAYLIGHT
BEGIN:STANDARD
TZOFFSETFROM:-0700
TZOFFSETTO:-0800
TZNAME:PST
DTSTART:20241103T090000
END:STANDARD
BEGIN:DAYLIGHT
TZOFFSETFROM:-0800
TZOFFSETTO:-0700
TZNAME:PDT
DTSTART:20250309T100000
END:DAYLIGHT
BEGIN:STANDARD
TZOFFSETFROM:-0700
TZOFFSETTO:-0800
TZNAME:PST
DTSTART:20251102T090000
END:STANDARD
END:VTIMEZONE
BEGIN:VEVENT
DTSTART;TZID=America/Los_Angeles:20240508T173000
DTEND;TZID=America/Los_Angeles:20240508T184500
DTSTAMP:20260423T202015
CREATED:20240404T001630Z
LAST-MODIFIED:20240404T001630Z
UID:5303-1715189400-1715193900@www.pachecocommunitycenter.com
SUMMARY:New You Dance Center Dance Class
DESCRIPTION:New You Dance Class
URL:https://www.pachecocommunitycenter.com/events/new-you-dance-center-dance-class-31/
LOCATION:Pacheco Community Center\, 5800 Pacheco Blvd.\, Pacheco\, CA\, 94553\, United States
ORGANIZER;CN="New You Dance Center":MAILTO:newyoudancecenter@gmail.com
END:VEVENT
BEGIN:VEVENT
DTSTART;TZID=America/Los_Angeles:20240508T183000
DTEND;TZID=America/Los_Angeles:20240508T193000
DTSTAMP:20260423T202015
CREATED:20240314T135115Z
LAST-MODIFIED:20240314T135115Z
UID:5236-1715193000-1715196600@www.pachecocommunitycenter.com
SUMMARY:PMAC Meeting
DESCRIPTION:Pacheco Municipal Advisory Council MeetingMeeting is open to the public\, and is held in the conference room at the Pacheco Community Center.\nEntrance to conference room is on the side of the building next to the parking lot.
URL:https://www.pachecocommunitycenter.com/events/pmac-meeting-4/
LOCATION:Pacheco Community Center\, 5800 Pacheco Blvd.\, Pacheco\, CA\, 94553\, United States
END:VEVENT
BEGIN:VEVENT
DTSTART;TZID=America/Los_Angeles:20240508T190000
DTEND;TZID=America/Los_Angeles:20240508T213000
DTSTAMP:20260423T202015
CREATED:20240404T002151Z
LAST-MODIFIED:20240404T002151Z
UID:5317-1715194800-1715203800@www.pachecocommunitycenter.com
SUMMARY:Martinez Swingers Square Dance
DESCRIPTION:Plus Program Workshop
URL:https://www.pachecocommunitycenter.com/events/martinez-swingers-square-dance-26/
LOCATION:Pacheco Community Center\, 5800 Pacheco Blvd.\, Pacheco\, CA\, 94553\, United States
END:VEVENT
END:VCALENDAR