BEGIN:VCALENDAR
VERSION:2.0
PRODID:-//Pacheco Community Center - ECPv6.15.15//NONSGML v1.0//EN
CALSCALE:GREGORIAN
METHOD:PUBLISH
X-WR-CALNAME:Pacheco Community Center
X-ORIGINAL-URL:https://www.pachecocommunitycenter.com
X-WR-CALDESC:Events for Pacheco Community Center
REFRESH-INTERVAL;VALUE=DURATION:PT1H
X-Robots-Tag:noindex
X-PUBLISHED-TTL:PT1H
BEGIN:VTIMEZONE
TZID:America/Los_Angeles
BEGIN:DAYLIGHT
TZOFFSETFROM:-0800
TZOFFSETTO:-0700
TZNAME:PDT
DTSTART:20240310T100000
END:DAYLIGHT
BEGIN:STANDARD
TZOFFSETFROM:-0700
TZOFFSETTO:-0800
TZNAME:PST
DTSTART:20241103T090000
END:STANDARD
BEGIN:DAYLIGHT
TZOFFSETFROM:-0800
TZOFFSETTO:-0700
TZNAME:PDT
DTSTART:20250309T100000
END:DAYLIGHT
BEGIN:STANDARD
TZOFFSETFROM:-0700
TZOFFSETTO:-0800
TZNAME:PST
DTSTART:20251102T090000
END:STANDARD
BEGIN:DAYLIGHT
TZOFFSETFROM:-0800
TZOFFSETTO:-0700
TZNAME:PDT
DTSTART:20260308T100000
END:DAYLIGHT
BEGIN:STANDARD
TZOFFSETFROM:-0700
TZOFFSETTO:-0800
TZNAME:PST
DTSTART:20261101T090000
END:STANDARD
END:VTIMEZONE
BEGIN:VEVENT
DTSTART;TZID=America/Los_Angeles:20250409T190000
DTEND;TZID=America/Los_Angeles:20250409T213000
DTSTAMP:20260421T082359
CREATED:20250116T215733Z
LAST-MODIFIED:20250116T215733Z
UID:5747-1744225200-1744234200@www.pachecocommunitycenter.com
SUMMARY:Martinez Swingers Square Dance
DESCRIPTION:SSD and Plus Workshop
URL:https://www.pachecocommunitycenter.com/events/martinez-swingers-square-dance-101/
LOCATION:Pacheco Community Center\, 5800 Pacheco Blvd.\, Pacheco\, CA\, 94553\, United States
END:VEVENT
BEGIN:VEVENT
DTSTART;TZID=America/Los_Angeles:20250409T183000
DTEND;TZID=America/Los_Angeles:20250409T193000
DTSTAMP:20260421T082359
CREATED:20250117T001027Z
LAST-MODIFIED:20250117T001027Z
UID:5830-1744223400-1744227000@www.pachecocommunitycenter.com
SUMMARY:PMAC Meeting
DESCRIPTION:Pacheco Municipal Advisory Council Meeting
URL:https://www.pachecocommunitycenter.com/events/pmac-meeting-13/
LOCATION:Pacheco Community Center\, 5800 Pacheco Blvd.\, Pacheco\, CA\, 94553\, United States
END:VEVENT
BEGIN:VEVENT
DTSTART;TZID=America/Los_Angeles:20250409T180000
DTEND;TZID=America/Los_Angeles:20250409T184500
DTSTAMP:20260421T082359
CREATED:20250214T201856Z
LAST-MODIFIED:20250214T201856Z
UID:5874-1744221600-1744224300@www.pachecocommunitycenter.com
SUMMARY:New You Dance Center Dance Class
DESCRIPTION:New You Dance Class
URL:https://www.pachecocommunitycenter.com/events/new-you-dance-center-dance-class-61/
LOCATION:Pacheco Community Center\, 5800 Pacheco Blvd.\, Pacheco\, CA\, 94553\, United States
ORGANIZER;CN="New You Dance Center":MAILTO:newyoudancecenter@gmail.com
END:VEVENT
BEGIN:VEVENT
DTSTART;TZID=America/Los_Angeles:20250408T190000
DTEND;TZID=America/Los_Angeles:20250408T213000
DTSTAMP:20260421T082359
CREATED:20250116T233924Z
LAST-MODIFIED:20250116T233924Z
UID:5787-1744138800-1744147800@www.pachecocommunitycenter.com
SUMMARY:Martinez Swingers Square Dance
DESCRIPTION:Advanced Workshop
URL:https://www.pachecocommunitycenter.com/events/martinez-swingers-square-dance-139/
LOCATION:Pacheco Community Center\, 5800 Pacheco Blvd.\, Pacheco\, CA\, 94553\, United States
END:VEVENT
BEGIN:VEVENT
DTSTART;TZID=America/Los_Angeles:20250408T090000
DTEND;TZID=America/Los_Angeles:20250408T150000
DTSTAMP:20260421T082359
CREATED:20250116T234856Z
LAST-MODIFIED:20250116T234856Z
UID:5823-1744102800-1744124400@www.pachecocommunitycenter.com
SUMMARY:AARP Tax-Aide
DESCRIPTION:AARP Tax-Aide by appointment only
URL:https://www.pachecocommunitycenter.com/events/aarp-tax-aide-12/
LOCATION:Pacheco Community Center\, 5800 Pacheco Blvd.\, Pacheco\, CA\, 94553\, United States
END:VEVENT
BEGIN:VEVENT
DTSTART;TZID=America/Los_Angeles:20250403T100000
DTEND;TZID=America/Los_Angeles:20250403T130000
DTSTAMP:20260421T082359
CREATED:20250214T202214Z
LAST-MODIFIED:20250214T202214Z
UID:5894-1743674400-1743685200@www.pachecocommunitycenter.com
SUMMARY:Retiree Support Group Meeting
DESCRIPTION:Retiree Support Group Meeting
URL:https://www.pachecocommunitycenter.com/events/retiree-support-group-meeting-11/
LOCATION:Pacheco Community Center\, 5800 Pacheco Blvd.\, Pacheco\, CA\, 94553\, United States
END:VEVENT
BEGIN:VEVENT
DTSTART;TZID=America/Los_Angeles:20250402T190000
DTEND;TZID=America/Los_Angeles:20250402T213000
DTSTAMP:20260421T082359
CREATED:20250116T215733Z
LAST-MODIFIED:20250116T215733Z
UID:5746-1743620400-1743629400@www.pachecocommunitycenter.com
SUMMARY:Martinez Swingers Square Dance
DESCRIPTION:SSD and Plus Workshop
URL:https://www.pachecocommunitycenter.com/events/martinez-swingers-square-dance-100/
LOCATION:Pacheco Community Center\, 5800 Pacheco Blvd.\, Pacheco\, CA\, 94553\, United States
END:VEVENT
BEGIN:VEVENT
DTSTART;TZID=America/Los_Angeles:20250402T180000
DTEND;TZID=America/Los_Angeles:20250402T184500
DTSTAMP:20260421T082359
CREATED:20250214T201856Z
LAST-MODIFIED:20250214T201856Z
UID:5873-1743616800-1743619500@www.pachecocommunitycenter.com
SUMMARY:New You Dance Center Dance Class
DESCRIPTION:New You Dance Class
URL:https://www.pachecocommunitycenter.com/events/new-you-dance-center-dance-class-60/
LOCATION:Pacheco Community Center\, 5800 Pacheco Blvd.\, Pacheco\, CA\, 94553\, United States
ORGANIZER;CN="New You Dance Center":MAILTO:newyoudancecenter@gmail.com
END:VEVENT
BEGIN:VEVENT
DTSTART;TZID=America/Los_Angeles:20250402T070000
DTEND;TZID=America/Los_Angeles:20250402T163000
DTSTAMP:20260421T082359
CREATED:20250214T212726Z
LAST-MODIFIED:20250214T212729Z
UID:5931-1743577200-1743611400@www.pachecocommunitycenter.com
SUMMARY:Contra Costa Housing Authority Homeowner's Workshop
DESCRIPTION:
URL:https://www.pachecocommunitycenter.com/events/contra-costa-housing-authority-homeowners-workshop-3/
END:VEVENT
BEGIN:VEVENT
DTSTART;TZID=America/Los_Angeles:20250401T190000
DTEND;TZID=America/Los_Angeles:20250401T213000
DTSTAMP:20260421T082359
CREATED:20250116T233923Z
LAST-MODIFIED:20250116T233923Z
UID:5786-1743534000-1743543000@www.pachecocommunitycenter.com
SUMMARY:Martinez Swingers Square Dance
DESCRIPTION:Advanced Workshop
URL:https://www.pachecocommunitycenter.com/events/martinez-swingers-square-dance-138/
LOCATION:Pacheco Community Center\, 5800 Pacheco Blvd.\, Pacheco\, CA\, 94553\, United States
END:VEVENT
BEGIN:VEVENT
DTSTART;TZID=America/Los_Angeles:20250401T090000
DTEND;TZID=America/Los_Angeles:20250401T150000
DTSTAMP:20260421T082359
CREATED:20250116T234856Z
LAST-MODIFIED:20250116T234856Z
UID:5822-1743498000-1743519600@www.pachecocommunitycenter.com
SUMMARY:AARP Tax-Aide
DESCRIPTION:AARP Tax-Aide by appointment only
URL:https://www.pachecocommunitycenter.com/events/aarp-tax-aide-11/
LOCATION:Pacheco Community Center\, 5800 Pacheco Blvd.\, Pacheco\, CA\, 94553\, United States
END:VEVENT
BEGIN:VEVENT
DTSTART;TZID=America/Los_Angeles:20250331T070000
DTEND;TZID=America/Los_Angeles:20250331T140000
DTSTAMP:20260421T082359
CREATED:20250214T212219Z
LAST-MODIFIED:20250214T212229Z
UID:5923-1743404400-1743429600@www.pachecocommunitycenter.com
SUMMARY:Contra Costa Public Defenders Meeting
DESCRIPTION:
URL:https://www.pachecocommunitycenter.com/events/contra-costa-public-defenders-meeting/
END:VEVENT
BEGIN:VEVENT
DTSTART;TZID=America/Los_Angeles:20250329T100000
DTEND;TZID=America/Los_Angeles:20250329T140000
DTSTAMP:20260421T082359
CREATED:20250214T212510Z
LAST-MODIFIED:20250221T214321Z
UID:5926-1743242400-1743256800@www.pachecocommunitycenter.com
SUMMARY:Private Event: Celebration of Life
DESCRIPTION:
URL:https://www.pachecocommunitycenter.com/events/pending-event-celebration-of-life-2/
END:VEVENT
BEGIN:VEVENT
DTSTART;TZID=America/Los_Angeles:20250326T190000
DTEND;TZID=America/Los_Angeles:20250326T213000
DTSTAMP:20260421T082359
CREATED:20250116T215733Z
LAST-MODIFIED:20250116T215733Z
UID:5745-1743015600-1743024600@www.pachecocommunitycenter.com
SUMMARY:Martinez Swingers Square Dance
DESCRIPTION:SSD and Plus Workshop
URL:https://www.pachecocommunitycenter.com/events/martinez-swingers-square-dance-99/
LOCATION:Pacheco Community Center\, 5800 Pacheco Blvd.\, Pacheco\, CA\, 94553\, United States
END:VEVENT
BEGIN:VEVENT
DTSTART;TZID=America/Los_Angeles:20250326T183000
DTEND;TZID=America/Los_Angeles:20250326T183000
DTSTAMP:20260421T082359
CREATED:20250117T001045Z
LAST-MODIFIED:20250117T001045Z
UID:5841-1743013800-1743013800@www.pachecocommunitycenter.com
SUMMARY:PTC Meeting
DESCRIPTION:Pacheco Town Council Meeting
URL:https://www.pachecocommunitycenter.com/events/ptc-meeting-8/
LOCATION:Pacheco Community Center\, 5800 Pacheco Blvd.\, Pacheco\, CA\, 94553\, United States
END:VEVENT
BEGIN:VEVENT
DTSTART;TZID=America/Los_Angeles:20250326T180000
DTEND;TZID=America/Los_Angeles:20250326T184500
DTSTAMP:20260421T082359
CREATED:20250214T201856Z
LAST-MODIFIED:20250214T201856Z
UID:5872-1743012000-1743014700@www.pachecocommunitycenter.com
SUMMARY:New You Dance Center Dance Class
DESCRIPTION:New You Dance Class
URL:https://www.pachecocommunitycenter.com/events/new-you-dance-center-dance-class-59/
LOCATION:Pacheco Community Center\, 5800 Pacheco Blvd.\, Pacheco\, CA\, 94553\, United States
ORGANIZER;CN="New You Dance Center":MAILTO:newyoudancecenter@gmail.com
END:VEVENT
BEGIN:VEVENT
DTSTART;TZID=America/Los_Angeles:20250325T190000
DTEND;TZID=America/Los_Angeles:20250325T213000
DTSTAMP:20260421T082359
CREATED:20250116T233923Z
LAST-MODIFIED:20250116T233923Z
UID:5785-1742929200-1742938200@www.pachecocommunitycenter.com
SUMMARY:Martinez Swingers Square Dance
DESCRIPTION:Advanced Workshop
URL:https://www.pachecocommunitycenter.com/events/martinez-swingers-square-dance-137/
LOCATION:Pacheco Community Center\, 5800 Pacheco Blvd.\, Pacheco\, CA\, 94553\, United States
END:VEVENT
BEGIN:VEVENT
DTSTART;TZID=America/Los_Angeles:20250325T090000
DTEND;TZID=America/Los_Angeles:20250325T150000
DTSTAMP:20260421T082359
CREATED:20250116T234855Z
LAST-MODIFIED:20250116T234855Z
UID:5821-1742893200-1742914800@www.pachecocommunitycenter.com
SUMMARY:AARP Tax-Aide
DESCRIPTION:AARP Tax-Aide by appointment only
URL:https://www.pachecocommunitycenter.com/events/aarp-tax-aide-10/
LOCATION:Pacheco Community Center\, 5800 Pacheco Blvd.\, Pacheco\, CA\, 94553\, United States
END:VEVENT
BEGIN:VEVENT
DTSTART;TZID=America/Los_Angeles:20250322T170000
DTEND;TZID=America/Los_Angeles:20250322T220000
DTSTAMP:20260421T082359
CREATED:20250214T212002Z
LAST-MODIFIED:20250214T212011Z
UID:5922-1742662800-1742680800@www.pachecocommunitycenter.com
SUMMARY:Private Event: Birthday Party
DESCRIPTION:
URL:https://www.pachecocommunitycenter.com/events/private-event-birthday-party-33/
END:VEVENT
BEGIN:VEVENT
DTSTART;TZID=America/Los_Angeles:20250320T120000
DTEND;TZID=America/Los_Angeles:20250320T160000
DTSTAMP:20260421T082359
CREATED:20250214T211804Z
LAST-MODIFIED:20250214T211809Z
UID:5919-1742472000-1742486400@www.pachecocommunitycenter.com
SUMMARY:Contra Costa Housing Authority Homeowner's Workshop
DESCRIPTION:
URL:https://www.pachecocommunitycenter.com/events/contra-costa-housing-authority-homeowners-workshop-2/
END:VEVENT
BEGIN:VEVENT
DTSTART;TZID=America/Los_Angeles:20250319T190000
DTEND;TZID=America/Los_Angeles:20250319T213000
DTSTAMP:20260421T082359
CREATED:20250116T215732Z
LAST-MODIFIED:20250116T215732Z
UID:5744-1742410800-1742419800@www.pachecocommunitycenter.com
SUMMARY:Martinez Swingers Square Dance
DESCRIPTION:SSD and Plus Workshop
URL:https://www.pachecocommunitycenter.com/events/martinez-swingers-square-dance-98/
LOCATION:Pacheco Community Center\, 5800 Pacheco Blvd.\, Pacheco\, CA\, 94553\, United States
END:VEVENT
BEGIN:VEVENT
DTSTART;TZID=America/Los_Angeles:20250319T180000
DTEND;TZID=America/Los_Angeles:20250319T184500
DTSTAMP:20260421T082359
CREATED:20250214T201855Z
LAST-MODIFIED:20250214T201855Z
UID:5871-1742407200-1742409900@www.pachecocommunitycenter.com
SUMMARY:New You Dance Center Dance Class
DESCRIPTION:New You Dance Class
URL:https://www.pachecocommunitycenter.com/events/new-you-dance-center-dance-class-58/
LOCATION:Pacheco Community Center\, 5800 Pacheco Blvd.\, Pacheco\, CA\, 94553\, United States
ORGANIZER;CN="New You Dance Center":MAILTO:newyoudancecenter@gmail.com
END:VEVENT
BEGIN:VEVENT
DTSTART;TZID=America/Los_Angeles:20250318T190000
DTEND;TZID=America/Los_Angeles:20250318T213000
DTSTAMP:20260421T082359
CREATED:20250116T233923Z
LAST-MODIFIED:20250116T233923Z
UID:5784-1742324400-1742333400@www.pachecocommunitycenter.com
SUMMARY:Martinez Swingers Square Dance
DESCRIPTION:Advanced Workshop
URL:https://www.pachecocommunitycenter.com/events/martinez-swingers-square-dance-136/
LOCATION:Pacheco Community Center\, 5800 Pacheco Blvd.\, Pacheco\, CA\, 94553\, United States
END:VEVENT
BEGIN:VEVENT
DTSTART;TZID=America/Los_Angeles:20250318T090000
DTEND;TZID=America/Los_Angeles:20250318T150000
DTSTAMP:20260421T082359
CREATED:20250116T234855Z
LAST-MODIFIED:20250116T234855Z
UID:5820-1742288400-1742310000@www.pachecocommunitycenter.com
SUMMARY:AARP Tax-Aide
DESCRIPTION:AARP Tax-Aide by appointment only
URL:https://www.pachecocommunitycenter.com/events/aarp-tax-aide-9/
LOCATION:Pacheco Community Center\, 5800 Pacheco Blvd.\, Pacheco\, CA\, 94553\, United States
END:VEVENT
BEGIN:VEVENT
DTSTART;TZID=America/Los_Angeles:20250314T110000
DTEND;TZID=America/Los_Angeles:20250314T150000
DTSTAMP:20260421T082359
CREATED:20250214T211232Z
LAST-MODIFIED:20250214T211234Z
UID:5915-1741950000-1741964400@www.pachecocommunitycenter.com
SUMMARY:Contra Costa Housing Authority Homeowner's Workshop
DESCRIPTION:
URL:https://www.pachecocommunitycenter.com/events/contra-costa-housing-authority-homeowners-workshop/
END:VEVENT
BEGIN:VEVENT
DTSTART;TZID=America/Los_Angeles:20250312T190000
DTEND;TZID=America/Los_Angeles:20250312T213000
DTSTAMP:20260421T082359
CREATED:20250116T215719Z
LAST-MODIFIED:20250116T215719Z
UID:5743-1741806000-1741815000@www.pachecocommunitycenter.com
SUMMARY:Martinez Swingers Square Dance
DESCRIPTION:SSD and Plus Workshop
URL:https://www.pachecocommunitycenter.com/events/martinez-swingers-square-dance-97/
LOCATION:Pacheco Community Center\, 5800 Pacheco Blvd.\, Pacheco\, CA\, 94553\, United States
END:VEVENT
BEGIN:VEVENT
DTSTART;TZID=America/Los_Angeles:20250312T183000
DTEND;TZID=America/Los_Angeles:20250312T193000
DTSTAMP:20260421T082359
CREATED:20250117T001027Z
LAST-MODIFIED:20250117T001027Z
UID:5829-1741804200-1741807800@www.pachecocommunitycenter.com
SUMMARY:PMAC Meeting
DESCRIPTION:Pacheco Municipal Advisory Council Meeting
URL:https://www.pachecocommunitycenter.com/events/pmac-meeting-12/
LOCATION:Pacheco Community Center\, 5800 Pacheco Blvd.\, Pacheco\, CA\, 94553\, United States
END:VEVENT
BEGIN:VEVENT
DTSTART;TZID=America/Los_Angeles:20250312T180000
DTEND;TZID=America/Los_Angeles:20250312T184500
DTSTAMP:20260421T082359
CREATED:20250214T201851Z
LAST-MODIFIED:20250214T201851Z
UID:5870-1741802400-1741805100@www.pachecocommunitycenter.com
SUMMARY:New You Dance Center Dance Class
DESCRIPTION:New You Dance Class
URL:https://www.pachecocommunitycenter.com/events/new-you-dance-center-dance-class-57/
LOCATION:Pacheco Community Center\, 5800 Pacheco Blvd.\, Pacheco\, CA\, 94553\, United States
ORGANIZER;CN="New You Dance Center":MAILTO:newyoudancecenter@gmail.com
END:VEVENT
BEGIN:VEVENT
DTSTART;TZID=America/Los_Angeles:20250312T080000
DTEND;TZID=America/Los_Angeles:20250312T160000
DTSTAMP:20260421T082359
CREATED:20250214T211124Z
LAST-MODIFIED:20250214T211126Z
UID:5913-1741766400-1741795200@www.pachecocommunitycenter.com
SUMMARY:Vistability Meeting
DESCRIPTION:
URL:https://www.pachecocommunitycenter.com/events/vistability-meeting-2/
END:VEVENT
BEGIN:VEVENT
DTSTART;TZID=America/Los_Angeles:20250311T190000
DTEND;TZID=America/Los_Angeles:20250311T213000
DTSTAMP:20260421T082359
CREATED:20250116T233909Z
LAST-MODIFIED:20250116T233909Z
UID:5783-1741719600-1741728600@www.pachecocommunitycenter.com
SUMMARY:Martinez Swingers Square Dance
DESCRIPTION:Advanced Workshop
URL:https://www.pachecocommunitycenter.com/events/martinez-swingers-square-dance-135/
LOCATION:Pacheco Community Center\, 5800 Pacheco Blvd.\, Pacheco\, CA\, 94553\, United States
END:VEVENT
END:VCALENDAR