BEGIN:VCALENDAR
VERSION:2.0
PRODID:-//Pacheco Community Center - ECPv6.15.15//NONSGML v1.0//EN
CALSCALE:GREGORIAN
METHOD:PUBLISH
X-WR-CALNAME:Pacheco Community Center
X-ORIGINAL-URL:https://www.pachecocommunitycenter.com
X-WR-CALDESC:Events for Pacheco Community Center
REFRESH-INTERVAL;VALUE=DURATION:PT1H
X-Robots-Tag:noindex
X-PUBLISHED-TTL:PT1H
BEGIN:VTIMEZONE
TZID:America/Los_Angeles
BEGIN:DAYLIGHT
TZOFFSETFROM:-0800
TZOFFSETTO:-0700
TZNAME:PDT
DTSTART:20250309T100000
END:DAYLIGHT
BEGIN:STANDARD
TZOFFSETFROM:-0700
TZOFFSETTO:-0800
TZNAME:PST
DTSTART:20251102T090000
END:STANDARD
BEGIN:DAYLIGHT
TZOFFSETFROM:-0800
TZOFFSETTO:-0700
TZNAME:PDT
DTSTART:20260308T100000
END:DAYLIGHT
BEGIN:STANDARD
TZOFFSETFROM:-0700
TZOFFSETTO:-0800
TZNAME:PST
DTSTART:20261101T090000
END:STANDARD
BEGIN:DAYLIGHT
TZOFFSETFROM:-0800
TZOFFSETTO:-0700
TZNAME:PDT
DTSTART:20270314T100000
END:DAYLIGHT
BEGIN:STANDARD
TZOFFSETFROM:-0700
TZOFFSETTO:-0800
TZNAME:PST
DTSTART:20271107T090000
END:STANDARD
END:VTIMEZONE
BEGIN:VEVENT
DTSTART;TZID=America/Los_Angeles:20260425T110000
DTEND;TZID=America/Los_Angeles:20260425T130000
DTSTAMP:20260419T235400
CREATED:20260326T032813Z
LAST-MODIFIED:20260326T032825Z
UID:6823-1777114800-1777122000@www.pachecocommunitycenter.com
SUMMARY:Martinez Swingers Club Meeting
DESCRIPTION:
URL:https://www.pachecocommunitycenter.com/events/martinez-swingers-club-meeting-6/
END:VEVENT
BEGIN:VEVENT
DTSTART;TZID=America/Los_Angeles:20260425T160000
DTEND;TZID=America/Los_Angeles:20260425T200000
DTSTAMP:20260419T235400
CREATED:20260327T204844Z
LAST-MODIFIED:20260406T210104Z
UID:6836-1777132800-1777147200@www.pachecocommunitycenter.com
SUMMARY:Private Event: Birthday Party
DESCRIPTION:
URL:https://www.pachecocommunitycenter.com/events/pending-event-birthday-party-3/
END:VEVENT
BEGIN:VEVENT
DTSTART;TZID=America/Los_Angeles:20260428T190000
DTEND;TZID=America/Los_Angeles:20260428T213000
DTSTAMP:20260419T235400
CREATED:20251108T194942Z
LAST-MODIFIED:20251108T194942Z
UID:6533-1777402800-1777411800@www.pachecocommunitycenter.com
SUMMARY:Martinez Swingers Square Dance
DESCRIPTION:Advanced Workshop
URL:https://www.pachecocommunitycenter.com/events/martinez-swingers-square-dance-213/
LOCATION:Pacheco Community Center\, 5800 Pacheco Blvd.\, Pacheco\, CA\, 94553\, United States
END:VEVENT
BEGIN:VEVENT
DTSTART;TZID=America/Los_Angeles:20260429T190000
DTEND;TZID=America/Los_Angeles:20260429T213000
DTSTAMP:20260419T235400
CREATED:20251108T195207Z
LAST-MODIFIED:20251108T195207Z
UID:6553-1777489200-1777498200@www.pachecocommunitycenter.com
SUMMARY:Martinez Swingers Square Dance
DESCRIPTION:
URL:https://www.pachecocommunitycenter.com/events/martinez-swingers-square-dance-231/
LOCATION:Pacheco Community Center\, 5800 Pacheco Blvd.\, Pacheco\, CA\, 94553\, United States
END:VEVENT
BEGIN:VEVENT
DTSTART;TZID=America/Los_Angeles:20260502T100000
DTEND;TZID=America/Los_Angeles:20260502T230000
DTSTAMP:20260419T235400
CREATED:20260401T201815Z
LAST-MODIFIED:20260401T201823Z
UID:6875-1777716000-1777762800@www.pachecocommunitycenter.com
SUMMARY:Private Event: Quinceañera
DESCRIPTION:
URL:https://www.pachecocommunitycenter.com/events/private-event-quinceanera-10/
END:VEVENT
BEGIN:VEVENT
DTSTART;TZID=America/Los_Angeles:20260505T190000
DTEND;TZID=America/Los_Angeles:20260505T213000
DTSTAMP:20260419T235400
CREATED:20251108T194942Z
LAST-MODIFIED:20251108T194942Z
UID:6534-1778007600-1778016600@www.pachecocommunitycenter.com
SUMMARY:Martinez Swingers Square Dance
DESCRIPTION:Advanced Workshop
URL:https://www.pachecocommunitycenter.com/events/martinez-swingers-square-dance-214/
LOCATION:Pacheco Community Center\, 5800 Pacheco Blvd.\, Pacheco\, CA\, 94553\, United States
END:VEVENT
BEGIN:VEVENT
DTSTART;TZID=America/Los_Angeles:20260506T120000
DTEND;TZID=America/Los_Angeles:20260506T130000
DTSTAMP:20260419T235400
CREATED:20260131T191403Z
LAST-MODIFIED:20260131T191403Z
UID:6719-1778068800-1778072400@www.pachecocommunitycenter.com
SUMMARY:FREE PRODUCE BY FOOD BANK OF CC & SOLANO
DESCRIPTION:IN PARTNERSHIP WITH FOOD BANK OF CONTRA COSTA & SOLANO\, WE WILL PROVIDE FREE PRODUCE TO ONE PERSON PER FAMILY. BRING ONE OR TWO BAGS WITH HANDLES. MUST BE PRESENT TO RECEIVE FOOD
URL:https://www.pachecocommunitycenter.com/events/free-produce-by-food-bank-of-cc-solano-25/
LOCATION:Pacheco Community Center Parking Lot\, 5800 Pacheco Blvd\, Pacheco\, California\, 94553
ORGANIZER;CN="FOOD BANK of CONTRA COSTA and SOLANO":MAILTO:info@foodbankccs.org
END:VEVENT
BEGIN:VEVENT
DTSTART;TZID=America/Los_Angeles:20260506T190000
DTEND;TZID=America/Los_Angeles:20260506T213000
DTSTAMP:20260419T235400
CREATED:20251108T195208Z
LAST-MODIFIED:20251108T195208Z
UID:6554-1778094000-1778103000@www.pachecocommunitycenter.com
SUMMARY:Martinez Swingers Square Dance
DESCRIPTION:
URL:https://www.pachecocommunitycenter.com/events/martinez-swingers-square-dance-232/
LOCATION:Pacheco Community Center\, 5800 Pacheco Blvd.\, Pacheco\, CA\, 94553\, United States
END:VEVENT
BEGIN:VEVENT
DTSTART;TZID=America/Los_Angeles:20260512T190000
DTEND;TZID=America/Los_Angeles:20260512T213000
DTSTAMP:20260419T235400
CREATED:20251108T194942Z
LAST-MODIFIED:20251108T194942Z
UID:6535-1778612400-1778621400@www.pachecocommunitycenter.com
SUMMARY:Martinez Swingers Square Dance
DESCRIPTION:Advanced Workshop
URL:https://www.pachecocommunitycenter.com/events/martinez-swingers-square-dance-215/
LOCATION:Pacheco Community Center\, 5800 Pacheco Blvd.\, Pacheco\, CA\, 94553\, United States
END:VEVENT
BEGIN:VEVENT
DTSTART;TZID=America/Los_Angeles:20260513T183000
DTEND;TZID=America/Los_Angeles:20260513T193000
DTSTAMP:20260419T235400
CREATED:20260107T022021Z
LAST-MODIFIED:20260107T022021Z
UID:6685-1778697000-1778700600@www.pachecocommunitycenter.com
SUMMARY:PMAC Meeting
DESCRIPTION:Pacheco Municipal Advisory Council Meeting
URL:https://www.pachecocommunitycenter.com/events/pmac-meeting-24/
LOCATION:Pacheco Community Center\, 5800 Pacheco Blvd.\, Pacheco\, CA\, 94553\, United States
END:VEVENT
BEGIN:VEVENT
DTSTART;TZID=America/Los_Angeles:20260513T190000
DTEND;TZID=America/Los_Angeles:20260513T213000
DTSTAMP:20260419T235400
CREATED:20251108T195219Z
LAST-MODIFIED:20251108T195219Z
UID:6555-1778698800-1778707800@www.pachecocommunitycenter.com
SUMMARY:Martinez Swingers Square Dance
DESCRIPTION:
URL:https://www.pachecocommunitycenter.com/events/martinez-swingers-square-dance-233/
LOCATION:Pacheco Community Center\, 5800 Pacheco Blvd.\, Pacheco\, CA\, 94553\, United States
END:VEVENT
BEGIN:VEVENT
DTSTART;TZID=America/Los_Angeles:20260516T130000
DTEND;TZID=America/Los_Angeles:20260516T170000
DTSTAMP:20260419T235400
CREATED:20260401T202106Z
LAST-MODIFIED:20260401T202111Z
UID:6877-1778936400-1778950800@www.pachecocommunitycenter.com
SUMMARY:Pending Event: Celebration of Life
DESCRIPTION:
URL:https://www.pachecocommunitycenter.com/events/pending-event-celebration-of-life-3/
END:VEVENT
BEGIN:VEVENT
DTSTART;TZID=America/Los_Angeles:20260519T190000
DTEND;TZID=America/Los_Angeles:20260519T213000
DTSTAMP:20260419T235400
CREATED:20251108T194943Z
LAST-MODIFIED:20251108T194943Z
UID:6536-1779217200-1779226200@www.pachecocommunitycenter.com
SUMMARY:Martinez Swingers Square Dance
DESCRIPTION:Advanced Workshop
URL:https://www.pachecocommunitycenter.com/events/martinez-swingers-square-dance-216/
LOCATION:Pacheco Community Center\, 5800 Pacheco Blvd.\, Pacheco\, CA\, 94553\, United States
END:VEVENT
BEGIN:VEVENT
DTSTART;TZID=America/Los_Angeles:20260520T120000
DTEND;TZID=America/Los_Angeles:20260520T130000
DTSTAMP:20260419T235400
CREATED:20260131T191404Z
LAST-MODIFIED:20260131T191404Z
UID:6720-1779278400-1779282000@www.pachecocommunitycenter.com
SUMMARY:FREE PRODUCE BY FOOD BANK OF CC & SOLANO
DESCRIPTION:IN PARTNERSHIP WITH FOOD BANK OF CONTRA COSTA & SOLANO\, WE WILL PROVIDE FREE PRODUCE TO ONE PERSON PER FAMILY. BRING ONE OR TWO BAGS WITH HANDLES. MUST BE PRESENT TO RECEIVE FOOD
URL:https://www.pachecocommunitycenter.com/events/free-produce-by-food-bank-of-cc-solano-26/
LOCATION:Pacheco Community Center Parking Lot\, 5800 Pacheco Blvd\, Pacheco\, California\, 94553
ORGANIZER;CN="FOOD BANK of CONTRA COSTA and SOLANO":MAILTO:info@foodbankccs.org
END:VEVENT
BEGIN:VEVENT
DTSTART;TZID=America/Los_Angeles:20260520T190000
DTEND;TZID=America/Los_Angeles:20260520T213000
DTSTAMP:20260419T235400
CREATED:20251108T195220Z
LAST-MODIFIED:20251108T195220Z
UID:6556-1779303600-1779312600@www.pachecocommunitycenter.com
SUMMARY:Martinez Swingers Square Dance
DESCRIPTION:
URL:https://www.pachecocommunitycenter.com/events/martinez-swingers-square-dance-234/
LOCATION:Pacheco Community Center\, 5800 Pacheco Blvd.\, Pacheco\, CA\, 94553\, United States
END:VEVENT
BEGIN:VEVENT
DTSTART;TZID=America/Los_Angeles:20260522T090000
DTEND;TZID=America/Los_Angeles:20260522T160000
DTSTAMP:20260419T235400
CREATED:20260401T202809Z
LAST-MODIFIED:20260401T202815Z
UID:6879-1779440400-1779465600@www.pachecocommunitycenter.com
SUMMARY:CCC Elections Training
DESCRIPTION:
URL:https://www.pachecocommunitycenter.com/events/ccc-elections-training/
END:VEVENT
BEGIN:VEVENT
DTSTART;TZID=America/Los_Angeles:20260526T190000
DTEND;TZID=America/Los_Angeles:20260526T213000
DTSTAMP:20260419T235400
CREATED:20251108T195107Z
LAST-MODIFIED:20251108T195107Z
UID:6537-1779822000-1779831000@www.pachecocommunitycenter.com
SUMMARY:Martinez Swingers Square Dance
DESCRIPTION:Advanced Workshop
URL:https://www.pachecocommunitycenter.com/events/martinez-swingers-square-dance-217/
LOCATION:Pacheco Community Center\, 5800 Pacheco Blvd.\, Pacheco\, CA\, 94553\, United States
END:VEVENT
BEGIN:VEVENT
DTSTART;TZID=America/Los_Angeles:20260527T183000
DTEND;TZID=America/Los_Angeles:20260527T193000
DTSTAMP:20260419T235400
CREATED:20260107T022021Z
LAST-MODIFIED:20260107T022021Z
UID:6686-1779906600-1779910200@www.pachecocommunitycenter.com
SUMMARY:PTC Meeting
DESCRIPTION:Pacheco Town Council Meeting
URL:https://www.pachecocommunitycenter.com/events/ptc-meeting-20/
LOCATION:Pacheco Community Center\, 5800 Pacheco Blvd.\, Pacheco\, CA\, 94553\, United States
END:VEVENT
BEGIN:VEVENT
DTSTART;TZID=America/Los_Angeles:20260527T190000
DTEND;TZID=America/Los_Angeles:20260527T213000
DTSTAMP:20260419T235400
CREATED:20251108T195221Z
LAST-MODIFIED:20251108T195221Z
UID:6557-1779908400-1779917400@www.pachecocommunitycenter.com
SUMMARY:Martinez Swingers Square Dance
DESCRIPTION:
URL:https://www.pachecocommunitycenter.com/events/martinez-swingers-square-dance-235/
LOCATION:Pacheco Community Center\, 5800 Pacheco Blvd.\, Pacheco\, CA\, 94553\, United States
END:VEVENT
BEGIN:VEVENT
DTSTART;TZID=America/Los_Angeles:20260530T170000
DTEND;TZID=America/Los_Angeles:20260530T220000
DTSTAMP:20260419T235400
CREATED:20260406T215622Z
LAST-MODIFIED:20260406T215629Z
UID:6884-1780160400-1780178400@www.pachecocommunitycenter.com
SUMMARY:Private Event: Reunion
DESCRIPTION:
URL:https://www.pachecocommunitycenter.com/events/private-event-reunion-2/
END:VEVENT
BEGIN:VEVENT
DTSTART;TZID=America/Los_Angeles:20260602T190000
DTEND;TZID=America/Los_Angeles:20260602T213000
DTSTAMP:20260419T235400
CREATED:20251108T195107Z
LAST-MODIFIED:20251108T195107Z
UID:6538-1780426800-1780435800@www.pachecocommunitycenter.com
SUMMARY:Martinez Swingers Square Dance
DESCRIPTION:Advanced Workshop
URL:https://www.pachecocommunitycenter.com/events/martinez-swingers-square-dance-218/
LOCATION:Pacheco Community Center\, 5800 Pacheco Blvd.\, Pacheco\, CA\, 94553\, United States
END:VEVENT
BEGIN:VEVENT
DTSTART;TZID=America/Los_Angeles:20260603T120000
DTEND;TZID=America/Los_Angeles:20260603T130000
DTSTAMP:20260419T235400
CREATED:20260131T191415Z
LAST-MODIFIED:20260131T191415Z
UID:6721-1780488000-1780491600@www.pachecocommunitycenter.com
SUMMARY:FREE PRODUCE BY FOOD BANK OF CC & SOLANO
DESCRIPTION:IN PARTNERSHIP WITH FOOD BANK OF CONTRA COSTA & SOLANO\, WE WILL PROVIDE FREE PRODUCE TO ONE PERSON PER FAMILY. BRING ONE OR TWO BAGS WITH HANDLES. MUST BE PRESENT TO RECEIVE FOOD
URL:https://www.pachecocommunitycenter.com/events/free-produce-by-food-bank-of-cc-solano-27/
LOCATION:Pacheco Community Center Parking Lot\, 5800 Pacheco Blvd\, Pacheco\, California\, 94553
ORGANIZER;CN="FOOD BANK of CONTRA COSTA and SOLANO":MAILTO:info@foodbankccs.org
END:VEVENT
BEGIN:VEVENT
DTSTART;TZID=America/Los_Angeles:20260603T190000
DTEND;TZID=America/Los_Angeles:20260603T213000
DTSTAMP:20260419T235400
CREATED:20251108T195221Z
LAST-MODIFIED:20251108T195221Z
UID:6558-1780513200-1780522200@www.pachecocommunitycenter.com
SUMMARY:Martinez Swingers Square Dance
DESCRIPTION:
URL:https://www.pachecocommunitycenter.com/events/martinez-swingers-square-dance-236/
LOCATION:Pacheco Community Center\, 5800 Pacheco Blvd.\, Pacheco\, CA\, 94553\, United States
END:VEVENT
BEGIN:VEVENT
DTSTART;TZID=America/Los_Angeles:20260609T190000
DTEND;TZID=America/Los_Angeles:20260609T213000
DTSTAMP:20260419T235400
CREATED:20251108T195108Z
LAST-MODIFIED:20251108T195108Z
UID:6539-1781031600-1781040600@www.pachecocommunitycenter.com
SUMMARY:Martinez Swingers Square Dance
DESCRIPTION:Advanced Workshop
URL:https://www.pachecocommunitycenter.com/events/martinez-swingers-square-dance-219/
LOCATION:Pacheco Community Center\, 5800 Pacheco Blvd.\, Pacheco\, CA\, 94553\, United States
END:VEVENT
BEGIN:VEVENT
DTSTART;TZID=America/Los_Angeles:20260610T183000
DTEND;TZID=America/Los_Angeles:20260610T193000
DTSTAMP:20260419T235400
CREATED:20260107T022031Z
LAST-MODIFIED:20260107T022031Z
UID:6687-1781116200-1781119800@www.pachecocommunitycenter.com
SUMMARY:PMAC Meeting
DESCRIPTION:Pacheco Municipal Advisory Council Meeting
URL:https://www.pachecocommunitycenter.com/events/pmac-meeting-25/
LOCATION:Pacheco Community Center\, 5800 Pacheco Blvd.\, Pacheco\, CA\, 94553\, United States
END:VEVENT
BEGIN:VEVENT
DTSTART;TZID=America/Los_Angeles:20260610T190000
DTEND;TZID=America/Los_Angeles:20260610T213000
DTSTAMP:20260419T235400
CREATED:20251108T195222Z
LAST-MODIFIED:20251108T195222Z
UID:6559-1781118000-1781127000@www.pachecocommunitycenter.com
SUMMARY:Martinez Swingers Square Dance
DESCRIPTION:
URL:https://www.pachecocommunitycenter.com/events/martinez-swingers-square-dance-237/
LOCATION:Pacheco Community Center\, 5800 Pacheco Blvd.\, Pacheco\, CA\, 94553\, United States
END:VEVENT
BEGIN:VEVENT
DTSTART;TZID=America/Los_Angeles:20260616T190000
DTEND;TZID=America/Los_Angeles:20260616T213000
DTSTAMP:20260419T235400
CREATED:20251108T195108Z
LAST-MODIFIED:20251108T195108Z
UID:6540-1781636400-1781645400@www.pachecocommunitycenter.com
SUMMARY:Martinez Swingers Square Dance
DESCRIPTION:Advanced Workshop
URL:https://www.pachecocommunitycenter.com/events/martinez-swingers-square-dance-220/
LOCATION:Pacheco Community Center\, 5800 Pacheco Blvd.\, Pacheco\, CA\, 94553\, United States
END:VEVENT
BEGIN:VEVENT
DTSTART;TZID=America/Los_Angeles:20260617T120000
DTEND;TZID=America/Los_Angeles:20260617T130000
DTSTAMP:20260419T235400
CREATED:20260131T191416Z
LAST-MODIFIED:20260131T191416Z
UID:6722-1781697600-1781701200@www.pachecocommunitycenter.com
SUMMARY:FREE PRODUCE BY FOOD BANK OF CC & SOLANO
DESCRIPTION:IN PARTNERSHIP WITH FOOD BANK OF CONTRA COSTA & SOLANO\, WE WILL PROVIDE FREE PRODUCE TO ONE PERSON PER FAMILY. BRING ONE OR TWO BAGS WITH HANDLES. MUST BE PRESENT TO RECEIVE FOOD
URL:https://www.pachecocommunitycenter.com/events/free-produce-by-food-bank-of-cc-solano-28/
LOCATION:Pacheco Community Center Parking Lot\, 5800 Pacheco Blvd\, Pacheco\, California\, 94553
ORGANIZER;CN="FOOD BANK of CONTRA COSTA and SOLANO":MAILTO:info@foodbankccs.org
END:VEVENT
BEGIN:VEVENT
DTSTART;TZID=America/Los_Angeles:20260617T190000
DTEND;TZID=America/Los_Angeles:20260617T213000
DTSTAMP:20260419T235400
CREATED:20251108T195250Z
LAST-MODIFIED:20251108T195250Z
UID:6560-1781722800-1781731800@www.pachecocommunitycenter.com
SUMMARY:Martinez Swingers Square Dance
DESCRIPTION:
URL:https://www.pachecocommunitycenter.com/events/martinez-swingers-square-dance-238/
LOCATION:Pacheco Community Center\, 5800 Pacheco Blvd.\, Pacheco\, CA\, 94553\, United States
END:VEVENT
BEGIN:VEVENT
DTSTART;TZID=America/Los_Angeles:20260617T190000
DTEND;TZID=America/Los_Angeles:20260617T213000
DTSTAMP:20260419T235400
CREATED:20251108T195257Z
LAST-MODIFIED:20251108T195257Z
UID:6565-1781722800-1781731800@www.pachecocommunitycenter.com
SUMMARY:Martinez Swingers Square Dance
DESCRIPTION:
URL:https://www.pachecocommunitycenter.com/events/martinez-swingers-square-dance-243/
LOCATION:Pacheco Community Center\, 5800 Pacheco Blvd.\, Pacheco\, CA\, 94553\, United States
END:VEVENT
END:VCALENDAR