BEGIN:VCALENDAR
VERSION:2.0
PRODID:-//Pacheco Community Center - ECPv6.15.15//NONSGML v1.0//EN
CALSCALE:GREGORIAN
METHOD:PUBLISH
X-ORIGINAL-URL:https://www.pachecocommunitycenter.com
X-WR-CALDESC:Events for Pacheco Community Center
REFRESH-INTERVAL;VALUE=DURATION:PT1H
X-Robots-Tag:noindex
X-PUBLISHED-TTL:PT1H
BEGIN:VTIMEZONE
TZID:America/Los_Angeles
BEGIN:DAYLIGHT
TZOFFSETFROM:-0800
TZOFFSETTO:-0700
TZNAME:PDT
DTSTART:20240310T100000
END:DAYLIGHT
BEGIN:STANDARD
TZOFFSETFROM:-0700
TZOFFSETTO:-0800
TZNAME:PST
DTSTART:20241103T090000
END:STANDARD
BEGIN:DAYLIGHT
TZOFFSETFROM:-0800
TZOFFSETTO:-0700
TZNAME:PDT
DTSTART:20250309T100000
END:DAYLIGHT
BEGIN:STANDARD
TZOFFSETFROM:-0700
TZOFFSETTO:-0800
TZNAME:PST
DTSTART:20251102T090000
END:STANDARD
BEGIN:DAYLIGHT
TZOFFSETFROM:-0800
TZOFFSETTO:-0700
TZNAME:PDT
DTSTART:20260308T100000
END:DAYLIGHT
BEGIN:STANDARD
TZOFFSETFROM:-0700
TZOFFSETTO:-0800
TZNAME:PST
DTSTART:20261101T090000
END:STANDARD
END:VTIMEZONE
BEGIN:VEVENT
DTSTART;TZID=America/Los_Angeles:20250605T100000
DTEND;TZID=America/Los_Angeles:20250605T130000
DTSTAMP:20260419T084942
CREATED:20250214T202215Z
LAST-MODIFIED:20250214T202215Z
UID:5895-1749117600-1749128400@www.pachecocommunitycenter.com
SUMMARY:Retiree Support Group Meeting
DESCRIPTION:Retiree Support Group Meeting
URL:https://www.pachecocommunitycenter.com/events/retiree-support-group-meeting-12/
LOCATION:Pacheco Community Center\, 5800 Pacheco Blvd.\, Pacheco\, CA\, 94553\, United States
END:VEVENT
BEGIN:VEVENT
DTSTART;TZID=America/Los_Angeles:20250606T090000
DTEND;TZID=America/Los_Angeles:20250606T130000
DTSTAMP:20260419T084942
CREATED:20250509T204221Z
LAST-MODIFIED:20250509T204221Z
UID:6136-1749200400-1749214800@www.pachecocommunitycenter.com
SUMMARY:Concord Day Adult Program
DESCRIPTION:Concord Day Adult Program
URL:https://www.pachecocommunitycenter.com/events/concord-day-adult-program-3/
LOCATION:Pacheco Community Center\, 5800 Pacheco Blvd.\, Pacheco\, CA\, 94553\, United States
END:VEVENT
BEGIN:VEVENT
DTSTART;TZID=America/Los_Angeles:20250606T100000
DTEND;TZID=America/Los_Angeles:20250606T150000
DTSTAMP:20260419T084942
CREATED:20250509T193455Z
LAST-MODIFIED:20250509T193457Z
UID:6102-1749204000-1749222000@www.pachecocommunitycenter.com
SUMMARY:PCC Office Closed
DESCRIPTION:
URL:https://www.pachecocommunitycenter.com/events/pcc-office-closed-8/
END:VEVENT
BEGIN:VEVENT
DTSTART;TZID=America/Los_Angeles:20250608T110000
DTEND;TZID=America/Los_Angeles:20250608T160000
DTSTAMP:20260419T084942
CREATED:20250224T190609Z
LAST-MODIFIED:20250224T190610Z
UID:5953-1749380400-1749398400@www.pachecocommunitycenter.com
SUMMARY:Tech Trek Ice Cream Social
DESCRIPTION:
URL:https://www.pachecocommunitycenter.com/events/tech-trek-ice-cream-social-2/
END:VEVENT
BEGIN:VEVENT
DTSTART;TZID=America/Los_Angeles:20250609T090000
DTEND;TZID=America/Los_Angeles:20250609T130000
DTSTAMP:20260419T084942
CREATED:20250509T204221Z
LAST-MODIFIED:20250509T204221Z
UID:6137-1749459600-1749474000@www.pachecocommunitycenter.com
SUMMARY:Concord Day Adult Program
DESCRIPTION:Concord Day Adult Program
URL:https://www.pachecocommunitycenter.com/events/concord-day-adult-program-4/
LOCATION:Pacheco Community Center\, 5800 Pacheco Blvd.\, Pacheco\, CA\, 94553\, United States
END:VEVENT
BEGIN:VEVENT
DTSTART;TZID=America/Los_Angeles:20250609T100000
DTEND;TZID=America/Los_Angeles:20250609T150000
DTSTAMP:20260419T084942
CREATED:20250509T193557Z
LAST-MODIFIED:20250509T193559Z
UID:6103-1749463200-1749481200@www.pachecocommunitycenter.com
SUMMARY:PCC Office Closed
DESCRIPTION:
URL:https://www.pachecocommunitycenter.com/events/pcc-office-closed-9/
END:VEVENT
BEGIN:VEVENT
DTSTART;TZID=America/Los_Angeles:20250610T190000
DTEND;TZID=America/Los_Angeles:20250610T213000
DTSTAMP:20260419T084942
CREATED:20250116T234139Z
LAST-MODIFIED:20250116T234139Z
UID:5796-1749582000-1749591000@www.pachecocommunitycenter.com
SUMMARY:Martinez Swingers Square Dance
DESCRIPTION:Advanced Workshop
URL:https://www.pachecocommunitycenter.com/events/martinez-swingers-square-dance-148/
LOCATION:Pacheco Community Center\, 5800 Pacheco Blvd.\, Pacheco\, CA\, 94553\, United States
END:VEVENT
BEGIN:VEVENT
DTSTART;TZID=America/Los_Angeles:20250611T090000
DTEND;TZID=America/Los_Angeles:20250611T130000
DTSTAMP:20260419T084942
CREATED:20250509T204221Z
LAST-MODIFIED:20250509T204221Z
UID:6138-1749632400-1749646800@www.pachecocommunitycenter.com
SUMMARY:Concord Day Adult Program
DESCRIPTION:Concord Day Adult Program
URL:https://www.pachecocommunitycenter.com/events/concord-day-adult-program-5/
LOCATION:Pacheco Community Center\, 5800 Pacheco Blvd.\, Pacheco\, CA\, 94553\, United States
END:VEVENT
BEGIN:VEVENT
DTSTART;TZID=America/Los_Angeles:20250611T180000
DTEND;TZID=America/Los_Angeles:20250611T180000
DTSTAMP:20260419T084942
CREATED:20250214T201947Z
LAST-MODIFIED:20250214T201947Z
UID:5883-1749664800-1749664800@www.pachecocommunitycenter.com
SUMMARY:New You Dance Center Dance Class
DESCRIPTION:New You Dance Class
URL:https://www.pachecocommunitycenter.com/events/new-you-dance-center-dance-class-70/
LOCATION:Pacheco Community Center\, 5800 Pacheco Blvd.\, Pacheco\, CA\, 94553\, United States
ORGANIZER;CN="New You Dance Center":MAILTO:newyoudancecenter@gmail.com
END:VEVENT
BEGIN:VEVENT
DTSTART;TZID=America/Los_Angeles:20250611T183000
DTEND;TZID=America/Los_Angeles:20250611T193000
DTSTAMP:20260419T084942
CREATED:20250117T001029Z
LAST-MODIFIED:20250117T001029Z
UID:5832-1749666600-1749670200@www.pachecocommunitycenter.com
SUMMARY:PMAC Meeting
DESCRIPTION:Pacheco Municipal Advisory Council Meeting
URL:https://www.pachecocommunitycenter.com/events/pmac-meeting-15/
LOCATION:Pacheco Community Center\, 5800 Pacheco Blvd.\, Pacheco\, CA\, 94553\, United States
END:VEVENT
BEGIN:VEVENT
DTSTART;TZID=America/Los_Angeles:20250611T190000
DTEND;TZID=America/Los_Angeles:20250611T213000
DTSTAMP:20260419T084942
CREATED:20250116T215948Z
LAST-MODIFIED:20250116T215948Z
UID:5756-1749668400-1749677400@www.pachecocommunitycenter.com
SUMMARY:Martinez Swingers Square Dance
DESCRIPTION:SSD and Plus Workshop
URL:https://www.pachecocommunitycenter.com/events/martinez-swingers-square-dance-110/
LOCATION:Pacheco Community Center\, 5800 Pacheco Blvd.\, Pacheco\, CA\, 94553\, United States
END:VEVENT
BEGIN:VEVENT
DTSTART;TZID=America/Los_Angeles:20250613T090000
DTEND;TZID=America/Los_Angeles:20250613T130000
DTSTAMP:20260419T084942
CREATED:20250509T204223Z
LAST-MODIFIED:20250509T204223Z
UID:6139-1749805200-1749819600@www.pachecocommunitycenter.com
SUMMARY:Concord Day Adult Program
DESCRIPTION:Concord Day Adult Program
URL:https://www.pachecocommunitycenter.com/events/concord-day-adult-program-6/
LOCATION:Pacheco Community Center\, 5800 Pacheco Blvd.\, Pacheco\, CA\, 94553\, United States
END:VEVENT
BEGIN:VEVENT
DTSTART;TZID=America/Los_Angeles:20250616T090000
DTEND;TZID=America/Los_Angeles:20250616T130000
DTSTAMP:20260419T084942
CREATED:20250509T204223Z
LAST-MODIFIED:20250509T204223Z
UID:6140-1750064400-1750078800@www.pachecocommunitycenter.com
SUMMARY:Concord Day Adult Program
DESCRIPTION:Concord Day Adult Program
URL:https://www.pachecocommunitycenter.com/events/concord-day-adult-program-7/
LOCATION:Pacheco Community Center\, 5800 Pacheco Blvd.\, Pacheco\, CA\, 94553\, United States
END:VEVENT
BEGIN:VEVENT
DTSTART;TZID=America/Los_Angeles:20250617T190000
DTEND;TZID=America/Los_Angeles:20250617T213000
DTSTAMP:20260419T084942
CREATED:20250116T234140Z
LAST-MODIFIED:20250116T234140Z
UID:5797-1750186800-1750195800@www.pachecocommunitycenter.com
SUMMARY:Martinez Swingers Square Dance
DESCRIPTION:Advanced Workshop
URL:https://www.pachecocommunitycenter.com/events/martinez-swingers-square-dance-149/
LOCATION:Pacheco Community Center\, 5800 Pacheco Blvd.\, Pacheco\, CA\, 94553\, United States
END:VEVENT
BEGIN:VEVENT
DTSTART;TZID=America/Los_Angeles:20250618T090000
DTEND;TZID=America/Los_Angeles:20250618T130000
DTSTAMP:20260419T084942
CREATED:20250509T204223Z
LAST-MODIFIED:20250509T204223Z
UID:6141-1750237200-1750251600@www.pachecocommunitycenter.com
SUMMARY:Concord Day Adult Program
DESCRIPTION:Concord Day Adult Program
URL:https://www.pachecocommunitycenter.com/events/concord-day-adult-program-8/
LOCATION:Pacheco Community Center\, 5800 Pacheco Blvd.\, Pacheco\, CA\, 94553\, United States
END:VEVENT
BEGIN:VEVENT
DTSTART;TZID=America/Los_Angeles:20250618T120000
DTEND;TZID=America/Los_Angeles:20250618T130000
DTSTAMP:20260419T084942
CREATED:20250426T235408Z
LAST-MODIFIED:20250426T235408Z
UID:6034-1750248000-1750251600@www.pachecocommunitycenter.com
SUMMARY:FREE PRODUCE BY FOOD BANK OF CC & SOLANO
DESCRIPTION:IN PARTNERSHIP WITH FOOD BANK OF CONTRA COSTA & SOLANO\, WE WILL PROVIDE FREE PRODUCE TO ONE PERSON PER FAMILY. BRING ONE OR TWO BAGS WITH HANDLES. MUST BE PRESENT TO RECEIVE FOOD
URL:https://www.pachecocommunitycenter.com/events/free-produce-by-food-bank-of-cc-solano-4/
LOCATION:Pacheco Community Center Parking Lot\, 5800 Pacheco Blvd\, Pacheco\, California\, 94553
ORGANIZER;CN="FOOD BANK of CONTRA COSTA and SOLANO":MAILTO:info@foodbankccs.org
END:VEVENT
BEGIN:VEVENT
DTSTART;TZID=America/Los_Angeles:20250618T180000
DTEND;TZID=America/Los_Angeles:20250618T180000
DTSTAMP:20260419T084942
CREATED:20250214T201947Z
LAST-MODIFIED:20250214T201947Z
UID:5884-1750269600-1750269600@www.pachecocommunitycenter.com
SUMMARY:New You Dance Center Dance Class
DESCRIPTION:New You Dance Class
URL:https://www.pachecocommunitycenter.com/events/new-you-dance-center-dance-class-71/
LOCATION:Pacheco Community Center\, 5800 Pacheco Blvd.\, Pacheco\, CA\, 94553\, United States
ORGANIZER;CN="New You Dance Center":MAILTO:newyoudancecenter@gmail.com
END:VEVENT
BEGIN:VEVENT
DTSTART;TZID=America/Los_Angeles:20250618T190000
DTEND;TZID=America/Los_Angeles:20250618T213000
DTSTAMP:20260419T084942
CREATED:20250116T215948Z
LAST-MODIFIED:20250116T215948Z
UID:5757-1750273200-1750282200@www.pachecocommunitycenter.com
SUMMARY:Martinez Swingers Square Dance
DESCRIPTION:SSD and Plus Workshop
URL:https://www.pachecocommunitycenter.com/events/martinez-swingers-square-dance-111/
LOCATION:Pacheco Community Center\, 5800 Pacheco Blvd.\, Pacheco\, CA\, 94553\, United States
END:VEVENT
BEGIN:VEVENT
DTSTART;TZID=America/Los_Angeles:20250620T090000
DTEND;TZID=America/Los_Angeles:20250620T130000
DTSTAMP:20260419T084942
CREATED:20250509T204223Z
LAST-MODIFIED:20250509T204223Z
UID:6142-1750410000-1750424400@www.pachecocommunitycenter.com
SUMMARY:Concord Day Adult Program
DESCRIPTION:Concord Day Adult Program
URL:https://www.pachecocommunitycenter.com/events/concord-day-adult-program-9/
LOCATION:Pacheco Community Center\, 5800 Pacheco Blvd.\, Pacheco\, CA\, 94553\, United States
END:VEVENT
BEGIN:VEVENT
DTSTART;TZID=America/Los_Angeles:20250621T160000
DTEND;TZID=America/Los_Angeles:20250621T230000
DTSTAMP:20260419T084942
CREATED:20250509T193116Z
LAST-MODIFIED:20250509T193127Z
UID:6094-1750521600-1750546800@www.pachecocommunitycenter.com
SUMMARY:Private Event: Graduation Party
DESCRIPTION:
URL:https://www.pachecocommunitycenter.com/events/private-event-graduation-party-2/
END:VEVENT
BEGIN:VEVENT
DTSTART;TZID=America/Los_Angeles:20250623T090000
DTEND;TZID=America/Los_Angeles:20250623T130000
DTSTAMP:20260419T084942
CREATED:20250509T204223Z
LAST-MODIFIED:20250509T204223Z
UID:6143-1750669200-1750683600@www.pachecocommunitycenter.com
SUMMARY:Concord Day Adult Program
DESCRIPTION:Concord Day Adult Program
URL:https://www.pachecocommunitycenter.com/events/concord-day-adult-program-10/
LOCATION:Pacheco Community Center\, 5800 Pacheco Blvd.\, Pacheco\, CA\, 94553\, United States
END:VEVENT
BEGIN:VEVENT
DTSTART;TZID=America/Los_Angeles:20250624T190000
DTEND;TZID=America/Los_Angeles:20250624T213000
DTSTAMP:20260419T084942
CREATED:20250116T234140Z
LAST-MODIFIED:20250116T234140Z
UID:5798-1750791600-1750800600@www.pachecocommunitycenter.com
SUMMARY:Martinez Swingers Square Dance
DESCRIPTION:Advanced Workshop
URL:https://www.pachecocommunitycenter.com/events/martinez-swingers-square-dance-150/
LOCATION:Pacheco Community Center\, 5800 Pacheco Blvd.\, Pacheco\, CA\, 94553\, United States
END:VEVENT
BEGIN:VEVENT
DTSTART;TZID=America/Los_Angeles:20250625T090000
DTEND;TZID=America/Los_Angeles:20250625T130000
DTSTAMP:20260419T084942
CREATED:20250509T204238Z
LAST-MODIFIED:20250509T204238Z
UID:6144-1750842000-1750856400@www.pachecocommunitycenter.com
SUMMARY:Concord Day Adult Program
DESCRIPTION:Concord Day Adult Program
URL:https://www.pachecocommunitycenter.com/events/concord-day-adult-program-11/
LOCATION:Pacheco Community Center\, 5800 Pacheco Blvd.\, Pacheco\, CA\, 94553\, United States
END:VEVENT
BEGIN:VEVENT
DTSTART;TZID=America/Los_Angeles:20250625T180000
DTEND;TZID=America/Los_Angeles:20250625T184500
DTSTAMP:20260419T084942
CREATED:20250214T201948Z
LAST-MODIFIED:20250625T231758Z
UID:5885-1750874400-1750877100@www.pachecocommunitycenter.com
SUMMARY:New You Dance Center Dance Class
DESCRIPTION:New You Dance Class
URL:https://www.pachecocommunitycenter.com/events/new-you-dance-center-dance-class-72/
LOCATION:Pacheco Community Center\, 5800 Pacheco Blvd.\, Pacheco\, CA\, 94553\, United States
ORGANIZER;CN="New You Dance Center":MAILTO:newyoudancecenter@gmail.com
END:VEVENT
BEGIN:VEVENT
DTSTART;TZID=America/Los_Angeles:20250625T183000
DTEND;TZID=America/Los_Angeles:20250625T183000
DTSTAMP:20260419T084942
CREATED:20250117T001100Z
LAST-MODIFIED:20250117T001100Z
UID:5844-1750876200-1750876200@www.pachecocommunitycenter.com
SUMMARY:PTC Meeting
DESCRIPTION:Pacheco Town Council Meeting
URL:https://www.pachecocommunitycenter.com/events/ptc-meeting-11/
LOCATION:Pacheco Community Center\, 5800 Pacheco Blvd.\, Pacheco\, CA\, 94553\, United States
END:VEVENT
BEGIN:VEVENT
DTSTART;TZID=America/Los_Angeles:20250625T190000
DTEND;TZID=America/Los_Angeles:20250625T213000
DTSTAMP:20260419T084942
CREATED:20250116T215949Z
LAST-MODIFIED:20250116T215949Z
UID:5758-1750878000-1750887000@www.pachecocommunitycenter.com
SUMMARY:Martinez Swingers Square Dance
DESCRIPTION:SSD and Plus Workshop
URL:https://www.pachecocommunitycenter.com/events/martinez-swingers-square-dance-112/
LOCATION:Pacheco Community Center\, 5800 Pacheco Blvd.\, Pacheco\, CA\, 94553\, United States
END:VEVENT
BEGIN:VEVENT
DTSTART;TZID=America/Los_Angeles:20250627T090000
DTEND;TZID=America/Los_Angeles:20250627T130000
DTSTAMP:20260419T084942
CREATED:20250509T204238Z
LAST-MODIFIED:20250509T204238Z
UID:6145-1751014800-1751029200@www.pachecocommunitycenter.com
SUMMARY:Concord Day Adult Program
DESCRIPTION:Concord Day Adult Program
URL:https://www.pachecocommunitycenter.com/events/concord-day-adult-program-12/
LOCATION:Pacheco Community Center\, 5800 Pacheco Blvd.\, Pacheco\, CA\, 94553\, United States
END:VEVENT
BEGIN:VEVENT
DTSTART;TZID=America/Los_Angeles:20250630T090000
DTEND;TZID=America/Los_Angeles:20250630T130000
DTSTAMP:20260419T084942
CREATED:20250509T204238Z
LAST-MODIFIED:20250509T204238Z
UID:6146-1751274000-1751288400@www.pachecocommunitycenter.com
SUMMARY:Concord Day Adult Program
DESCRIPTION:Concord Day Adult Program
URL:https://www.pachecocommunitycenter.com/events/concord-day-adult-program-13/
LOCATION:Pacheco Community Center\, 5800 Pacheco Blvd.\, Pacheco\, CA\, 94553\, United States
END:VEVENT
BEGIN:VEVENT
DTSTART;TZID=America/Los_Angeles:20250701T190000
DTEND;TZID=America/Los_Angeles:20250701T213000
DTSTAMP:20260419T084942
CREATED:20250116T234257Z
LAST-MODIFIED:20250116T234257Z
UID:5799-1751396400-1751405400@www.pachecocommunitycenter.com
SUMMARY:Martinez Swingers Square Dance
DESCRIPTION:Advanced Workshop
URL:https://www.pachecocommunitycenter.com/events/martinez-swingers-square-dance-151/
LOCATION:Pacheco Community Center\, 5800 Pacheco Blvd.\, Pacheco\, CA\, 94553\, United States
END:VEVENT
BEGIN:VEVENT
DTSTART;TZID=America/Los_Angeles:20250702T090000
DTEND;TZID=America/Los_Angeles:20250702T130000
DTSTAMP:20260419T084942
CREATED:20250701T022257Z
LAST-MODIFIED:20250701T022257Z
UID:6183-1751446800-1751461200@www.pachecocommunitycenter.com
SUMMARY:Concord Day Adult Program
DESCRIPTION:Concord Day Adult Program
URL:https://www.pachecocommunitycenter.com/events/concord-day-adult-program-14/
LOCATION:Pacheco Community Center\, 5800 Pacheco Blvd.\, Pacheco\, CA\, 94553\, United States
END:VEVENT
END:VCALENDAR