BEGIN:VCALENDAR
VERSION:2.0
PRODID:-//Pacheco Community Center - ECPv6.15.15//NONSGML v1.0//EN
CALSCALE:GREGORIAN
METHOD:PUBLISH
X-WR-CALNAME:Pacheco Community Center
X-ORIGINAL-URL:https://www.pachecocommunitycenter.com
X-WR-CALDESC:Events for Pacheco Community Center
REFRESH-INTERVAL;VALUE=DURATION:PT1H
X-Robots-Tag:noindex
X-PUBLISHED-TTL:PT1H
BEGIN:VTIMEZONE
TZID:America/Los_Angeles
BEGIN:DAYLIGHT
TZOFFSETFROM:-0800
TZOFFSETTO:-0700
TZNAME:PDT
DTSTART:20230312T100000
END:DAYLIGHT
BEGIN:STANDARD
TZOFFSETFROM:-0700
TZOFFSETTO:-0800
TZNAME:PST
DTSTART:20231105T090000
END:STANDARD
BEGIN:DAYLIGHT
TZOFFSETFROM:-0800
TZOFFSETTO:-0700
TZNAME:PDT
DTSTART:20240310T100000
END:DAYLIGHT
BEGIN:STANDARD
TZOFFSETFROM:-0700
TZOFFSETTO:-0800
TZNAME:PST
DTSTART:20241103T090000
END:STANDARD
BEGIN:DAYLIGHT
TZOFFSETFROM:-0800
TZOFFSETTO:-0700
TZNAME:PDT
DTSTART:20250309T100000
END:DAYLIGHT
BEGIN:STANDARD
TZOFFSETFROM:-0700
TZOFFSETTO:-0800
TZNAME:PST
DTSTART:20251102T090000
END:STANDARD
END:VTIMEZONE
BEGIN:VEVENT
DTSTART;TZID=America/Los_Angeles:20240410T183000
DTEND;TZID=America/Los_Angeles:20240410T193000
DTSTAMP:20260419T222520
CREATED:20240314T135115Z
LAST-MODIFIED:20240314T135115Z
UID:5235-1712773800-1712777400@www.pachecocommunitycenter.com
SUMMARY:PMAC Meeting
DESCRIPTION:Pacheco Municipal Advisory Council MeetingMeeting is open to the public\, and is held in the conference room at the Pacheco Community Center.\nEntrance to conference room is on the side of the building next to the parking lot.
URL:https://www.pachecocommunitycenter.com/events/pmac-meeting-2/
LOCATION:Pacheco Community Center\, 5800 Pacheco Blvd.\, Pacheco\, CA\, 94553\, United States
END:VEVENT
BEGIN:VEVENT
DTSTART;TZID=America/Los_Angeles:20240410T173000
DTEND;TZID=America/Los_Angeles:20240410T184500
DTSTAMP:20260419T222520
CREATED:20240404T001629Z
LAST-MODIFIED:20240404T001629Z
UID:5299-1712770200-1712774700@www.pachecocommunitycenter.com
SUMMARY:New You Dance Center Dance Class
DESCRIPTION:New You Dance Class
URL:https://www.pachecocommunitycenter.com/events/new-you-dance-center-dance-class-27/
LOCATION:Pacheco Community Center\, 5800 Pacheco Blvd.\, Pacheco\, CA\, 94553\, United States
ORGANIZER;CN="New You Dance Center":MAILTO:newyoudancecenter@gmail.com
END:VEVENT
BEGIN:VEVENT
DTSTART;TZID=America/Los_Angeles:20240409T190000
DTEND;TZID=America/Los_Angeles:20240409T213000
DTSTAMP:20260419T222520
CREATED:20240313T140351Z
LAST-MODIFIED:20240313T140352Z
UID:5204-1712689200-1712698200@www.pachecocommunitycenter.com
SUMMARY:Martinez Swingers Square Dance
DESCRIPTION:Advanced Program Workshop
URL:https://www.pachecocommunitycenter.com/events/martinez-swingers-square-dance-13/
LOCATION:Pacheco Community Center\, 5800 Pacheco Blvd.\, Pacheco\, CA\, 94553\, United States
END:VEVENT
BEGIN:VEVENT
DTSTART;TZID=America/Los_Angeles:20240409T090000
DTEND;TZID=America/Los_Angeles:20240409T150000
DTSTAMP:20260419T222520
CREATED:20240125T193854Z
LAST-MODIFIED:20240531T223107Z
UID:4850-1712653200-1712674800@www.pachecocommunitycenter.com
SUMMARY:AARP Tax Aide - By Appt
DESCRIPTION:AARP Tax Aide will be at the Pacheco Community Center\nDates Open: 2/1/2024 – 4/15/2024\nTuesdays only 9am – 3pm\nBy appointment only – to reserve an appointment\, call (925) 276-2590\nFor more information go here
URL:https://www.pachecocommunitycenter.com/events/aarp-tax-aide-by-appt-9/
LOCATION:Pacheco Community Center\, 5800 Pacheco Blvd.\, Pacheco\, CA\, 94553\, United States
END:VEVENT
BEGIN:VEVENT
DTSTART;TZID=America/Los_Angeles:20240404T163000
DTEND;TZID=America/Los_Angeles:20240404T183000
DTSTAMP:20260419T222520
CREATED:20240404T003030Z
LAST-MODIFIED:20240404T003030Z
UID:5342-1712248200-1712255400@www.pachecocommunitycenter.com
SUMMARY:New You Dance Center Dance Class
DESCRIPTION:New You Dance Class
URL:https://www.pachecocommunitycenter.com/events/new-you-dance-center-dance-class-39/
LOCATION:Pacheco Community Center\, 5800 Pacheco Blvd.\, Pacheco\, CA\, 94553\, United States
ORGANIZER;CN="New You Dance Center":MAILTO:newyoudancecenter@gmail.com
END:VEVENT
BEGIN:VEVENT
DTSTART;TZID=America/Los_Angeles:20240404T100000
DTEND;TZID=America/Los_Angeles:20240404T130000
DTSTAMP:20260419T222520
CREATED:20240207T225652Z
LAST-MODIFIED:20240207T225652Z
UID:4911-1712224800-1712235600@www.pachecocommunitycenter.com
SUMMARY:Retiree Support Group Meeting
DESCRIPTION:
URL:https://www.pachecocommunitycenter.com/events/retiree-support-group-meeting-5/
LOCATION:CA
END:VEVENT
BEGIN:VEVENT
DTSTART;TZID=America/Los_Angeles:20240403T190000
DTEND;TZID=America/Los_Angeles:20240403T213000
DTSTAMP:20260419T222520
CREATED:20240313T230423Z
LAST-MODIFIED:20240313T230423Z
UID:5220-1712170800-1712179800@www.pachecocommunitycenter.com
SUMMARY:Martinez Swingers Square Dance
DESCRIPTION:Plus Program Workshop
URL:https://www.pachecocommunitycenter.com/events/martinez-swingers-square-dance-21/
LOCATION:Pacheco Community Center\, 5800 Pacheco Blvd.\, Pacheco\, CA\, 94553\, United States
END:VEVENT
BEGIN:VEVENT
DTSTART;TZID=America/Los_Angeles:20240403T173000
DTEND;TZID=America/Los_Angeles:20240403T184500
DTSTAMP:20260419T222520
CREATED:20240313T231543Z
LAST-MODIFIED:20240404T001629Z
UID:5229-1712165400-1712169900@www.pachecocommunitycenter.com
SUMMARY:New You Dance Center Dance Class
DESCRIPTION:New You Dance Class
URL:https://www.pachecocommunitycenter.com/events/new-you-dance-center-dance-class-13/
LOCATION:Pacheco Community Center\, 5800 Pacheco Blvd.\, Pacheco\, CA\, 94553\, United States
ORGANIZER;CN="New You Dance Center":MAILTO:newyoudancecenter@gmail.com
END:VEVENT
BEGIN:VEVENT
DTSTART;TZID=America/Los_Angeles:20240402T190000
DTEND;TZID=America/Los_Angeles:20240402T213000
DTSTAMP:20260419T222520
CREATED:20240313T135509Z
LAST-MODIFIED:20240313T135510Z
UID:5201-1712084400-1712093400@www.pachecocommunitycenter.com
SUMMARY:Martinez Swingers Square Dance
DESCRIPTION:
URL:https://www.pachecocommunitycenter.com/events/martinez-swingers-square-dance-12/
LOCATION:Pacheco Community Center\, 5800 Pacheco Blvd.\, Pacheco\, CA\, 94553\, United States
END:VEVENT
BEGIN:VEVENT
DTSTART;TZID=America/Los_Angeles:20240402T090000
DTEND;TZID=America/Los_Angeles:20240402T150000
DTSTAMP:20260419T222520
CREATED:20240125T193739Z
LAST-MODIFIED:20240125T193739Z
UID:4848-1712048400-1712070000@www.pachecocommunitycenter.com
SUMMARY:AARP Tax Aide - By Appt
DESCRIPTION:AARP Tax Aide will be at the Pacheco Community Center\nDates Open: 2/1/2024 – 4/15/2024\nTuesdays only 9am – 3pm\nBy appointment only – to reserve an appointment\, call (925) 276-2590\nFor more information go here
URL:https://www.pachecocommunitycenter.com/events/aarp-tax-aide-by-appt-8/
LOCATION:Pacheco Community Center\, 5800 Pacheco Blvd.\, Pacheco\, CA\, 94553\, United States
END:VEVENT
BEGIN:VEVENT
DTSTART;TZID=America/Los_Angeles:20240330T100000
DTEND;TZID=America/Los_Angeles:20240330T120000
DTSTAMP:20260419T222520
CREATED:20240223T191514Z
LAST-MODIFIED:20240316T221929Z
UID:5156-1711792800-1711800000@www.pachecocommunitycenter.com
SUMMARY:PCC Easter Bunny Day
DESCRIPTION:Easter Bunny Day at Pacheco Community Center! 10:45 – 11:30am: Take Pictures with the Easter Bunny!  \n\n\n\n11:30am: Easter Egg Hunts will be provided for the following age groups:  \n\n\n\n– Infants to 3 years old – 4 to 6 years old – 7 years old and up Find the Golden Egg and win a prize!
URL:https://www.pachecocommunitycenter.com/events/pcc-easter-bunny-day/
LOCATION:CA
END:VEVENT
BEGIN:VEVENT
DTSTART;TZID=America/Los_Angeles:20240328T163000
DTEND;TZID=America/Los_Angeles:20240328T183000
DTSTAMP:20260419T222520
CREATED:20240404T003317Z
LAST-MODIFIED:20240404T003317Z
UID:5362-1711643400-1711650600@www.pachecocommunitycenter.com
SUMMARY:New You Dance Center Dance Class
DESCRIPTION:New You Dance Class
URL:https://www.pachecocommunitycenter.com/events/new-you-dance-center-dance-class-52/
LOCATION:Pacheco Community Center\, 5800 Pacheco Blvd.\, Pacheco\, CA\, 94553\, United States
ORGANIZER;CN="New You Dance Center":MAILTO:newyoudancecenter@gmail.com
END:VEVENT
BEGIN:VEVENT
DTSTART;TZID=America/Los_Angeles:20240327T190000
DTEND;TZID=America/Los_Angeles:20240327T213000
DTSTAMP:20260419T222520
CREATED:20240313T230422Z
LAST-MODIFIED:20240313T230422Z
UID:5219-1711566000-1711575000@www.pachecocommunitycenter.com
SUMMARY:Martinez Swingers Square Dance
DESCRIPTION:Plus Program Workshop
URL:https://www.pachecocommunitycenter.com/events/martinez-swingers-square-dance-20/
LOCATION:Pacheco Community Center\, 5800 Pacheco Blvd.\, Pacheco\, CA\, 94553\, United States
END:VEVENT
BEGIN:VEVENT
DTSTART;TZID=America/Los_Angeles:20240327T183000
DTEND;TZID=America/Los_Angeles:20240327T193000
DTSTAMP:20260419T222520
CREATED:20240313T231812Z
LAST-MODIFIED:20240313T231817Z
UID:5230-1711564200-1711567800@www.pachecocommunitycenter.com
SUMMARY:PTC Meeting
DESCRIPTION:Pacheco Town Council Meeting
URL:https://www.pachecocommunitycenter.com/events/ptc-meeting-2/
LOCATION:Pacheco Community Center\, 5800 Pacheco Blvd.\, Pacheco\, CA\, 94553\, United States
END:VEVENT
BEGIN:VEVENT
DTSTART;TZID=America/Los_Angeles:20240327T173000
DTEND;TZID=America/Los_Angeles:20240327T184500
DTSTAMP:20260419T222520
CREATED:20240313T231543Z
LAST-MODIFIED:20240313T231543Z
UID:5228-1711560600-1711565100@www.pachecocommunitycenter.com
SUMMARY:New You Dance Center Dance Class
DESCRIPTION:New You Dance Class
URL:https://www.pachecocommunitycenter.com/events/new-you-dance-center-dance-class-12/
LOCATION:Pacheco Community Center\, 5800 Pacheco Blvd.\, Pacheco\, CA\, 94553\, United States
ORGANIZER;CN="New You Dance Center":MAILTO:newyoudancecenter@gmail.com
END:VEVENT
BEGIN:VEVENT
DTSTART;TZID=America/Los_Angeles:20240326T190000
DTEND;TZID=America/Los_Angeles:20240326T213000
DTSTAMP:20260419T222520
CREATED:20240313T135100Z
LAST-MODIFIED:20240313T135102Z
UID:5198-1711479600-1711488600@www.pachecocommunitycenter.com
SUMMARY:Martinez Swingers Square Dance
DESCRIPTION:Advanced Program Workshop
URL:https://www.pachecocommunitycenter.com/events/martinez-swingers-square-dance-11/
LOCATION:Pacheco Community Center\, 5800 Pacheco Blvd.\, Pacheco\, CA\, 94553\, United States
END:VEVENT
BEGIN:VEVENT
DTSTART;TZID=America/Los_Angeles:20240326T080000
DTEND;TZID=America/Los_Angeles:20240326T170000
DTSTAMP:20260419T222520
CREATED:20240125T193639Z
LAST-MODIFIED:20240125T193639Z
UID:4846-1711440000-1711472400@www.pachecocommunitycenter.com
SUMMARY:AARP Tax Aide - By Appt
DESCRIPTION:AARP Tax Aide will be at the Pacheco Community Center\nDates Open: 2/1/2024 – 4/15/2024\nTuesdays only 9am – 3pm\nBy appointment only – to reserve an appointment\, call (925) 276-2590\nFor more information go here
URL:https://www.pachecocommunitycenter.com/events/aarp-tax-aide-by-appt-7/
LOCATION:Pacheco Community Center\, 5800 Pacheco Blvd.\, Pacheco\, CA\, 94553\, United States
END:VEVENT
BEGIN:VEVENT
DTSTART;TZID=America/Los_Angeles:20240325T183000
DTEND;TZID=America/Los_Angeles:20240325T203000
DTSTAMP:20260419T222520
CREATED:20240223T191034Z
LAST-MODIFIED:20240223T191036Z
UID:5153-1711391400-1711398600@www.pachecocommunitycenter.com
SUMMARY:Belmont Terrance Homeowners Association Meeting
DESCRIPTION:
URL:https://www.pachecocommunitycenter.com/events/belmont-terrance-homeowners-association-meeting/
LOCATION:CA
END:VEVENT
BEGIN:VEVENT
DTSTART;TZID=America/Los_Angeles:20240321T163000
DTEND;TZID=America/Los_Angeles:20240321T183000
DTSTAMP:20260419T222520
CREATED:20240404T003317Z
LAST-MODIFIED:20240404T003317Z
UID:5361-1711038600-1711045800@www.pachecocommunitycenter.com
SUMMARY:New You Dance Center Dance Class
DESCRIPTION:New You Dance Class
URL:https://www.pachecocommunitycenter.com/events/new-you-dance-center-dance-class-51/
LOCATION:Pacheco Community Center\, 5800 Pacheco Blvd.\, Pacheco\, CA\, 94553\, United States
ORGANIZER;CN="New You Dance Center":MAILTO:newyoudancecenter@gmail.com
END:VEVENT
BEGIN:VEVENT
DTSTART;TZID=America/Los_Angeles:20240320T190000
DTEND;TZID=America/Los_Angeles:20240320T213000
DTSTAMP:20260419T222520
CREATED:20240313T230422Z
LAST-MODIFIED:20240313T230422Z
UID:5218-1710961200-1710970200@www.pachecocommunitycenter.com
SUMMARY:Martinez Swingers Square Dance
DESCRIPTION:Plus Program Workshop
URL:https://www.pachecocommunitycenter.com/events/martinez-swingers-square-dance-19/
LOCATION:Pacheco Community Center\, 5800 Pacheco Blvd.\, Pacheco\, CA\, 94553\, United States
END:VEVENT
BEGIN:VEVENT
DTSTART;TZID=America/Los_Angeles:20240320T173000
DTEND;TZID=America/Los_Angeles:20240320T184500
DTSTAMP:20260419T222520
CREATED:20240313T231543Z
LAST-MODIFIED:20240313T231543Z
UID:5227-1710955800-1710960300@www.pachecocommunitycenter.com
SUMMARY:New You Dance Center Dance Class
DESCRIPTION:New You Dance Class
URL:https://www.pachecocommunitycenter.com/events/new-you-dance-center-dance-class-11/
LOCATION:Pacheco Community Center\, 5800 Pacheco Blvd.\, Pacheco\, CA\, 94553\, United States
ORGANIZER;CN="New You Dance Center":MAILTO:newyoudancecenter@gmail.com
END:VEVENT
BEGIN:VEVENT
DTSTART;TZID=America/Los_Angeles:20240319T190000
DTEND;TZID=America/Los_Angeles:20240319T213000
DTSTAMP:20260419T222520
CREATED:20240313T013351Z
LAST-MODIFIED:20240313T013439Z
UID:5194-1710874800-1710883800@www.pachecocommunitycenter.com
SUMMARY:Martinez Swingers Square Dance
DESCRIPTION:Advanced Program Workshop
URL:https://www.pachecocommunitycenter.com/events/martinez-swingers-square-dance-10/
LOCATION:Pacheco Community Center\, 5800 Pacheco Blvd.\, Pacheco\, CA\, 94553\, United States
END:VEVENT
BEGIN:VEVENT
DTSTART;TZID=America/Los_Angeles:20240319T090000
DTEND;TZID=America/Los_Angeles:20240319T150000
DTSTAMP:20260419T222520
CREATED:20240125T193551Z
LAST-MODIFIED:20240125T193551Z
UID:4844-1710838800-1710860400@www.pachecocommunitycenter.com
SUMMARY:AARP Tax Aide - By Appt
DESCRIPTION:AARP Tax Aide will be at the Pacheco Community Center\nDates Open: 2/1/2024 – 4/15/2024\nTuesdays only 9am – 3pm\nBy appointment only – to reserve an appointment\, call (925) 276-2590\nFor more information go here
URL:https://www.pachecocommunitycenter.com/events/aarp-tax-aide-by-appt-6/
LOCATION:Pacheco Community Center\, 5800 Pacheco Blvd.\, Pacheco\, CA\, 94553\, United States
END:VEVENT
BEGIN:VEVENT
DTSTART;TZID=America/Los_Angeles:20240314T163000
DTEND;TZID=America/Los_Angeles:20240314T183000
DTSTAMP:20260419T222520
CREATED:20240404T003317Z
LAST-MODIFIED:20240404T003317Z
UID:5360-1710433800-1710441000@www.pachecocommunitycenter.com
SUMMARY:New You Dance Center Dance Class
DESCRIPTION:New You Dance Class
URL:https://www.pachecocommunitycenter.com/events/new-you-dance-center-dance-class-50/
LOCATION:Pacheco Community Center\, 5800 Pacheco Blvd.\, Pacheco\, CA\, 94553\, United States
ORGANIZER;CN="New You Dance Center":MAILTO:newyoudancecenter@gmail.com
END:VEVENT
BEGIN:VEVENT
DTSTART;TZID=America/Los_Angeles:20240313T190000
DTEND;TZID=America/Los_Angeles:20240313T213000
DTSTAMP:20260419T222520
CREATED:20240313T230422Z
LAST-MODIFIED:20240313T230422Z
UID:5217-1710356400-1710365400@www.pachecocommunitycenter.com
SUMMARY:Martinez Swingers Square Dance
DESCRIPTION:Plus Program Workshop
URL:https://www.pachecocommunitycenter.com/events/martinez-swingers-square-dance-18/
LOCATION:Pacheco Community Center\, 5800 Pacheco Blvd.\, Pacheco\, CA\, 94553\, United States
END:VEVENT
BEGIN:VEVENT
DTSTART;TZID=America/Los_Angeles:20240313T183000
DTEND;TZID=America/Los_Angeles:20240313T193000
DTSTAMP:20260419T222520
CREATED:20240105T170213Z
LAST-MODIFIED:20240105T170213Z
UID:4824-1710354600-1710358200@www.pachecocommunitycenter.com
SUMMARY:PMAC Meeting
DESCRIPTION:
URL:https://www.pachecocommunitycenter.com/events/pmac-meeting-3/
LOCATION:Pacheco Community Center\, 5800 Pacheco Blvd.\, Pacheco\, CA\, 94553\, United States
END:VEVENT
BEGIN:VEVENT
DTSTART;TZID=America/Los_Angeles:20240313T173000
DTEND;TZID=America/Los_Angeles:20240313T184500
DTSTAMP:20260419T222520
CREATED:20240313T231542Z
LAST-MODIFIED:20240313T231542Z
UID:5226-1710351000-1710355500@www.pachecocommunitycenter.com
SUMMARY:New You Dance Center Dance Class
DESCRIPTION:New You Dance Class
URL:https://www.pachecocommunitycenter.com/events/new-you-dance-center-dance-class-10/
LOCATION:Pacheco Community Center\, 5800 Pacheco Blvd.\, Pacheco\, CA\, 94553\, United States
ORGANIZER;CN="New You Dance Center":MAILTO:newyoudancecenter@gmail.com
END:VEVENT
BEGIN:VEVENT
DTSTART;TZID=America/Los_Angeles:20240312T190000
DTEND;TZID=America/Los_Angeles:20240312T213000
DTSTAMP:20260419T222520
CREATED:20240313T012937Z
LAST-MODIFIED:20240313T012949Z
UID:5191-1710270000-1710279000@www.pachecocommunitycenter.com
SUMMARY:Martinez Swingers Square Dance
DESCRIPTION:Advanced Program Workshop
URL:https://www.pachecocommunitycenter.com/events/martinez-swingers-square-dance-9/
LOCATION:CA
END:VEVENT
BEGIN:VEVENT
DTSTART;TZID=America/Los_Angeles:20240312T090000
DTEND;TZID=America/Los_Angeles:20240312T150000
DTSTAMP:20260419T222520
CREATED:20240125T193449Z
LAST-MODIFIED:20240125T193449Z
UID:4842-1710234000-1710255600@www.pachecocommunitycenter.com
SUMMARY:AARP Tax Aide - By Appt
DESCRIPTION:AARP Tax Aide will be at the Pacheco Community Center\nDates Open: 2/1/2024 – 4/15/2024\nTuesdays only 9am – 3pm\nBy appointment only – to reserve an appointment\, call (925) 276-2590\nFor more information go here
URL:https://www.pachecocommunitycenter.com/events/aarp-tax-aide-by-appt-5/
LOCATION:Pacheco Community Center\, 5800 Pacheco Blvd.\, Pacheco\, CA\, 94553\, United States
END:VEVENT
BEGIN:VEVENT
DTSTART;TZID=America/Los_Angeles:20240310T120000
DTEND;TZID=America/Los_Angeles:20240310T160000
DTSTAMP:20260419T222520
CREATED:20240207T222315Z
LAST-MODIFIED:20240223T184416Z
UID:4864-1710072000-1710086400@www.pachecocommunitycenter.com
SUMMARY:Private Event
DESCRIPTION:
URL:https://www.pachecocommunitycenter.com/events/pending-event-6/
LOCATION:CA
END:VEVENT
END:VCALENDAR