BEGIN:VCALENDAR
VERSION:2.0
PRODID:-//Pacheco Community Center - ECPv6.15.15//NONSGML v1.0//EN
CALSCALE:GREGORIAN
METHOD:PUBLISH
X-WR-CALNAME:Pacheco Community Center
X-ORIGINAL-URL:https://www.pachecocommunitycenter.com
X-WR-CALDESC:Events for Pacheco Community Center
REFRESH-INTERVAL;VALUE=DURATION:PT1H
X-Robots-Tag:noindex
X-PUBLISHED-TTL:PT1H
BEGIN:VTIMEZONE
TZID:America/Los_Angeles
BEGIN:DAYLIGHT
TZOFFSETFROM:-0800
TZOFFSETTO:-0700
TZNAME:PDT
DTSTART:20210314T100000
END:DAYLIGHT
BEGIN:STANDARD
TZOFFSETFROM:-0700
TZOFFSETTO:-0800
TZNAME:PST
DTSTART:20211107T090000
END:STANDARD
BEGIN:DAYLIGHT
TZOFFSETFROM:-0800
TZOFFSETTO:-0700
TZNAME:PDT
DTSTART:20220313T100000
END:DAYLIGHT
BEGIN:STANDARD
TZOFFSETFROM:-0700
TZOFFSETTO:-0800
TZNAME:PST
DTSTART:20221106T090000
END:STANDARD
BEGIN:DAYLIGHT
TZOFFSETFROM:-0800
TZOFFSETTO:-0700
TZNAME:PDT
DTSTART:20230312T100000
END:DAYLIGHT
BEGIN:STANDARD
TZOFFSETFROM:-0700
TZOFFSETTO:-0800
TZNAME:PST
DTSTART:20231105T090000
END:STANDARD
BEGIN:DAYLIGHT
TZOFFSETFROM:-0800
TZOFFSETTO:-0700
TZNAME:PDT
DTSTART:20240310T100000
END:DAYLIGHT
BEGIN:STANDARD
TZOFFSETFROM:-0700
TZOFFSETTO:-0800
TZNAME:PST
DTSTART:20241103T090000
END:STANDARD
END:VTIMEZONE
BEGIN:VEVENT
DTSTART;TZID=America/Los_Angeles:20230506T140000
DTEND;TZID=America/Los_Angeles:20230506T210000
DTSTAMP:20260423T035023
CREATED:20230414T203340Z
LAST-MODIFIED:20230414T203340Z
UID:4294-1683381600-1683406800@www.pachecocommunitycenter.com
SUMMARY:Private Event: Birthday Party
DESCRIPTION:
URL:https://www.pachecocommunitycenter.com/events/private-event-birthday-party-25/
LOCATION:Pacheco Community Center\, 5800 Pacheco Blvd.\, Pacheco\, CA\, 94553\, United States
END:VEVENT
BEGIN:VEVENT
DTSTART;TZID=America/Los_Angeles:20230430T110000
DTEND;TZID=America/Los_Angeles:20230430T170000
DTSTAMP:20260423T035023
CREATED:20230414T203057Z
LAST-MODIFIED:20230414T203057Z
UID:4290-1682852400-1682874000@www.pachecocommunitycenter.com
SUMMARY:Private Event: Baby Shower
DESCRIPTION:
URL:https://www.pachecocommunitycenter.com/events/private-event-baby-shower-10/
LOCATION:Pacheco Community Center\, 5800 Pacheco Blvd.\, Pacheco\, CA\, 94553\, United States
END:VEVENT
BEGIN:VEVENT
DTSTART;TZID=America/Los_Angeles:20230429T080000
DTEND;TZID=America/Los_Angeles:20230429T170000
DTSTAMP:20260423T035023
CREATED:20230414T203029Z
LAST-MODIFIED:20230414T203029Z
UID:4288-1682755200-1682787600@www.pachecocommunitycenter.com
SUMMARY:Private Event: Celebration of Life
DESCRIPTION:
URL:https://www.pachecocommunitycenter.com/events/private-event-celebration-of-life-18/
LOCATION:Pacheco Community Center\, 5800 Pacheco Blvd.\, Pacheco\, CA\, 94553\, United States
END:VEVENT
BEGIN:VEVENT
DTSTART;TZID=America/Los_Angeles:20230424T083000
DTEND;TZID=America/Los_Angeles:20230424T150000
DTSTAMP:20260423T035023
CREATED:20230414T203138Z
LAST-MODIFIED:20230414T203138Z
UID:4292-1682325000-1682348400@www.pachecocommunitycenter.com
SUMMARY:Lifeline Screening Public Health Screening
DESCRIPTION:
URL:https://www.pachecocommunitycenter.com/events/lifeline-screening-public-health-screening/
LOCATION:Pacheco Community Center\, 5800 Pacheco Blvd.\, Pacheco\, CA\, 94553\, United States
END:VEVENT
BEGIN:VEVENT
DTSTART;TZID=America/Los_Angeles:20230414T100000
DTEND;TZID=America/Los_Angeles:20230414T160000
DTSTAMP:20260423T035023
CREATED:20230414T203008Z
LAST-MODIFIED:20230414T203008Z
UID:4286-1681466400-1681488000@www.pachecocommunitycenter.com
SUMMARY:Private Event: Celebration of Life
DESCRIPTION:
URL:https://www.pachecocommunitycenter.com/events/private-event-celebration-of-life-17/
LOCATION:Pacheco Community Center\, 5800 Pacheco Blvd.\, Pacheco\, CA\, 94553\, United States
END:VEVENT
BEGIN:VEVENT
DTSTART;TZID=America/Los_Angeles:20230401T110000
DTEND;TZID=America/Los_Angeles:20230401T110000
DTSTAMP:20260423T035023
CREATED:20230103T214523Z
LAST-MODIFIED:20230103T214523Z
UID:4281-1680346800-1680346800@www.pachecocommunitycenter.com
SUMMARY:Pacheco Community Center Holiday Egg Hunt
DESCRIPTION:
URL:https://www.pachecocommunitycenter.com/events/pacheco-community-center-holiday-egg-hunt/
LOCATION:Pacheco Community Center\, 5800 Pacheco Blvd.\, Pacheco\, CA\, 94553\, United States
END:VEVENT
BEGIN:VEVENT
DTSTART;TZID=America/Los_Angeles:20230128T110000
DTEND;TZID=America/Los_Angeles:20230128T150000
DTSTAMP:20260423T035023
CREATED:20230103T213805Z
LAST-MODIFIED:20230103T213805Z
UID:4242-1674903600-1674918000@www.pachecocommunitycenter.com
SUMMARY:Contra Costa County Housing Authority Meeting
DESCRIPTION:
URL:https://www.pachecocommunitycenter.com/events/contra-costa-county-housing-authority-meeting/
LOCATION:Pacheco Community Center\, 5800 Pacheco Blvd.\, Pacheco\, CA\, 94553\, United States
END:VEVENT
BEGIN:VEVENT
DTSTART;TZID=America/Los_Angeles:20230121T130000
DTEND;TZID=America/Los_Angeles:20230121T230000
DTSTAMP:20260423T035023
CREATED:20230103T213610Z
LAST-MODIFIED:20230103T213610Z
UID:4240-1674306000-1674342000@www.pachecocommunitycenter.com
SUMMARY:Private Event: Quinceañera
DESCRIPTION:
URL:https://www.pachecocommunitycenter.com/events/private-event-quinceanera-8/
LOCATION:Pacheco Community Center\, 5800 Pacheco Blvd.\, Pacheco\, CA\, 94553\, United States
END:VEVENT
BEGIN:VEVENT
DTSTART;TZID=America/Los_Angeles:20230114T130000
DTEND;TZID=America/Los_Angeles:20230114T200000
DTSTAMP:20260423T035023
CREATED:20230103T212759Z
LAST-MODIFIED:20230103T212759Z
UID:4238-1673701200-1673726400@www.pachecocommunitycenter.com
SUMMARY:Private Event: Baby Shower
DESCRIPTION:
URL:https://www.pachecocommunitycenter.com/events/private-event-baby-shower-9/
LOCATION:Pacheco Community Center\, 5800 Pacheco Blvd.\, Pacheco\, CA\, 94553\, United States
END:VEVENT
BEGIN:VEVENT
DTSTART;TZID=America/Los_Angeles:20230107T120000
DTEND;TZID=America/Los_Angeles:20230107T190000
DTSTAMP:20260423T035023
CREATED:20230103T212643Z
LAST-MODIFIED:20230103T212643Z
UID:4236-1673092800-1673118000@www.pachecocommunitycenter.com
SUMMARY:Private Event: Baby Shower
DESCRIPTION:
URL:https://www.pachecocommunitycenter.com/events/private-event-baby-shower-8/
LOCATION:Pacheco Community Center\, 5800 Pacheco Blvd.\, Pacheco\, CA\, 94553\, United States
END:VEVENT
BEGIN:VEVENT
DTSTART;VALUE=DATE:20221224
DTEND;VALUE=DATE:20230103
DTSTAMP:20260423T035023
CREATED:20221018T203538Z
LAST-MODIFIED:20221018T203538Z
UID:4068-1671843600-1672621199@www.pachecocommunitycenter.com
SUMMARY:Pacheco Community Center Closed for Holidays
DESCRIPTION:
URL:https://www.pachecocommunitycenter.com/events/pacheco-community-center-closed-for-holidays/
LOCATION:Pacheco Community Center\, 5800 Pacheco Blvd.\, Pacheco\, CA\, 94553\, United States
END:VEVENT
BEGIN:VEVENT
DTSTART;TZID=America/Los_Angeles:20221217T150000
DTEND;TZID=America/Los_Angeles:20221217T230000
DTSTAMP:20260423T035023
CREATED:20221018T203434Z
LAST-MODIFIED:20221018T203434Z
UID:4066-1671289200-1671318000@www.pachecocommunitycenter.com
SUMMARY:Pending Event: Birthday Party
DESCRIPTION:
URL:https://www.pachecocommunitycenter.com/events/pending-event-birthday-party-2/
LOCATION:Pacheco Community Center\, 5800 Pacheco Blvd.\, Pacheco\, CA\, 94553\, United States
END:VEVENT
BEGIN:VEVENT
DTSTART;TZID=America/Los_Angeles:20221209T180000
DTEND;TZID=America/Los_Angeles:20221209T220000
DTSTAMP:20260423T035023
CREATED:20221018T203403Z
LAST-MODIFIED:20221018T203403Z
UID:4064-1670608800-1670623200@www.pachecocommunitycenter.com
SUMMARY:Private Event: Holiday Party
DESCRIPTION:
URL:https://www.pachecocommunitycenter.com/events/private-event-holiday-party-5/
LOCATION:Pacheco Community Center\, 5800 Pacheco Blvd.\, Pacheco\, CA\, 94553\, United States
END:VEVENT
BEGIN:VEVENT
DTSTART;TZID=America/Los_Angeles:20221204T150000
DTEND;TZID=America/Los_Angeles:20221204T220000
DTSTAMP:20260423T035023
CREATED:20221018T203313Z
LAST-MODIFIED:20221018T203313Z
UID:4062-1670166000-1670191200@www.pachecocommunitycenter.com
SUMMARY:Private Event: Diablo Valley Corvette's Dinner Party
DESCRIPTION:
URL:https://www.pachecocommunitycenter.com/events/private-event-diablo-valley-corvettes-dinner-party-2/
LOCATION:Pacheco Community Center\, 5800 Pacheco Blvd.\, Pacheco\, CA\, 94553\, United States
END:VEVENT
BEGIN:VEVENT
DTSTART;TZID=America/Los_Angeles:20221203T120000
DTEND;TZID=America/Los_Angeles:20221203T180000
DTSTAMP:20260423T035023
CREATED:20221018T203229Z
LAST-MODIFIED:20221018T203229Z
UID:4060-1670068800-1670090400@www.pachecocommunitycenter.com
SUMMARY:Pending Event: Baby Shower
DESCRIPTION:
URL:https://www.pachecocommunitycenter.com/events/pending-event-baby-shower-2/
LOCATION:Pacheco Community Center\, 5800 Pacheco Blvd.\, Pacheco\, CA\, 94553\, United States
END:VEVENT
BEGIN:VEVENT
DTSTART;TZID=America/Los_Angeles:20221119T150000
DTEND;TZID=America/Los_Angeles:20221119T230000
DTSTAMP:20260423T035023
CREATED:20220524T212155Z
LAST-MODIFIED:20221018T184304Z
UID:3901-1668870000-1668898800@www.pachecocommunitycenter.com
SUMMARY:Private Event: Quinceañera
DESCRIPTION:
URL:https://www.pachecocommunitycenter.com/events/private-event-quinceanera-7/
LOCATION:Pacheco Community Center\, 5800 Pacheco Blvd.\, Pacheco\, CA\, 94553\, United States
END:VEVENT
BEGIN:VEVENT
DTSTART;TZID=America/Los_Angeles:20221113T130000
DTEND;TZID=America/Los_Angeles:20221113T170000
DTSTAMP:20260423T035023
CREATED:20221018T184414Z
LAST-MODIFIED:20221018T184414Z
UID:4050-1668344400-1668358800@www.pachecocommunitycenter.com
SUMMARY:Private Event: Celebration of Life
DESCRIPTION:
URL:https://www.pachecocommunitycenter.com/events/private-event-celebration-of-life-16/
LOCATION:Pacheco Community Center\, 5800 Pacheco Blvd.\, Pacheco\, CA\, 94553\, United States
END:VEVENT
BEGIN:VEVENT
DTSTART;TZID=America/Los_Angeles:20221112T130000
DTEND;TZID=America/Los_Angeles:20221112T190000
DTSTAMP:20260423T035023
CREATED:20221018T184518Z
LAST-MODIFIED:20221018T184518Z
UID:4054-1668258000-1668279600@www.pachecocommunitycenter.com
SUMMARY:Pending Event: Baby Shower
DESCRIPTION:
URL:https://www.pachecocommunitycenter.com/events/pending-event-baby-shower/
LOCATION:Pacheco Community Center\, 5800 Pacheco Blvd.\, Pacheco\, CA\, 94553\, United States
END:VEVENT
BEGIN:VEVENT
DTSTART;TZID=America/Los_Angeles:20221108T070000
DTEND;TZID=America/Los_Angeles:20221108T200000
DTSTAMP:20260423T035023
CREATED:20220615T221819Z
LAST-MODIFIED:20220615T221819Z
UID:4010-1667890800-1667937600@www.pachecocommunitycenter.com
SUMMARY:Contra Costa County Pulling Place
DESCRIPTION:
URL:https://www.pachecocommunitycenter.com/events/contra-costa-county-pulling-place/
LOCATION:Pacheco Community Center\, 5800 Pacheco Blvd.\, Pacheco\, CA\, 94553\, United States
END:VEVENT
BEGIN:VEVENT
DTSTART;TZID=America/Los_Angeles:20221105T080000
DTEND;TZID=America/Los_Angeles:20221105T170000
DTSTAMP:20260423T035023
CREATED:20221018T184451Z
LAST-MODIFIED:20221018T184451Z
UID:4052-1667635200-1667667600@www.pachecocommunitycenter.com
SUMMARY:Pending Event: Baptism
DESCRIPTION:
URL:https://www.pachecocommunitycenter.com/events/pending-event-baptism-2/
LOCATION:Pacheco Community Center\, 5800 Pacheco Blvd.\, Pacheco\, CA\, 94553\, United States
END:VEVENT
BEGIN:VEVENT
DTSTART;TZID=America/Los_Angeles:20221104T080000
DTEND;TZID=America/Los_Angeles:20221104T170000
DTSTAMP:20260423T035024
CREATED:20221018T184753Z
LAST-MODIFIED:20221018T184812Z
UID:4056-1667548800-1667581200@www.pachecocommunitycenter.com
SUMMARY:Lifeline Screening Health Screening: Public Event
DESCRIPTION:Please visit this link to schedule an appointment online. \nYou may also go to: \nHome _index 2024 new with banner – TEST \n \nAnd enter our zip code 94553 to find our location sign up site.
URL:https://www.pachecocommunitycenter.com/events/lifeline-screening-health-screening-public-event/
LOCATION:Pacheco Community Center\, 5800 Pacheco Blvd.\, Pacheco\, CA\, 94553\, United States
END:VEVENT
BEGIN:VEVENT
DTSTART;TZID=America/Los_Angeles:20221029T120000
DTEND;TZID=America/Los_Angeles:20221029T210000
DTSTAMP:20260423T035024
CREATED:20220524T212058Z
LAST-MODIFIED:20221018T184138Z
UID:3899-1667044800-1667077200@www.pachecocommunitycenter.com
SUMMARY:Private Event: Sweet 16
DESCRIPTION:
URL:https://www.pachecocommunitycenter.com/events/pending-event-sweet-16/
LOCATION:Pacheco Community Center\, 5800 Pacheco Blvd.\, Pacheco\, CA\, 94553\, United States
END:VEVENT
BEGIN:VEVENT
DTSTART;TZID=America/Los_Angeles:20221029T090000
DTEND;TZID=America/Los_Angeles:20221029T120000
DTSTAMP:20260423T035024
CREATED:20221018T185500Z
LAST-MODIFIED:20221018T185514Z
UID:4058-1667034000-1667044800@www.pachecocommunitycenter.com
SUMMARY:Pacheco Community Clean Up Day!
DESCRIPTION:
URL:https://www.pachecocommunitycenter.com/events/pacheco-community-clean-up-day-2/
LOCATION:Pacheco Community Center\, 5800 Pacheco Blvd.\, Pacheco\, CA\, 94553\, United States
END:VEVENT
BEGIN:VEVENT
DTSTART;TZID=America/Los_Angeles:20221015T130000
DTEND;TZID=America/Los_Angeles:20221015T230000
DTSTAMP:20260423T035024
CREATED:20220727T190114Z
LAST-MODIFIED:20220914T214339Z
UID:4029-1665838800-1665874800@www.pachecocommunitycenter.com
SUMMARY:Private Event: Baptism
DESCRIPTION:
URL:https://www.pachecocommunitycenter.com/events/pending-event-baptism/
LOCATION:Pacheco Community Center\, 5800 Pacheco Blvd.\, Pacheco\, CA\, 94553\, United States
END:VEVENT
BEGIN:VEVENT
DTSTART;TZID=America/Los_Angeles:20221008T150000
DTEND;TZID=America/Los_Angeles:20221008T230000
DTSTAMP:20260423T035024
CREATED:20220727T190008Z
LAST-MODIFIED:20220914T214356Z
UID:4025-1665241200-1665270000@www.pachecocommunitycenter.com
SUMMARY:Private Event: Sweet 16
DESCRIPTION:
URL:https://www.pachecocommunitycenter.com/events/pending-event-sweet-16-2/
LOCATION:Pacheco Community Center\, 5800 Pacheco Blvd.\, Pacheco\, CA\, 94553\, United States
END:VEVENT
BEGIN:VEVENT
DTSTART;TZID=America/Los_Angeles:20221006T100000
DTEND;TZID=America/Los_Angeles:20221006T130000
DTSTAMP:20260423T035024
CREATED:20220727T190200Z
LAST-MODIFIED:20220727T190200Z
UID:4031-1665050400-1665061200@www.pachecocommunitycenter.com
SUMMARY:Retiree Support Group Meeting
DESCRIPTION:
URL:https://www.pachecocommunitycenter.com/events/retiree-support-group-meeting/
LOCATION:Pacheco Community Center\, 5800 Pacheco Blvd.\, Pacheco\, CA\, 94553\, United States
END:VEVENT
BEGIN:VEVENT
DTSTART;TZID=America/Los_Angeles:20221002T120000
DTEND;TZID=America/Los_Angeles:20221002T180000
DTSTAMP:20260423T035024
CREATED:20220727T190037Z
LAST-MODIFIED:20220727T190037Z
UID:4027-1664712000-1664733600@www.pachecocommunitycenter.com
SUMMARY:Private Event: Baby Shower
DESCRIPTION:
URL:https://www.pachecocommunitycenter.com/events/private-event-baby-shower-7/
LOCATION:Pacheco Community Center\, 5800 Pacheco Blvd.\, Pacheco\, CA\, 94553\, United States
END:VEVENT
BEGIN:VEVENT
DTSTART;TZID=America/Los_Angeles:20221001T170000
DTEND;TZID=America/Los_Angeles:20221001T230000
DTSTAMP:20260423T035024
CREATED:20220727T185922Z
LAST-MODIFIED:20220727T185922Z
UID:4023-1664643600-1664665200@www.pachecocommunitycenter.com
SUMMARY:Private Event: Birthday Party
DESCRIPTION:
URL:https://www.pachecocommunitycenter.com/events/private-event-birthday-party-24/
LOCATION:Pacheco Community Center\, 5800 Pacheco Blvd.\, Pacheco\, CA\, 94553\, United States
END:VEVENT
BEGIN:VEVENT
DTSTART;TZID=America/Los_Angeles:20220923T080000
DTEND;TZID=America/Los_Angeles:20220923T123000
DTSTAMP:20260423T035024
CREATED:20220914T214116Z
LAST-MODIFIED:20220914T214116Z
UID:4041-1663920000-1663936200@www.pachecocommunitycenter.com
SUMMARY:Private Event: CCC Public Defenders Training
DESCRIPTION:
URL:https://www.pachecocommunitycenter.com/events/private-event-ccc-public-defenders-training-2/
LOCATION:Pacheco Community Center\, 5800 Pacheco Blvd.\, Pacheco\, CA\, 94553\, United States
END:VEVENT
BEGIN:VEVENT
DTSTART;TZID=America/Los_Angeles:20220917T110000
DTEND;TZID=America/Los_Angeles:20220917T150000
DTSTAMP:20260423T035024
CREATED:20220727T190721Z
LAST-MODIFIED:20220727T190721Z
UID:4033-1663412400-1663426800@www.pachecocommunitycenter.com
SUMMARY:Memorial Service for Kathryn Perry-Thayer
DESCRIPTION:Please join us for a memorial and celebration of life for our Beloved Kay\, who passed away June 13th\, 2022 just a few days after her 82nd birthday. \nKay devoted so much of her life and time as Building Manager and Board Member for the Pacheco Town Hall and Pacheco Town Council. She was instrumental in the construction and development of the current building that is the Pacheco Town Hall and Pacheco Community Center\, working and petitioning within the county to get the land our facility sits on approved and built and in turn offering it to the community. \nShe was in charge of all the public events that the Pacheco Town Council has put on for our community and our neighboring communities. She spent her personal funds as donations for everything that took place her that was free of charge to all. \nWe love her and we miss her so dearly.
URL:https://www.pachecocommunitycenter.com/events/memorial-service-for-kathryn-perry-thayer/
LOCATION:Pacheco Community Center\, 5800 Pacheco Blvd.\, Pacheco\, CA\, 94553\, United States
END:VEVENT
END:VCALENDAR