BEGIN:VCALENDAR
VERSION:2.0
PRODID:-//Pacheco Community Center - ECPv6.15.15//NONSGML v1.0//EN
CALSCALE:GREGORIAN
METHOD:PUBLISH
X-WR-CALNAME:Pacheco Community Center
X-ORIGINAL-URL:https://www.pachecocommunitycenter.com
X-WR-CALDESC:Events for Pacheco Community Center
REFRESH-INTERVAL;VALUE=DURATION:PT1H
X-Robots-Tag:noindex
X-PUBLISHED-TTL:PT1H
BEGIN:VTIMEZONE
TZID:America/Los_Angeles
BEGIN:DAYLIGHT
TZOFFSETFROM:-0800
TZOFFSETTO:-0700
TZNAME:PDT
DTSTART:20220313T100000
END:DAYLIGHT
BEGIN:STANDARD
TZOFFSETFROM:-0700
TZOFFSETTO:-0800
TZNAME:PST
DTSTART:20221106T090000
END:STANDARD
BEGIN:DAYLIGHT
TZOFFSETFROM:-0800
TZOFFSETTO:-0700
TZNAME:PDT
DTSTART:20230312T100000
END:DAYLIGHT
BEGIN:STANDARD
TZOFFSETFROM:-0700
TZOFFSETTO:-0800
TZNAME:PST
DTSTART:20231105T090000
END:STANDARD
BEGIN:DAYLIGHT
TZOFFSETFROM:-0800
TZOFFSETTO:-0700
TZNAME:PDT
DTSTART:20240310T100000
END:DAYLIGHT
BEGIN:STANDARD
TZOFFSETFROM:-0700
TZOFFSETTO:-0800
TZNAME:PST
DTSTART:20241103T090000
END:STANDARD
END:VTIMEZONE
BEGIN:VEVENT
DTSTART;TZID=America/Los_Angeles:20231217T110000
DTEND;TZID=America/Los_Angeles:20231217T170000
DTSTAMP:20260421T200800
CREATED:20231124T204801Z
LAST-MODIFIED:20231124T204801Z
UID:4768-1702810800-1702832400@www.pachecocommunitycenter.com
SUMMARY:Private Event: Birthday Party
DESCRIPTION:
URL:https://www.pachecocommunitycenter.com/events/private-event-birthday-party-32/
LOCATION:CA
END:VEVENT
BEGIN:VEVENT
DTSTART;TZID=America/Los_Angeles:20231216T160000
DTEND;TZID=America/Los_Angeles:20231216T220000
DTSTAMP:20260421T200800
CREATED:20231124T204323Z
LAST-MODIFIED:20231124T204323Z
UID:4766-1702742400-1702764000@www.pachecocommunitycenter.com
SUMMARY:Private Event: Birthday Party
DESCRIPTION:
URL:https://www.pachecocommunitycenter.com/events/private-event-birthday-party-31/
LOCATION:CA
END:VEVENT
BEGIN:VEVENT
DTSTART;TZID=America/Los_Angeles:20231216T110000
DTEND;TZID=America/Los_Angeles:20231216T140000
DTSTAMP:20260421T200800
CREATED:20231204T200926Z
LAST-MODIFIED:20231204T200926Z
UID:4804-1702724400-1702735200@www.pachecocommunitycenter.com
SUMMARY:Visit Santa
DESCRIPTION:Visit Santa
URL:https://www.pachecocommunitycenter.com/events/visit-santa/
LOCATION:CA
END:VEVENT
BEGIN:VEVENT
DTSTART;TZID=America/Los_Angeles:20231214T160000
DTEND;TZID=America/Los_Angeles:20231214T220000
DTSTAMP:20260421T200800
CREATED:20231124T205209Z
LAST-MODIFIED:20231124T205209Z
UID:4772-1702569600-1702591200@www.pachecocommunitycenter.com
SUMMARY:Private Event: CCCILSP Holiday Party
DESCRIPTION:
URL:https://www.pachecocommunitycenter.com/events/private-event-cccilsp-holiday-party/
LOCATION:CA
END:VEVENT
BEGIN:VEVENT
DTSTART;TZID=America/Los_Angeles:20231212T080000
DTEND;TZID=America/Los_Angeles:20231212T160000
DTSTAMP:20260421T200800
CREATED:20231124T210053Z
LAST-MODIFIED:20231124T210053Z
UID:4774-1702368000-1702396800@www.pachecocommunitycenter.com
SUMMARY:AARP Tax Aide Training
DESCRIPTION:
URL:https://www.pachecocommunitycenter.com/events/aarp-tax-aide-training/
LOCATION:CA
END:VEVENT
BEGIN:VEVENT
DTSTART;TZID=America/Los_Angeles:20231210T103000
DTEND;TZID=America/Los_Angeles:20231210T130000
DTSTAMP:20260421T200800
CREATED:20230913T231627Z
LAST-MODIFIED:20230913T231627Z
UID:4605-1702204200-1702213200@www.pachecocommunitycenter.com
SUMMARY:Private Event: NorCal Poodle Rescue Holiday Brunch
DESCRIPTION:
URL:https://www.pachecocommunitycenter.com/events/private-event-norcal-poodle-rescue-holiday-brunch/
LOCATION:CA
END:VEVENT
BEGIN:VEVENT
DTSTART;TZID=America/Los_Angeles:20231209T120000
DTEND;TZID=America/Los_Angeles:20231209T220000
DTSTAMP:20260421T200800
CREATED:20231124T201858Z
LAST-MODIFIED:20231124T203127Z
UID:4762-1702123200-1702159200@www.pachecocommunitycenter.com
SUMMARY:Private Event: Hamilton Tree Service Holiday Party
DESCRIPTION:
URL:https://www.pachecocommunitycenter.com/events/hamilton-tree-service-holiday-party/
LOCATION:CA
END:VEVENT
BEGIN:VEVENT
DTSTART;TZID=America/Los_Angeles:20231208T180000
DTEND;TZID=America/Los_Angeles:20231208T220000
DTSTAMP:20260421T200800
CREATED:20231124T201707Z
LAST-MODIFIED:20231124T201707Z
UID:4760-1702058400-1702072800@www.pachecocommunitycenter.com
SUMMARY:Private Event: Discovery House Alumni Holiday Party
DESCRIPTION:
URL:https://www.pachecocommunitycenter.com/events/private-event-discovery-house-alumni-holiday-party/
LOCATION:CA
END:VEVENT
BEGIN:VEVENT
DTSTART;TZID=America/Los_Angeles:20231203T150000
DTEND;TZID=America/Los_Angeles:20231203T220000
DTSTAMP:20260421T200800
CREATED:20230913T231310Z
LAST-MODIFIED:20230913T232025Z
UID:4599-1701615600-1701640800@www.pachecocommunitycenter.com
SUMMARY:Private Event: Diablo Valley Corvettes Holiday Dinner
DESCRIPTION:
URL:https://www.pachecocommunitycenter.com/events/diablo-valley-corvettes-holiday-dinner/
LOCATION:CA
END:VEVENT
BEGIN:VEVENT
DTSTART;TZID=America/Los_Angeles:20231202T170000
DTEND;TZID=America/Los_Angeles:20231202T230000
DTSTAMP:20260421T200800
CREATED:20230913T231426Z
LAST-MODIFIED:20230913T231426Z
UID:4601-1701536400-1701558000@www.pachecocommunitycenter.com
SUMMARY:Private Event: Birthday Party
DESCRIPTION:
URL:https://www.pachecocommunitycenter.com/events/private-event-birthday-party-30/
LOCATION:CA
END:VEVENT
BEGIN:VEVENT
DTSTART;VALUE=DATE:20231119
DTEND;VALUE=DATE:20231122
DTSTAMP:20260421T200800
CREATED:20231031T141505Z
LAST-MODIFIED:20231031T141505Z
UID:4655-1700355600-1700528399@www.pachecocommunitycenter.com
SUMMARY:Thanksgiving Meal pickup/delivery
DESCRIPTION:This year\, we are providing Thanksgiving meals to 10 Pacheco families in need.\nThanks to the Pacheco Municipal Advisory Council\, for donating the frozen turkeys! \nWe will be delivering meals November 19-20.  \nTHANK YOU!\nFor helping us to feed those in need. We appreciate every volunteer and donor who makes this free meal possible.
URL:https://www.pachecocommunitycenter.com/events/thanksgiving-meal-pickup-delivery/
LOCATION:CA
END:VEVENT
BEGIN:VEVENT
DTSTART;TZID=America/Los_Angeles:20231118T110000
DTEND;TZID=America/Los_Angeles:20231118T160000
DTSTAMP:20260421T200800
CREATED:20230913T231206Z
LAST-MODIFIED:20230913T231206Z
UID:4597-1700305200-1700323200@www.pachecocommunitycenter.com
SUMMARY:Contra Costa Housing Authority Open House
DESCRIPTION:
URL:https://www.pachecocommunitycenter.com/events/contra-costa-housing-authority-open-house-2/
LOCATION:CA
END:VEVENT
BEGIN:VEVENT
DTSTART;TZID=America/Los_Angeles:20231111T110000
DTEND;TZID=America/Los_Angeles:20231111T160000
DTSTAMP:20260421T200800
CREATED:20230913T231101Z
LAST-MODIFIED:20230913T231101Z
UID:4595-1699700400-1699718400@www.pachecocommunitycenter.com
SUMMARY:Private Event: Baby Shower
DESCRIPTION:
URL:https://www.pachecocommunitycenter.com/events/private-event-baby-shower-12/
LOCATION:CA
END:VEVENT
BEGIN:VEVENT
DTSTART;TZID=America/Los_Angeles:20231028T090000
DTEND;TZID=America/Los_Angeles:20231028T140000
DTSTAMP:20260421T200800
CREATED:20230913T230619Z
LAST-MODIFIED:20230913T230619Z
UID:4593-1698483600-1698501600@www.pachecocommunitycenter.com
SUMMARY:Pacheco Community Clean Up Day
DESCRIPTION:
URL:https://www.pachecocommunitycenter.com/events/pacheco-community-clean-up-day-3/
LOCATION:CA
END:VEVENT
BEGIN:VEVENT
DTSTART;TZID=America/Los_Angeles:20231021T080000
DTEND;TZID=America/Los_Angeles:20231021T140000
DTSTAMP:20260421T200800
CREATED:20230913T034621Z
LAST-MODIFIED:20230913T034621Z
UID:4584-1697875200-1697896800@www.pachecocommunitycenter.com
SUMMARY:Pacheco Community Rummage Sale
DESCRIPTION:
URL:https://www.pachecocommunitycenter.com/events/pacheco-community-rummage-sale/
LOCATION:Pacheco Community Center\, 5800 Pacheco Blvd.\, Pacheco\, CA\, 94553\, United States
CATEGORIES:Event
END:VEVENT
BEGIN:VEVENT
DTSTART;TZID=America/Los_Angeles:20231007T160000
DTEND;TZID=America/Los_Angeles:20231007T230000
DTSTAMP:20260421T200800
CREATED:20230913T230344Z
LAST-MODIFIED:20230913T230344Z
UID:4587-1696694400-1696719600@www.pachecocommunitycenter.com
SUMMARY:Private Event: Promotion Party
DESCRIPTION:
URL:https://www.pachecocommunitycenter.com/events/private-event-promotion-party/
LOCATION:CA
END:VEVENT
BEGIN:VEVENT
DTSTART;TZID=America/Los_Angeles:20231006T080000
DTEND;TZID=America/Los_Angeles:20231006T120000
DTSTAMP:20260421T200800
CREATED:20230913T230504Z
LAST-MODIFIED:20230913T230504Z
UID:4589-1696579200-1696593600@www.pachecocommunitycenter.com
SUMMARY:Richlen Construction  Safety Training
DESCRIPTION:
URL:https://www.pachecocommunitycenter.com/events/richlen-construction-safety-training/
LOCATION:CA
END:VEVENT
BEGIN:VEVENT
DTSTART;TZID=America/Los_Angeles:20231005T100000
DTEND;TZID=America/Los_Angeles:20231005T130000
DTSTAMP:20260421T200800
CREATED:20230913T230547Z
LAST-MODIFIED:20230913T230547Z
UID:4591-1696500000-1696510800@www.pachecocommunitycenter.com
SUMMARY:Retiree Support Group Meeting
DESCRIPTION:
URL:https://www.pachecocommunitycenter.com/events/retiree-support-group-meeting-3/
LOCATION:CA
END:VEVENT
BEGIN:VEVENT
DTSTART;TZID=America/Los_Angeles:20230922T080000
DTEND;TZID=America/Los_Angeles:20230922T140000
DTSTAMP:20260421T200800
CREATED:20230916T054652Z
LAST-MODIFIED:20230916T054652Z
UID:4615-1695369600-1695391200@www.pachecocommunitycenter.com
SUMMARY:Contra Costa Public Defenders Training
DESCRIPTION:
URL:https://www.pachecocommunitycenter.com/events/contra-costa-public-defenders-training/
LOCATION:CA
END:VEVENT
BEGIN:VEVENT
DTSTART;TZID=America/Los_Angeles:20230909T110000
DTEND;TZID=America/Los_Angeles:20230909T160000
DTSTAMP:20260421T200800
CREATED:20230726T174705Z
LAST-MODIFIED:20230726T174705Z
UID:4548-1694257200-1694275200@www.pachecocommunitycenter.com
SUMMARY:Private Event: Baby Shower
DESCRIPTION:
URL:https://www.pachecocommunitycenter.com/events/private-event-baby-shower-11/
LOCATION:Pacheco Community Center\, 5800 Pacheco Blvd.\, Pacheco\, CA\, 94553\, United States
END:VEVENT
BEGIN:VEVENT
DTSTART;VALUE=DATE:20230901
DTEND;VALUE=DATE:20230906
DTSTAMP:20260421T200800
CREATED:20230726T174910Z
LAST-MODIFIED:20230726T174910Z
UID:4553-1693530000-1693875599@www.pachecocommunitycenter.com
SUMMARY:Pacheco Community Center Closed
DESCRIPTION:
URL:https://www.pachecocommunitycenter.com/events/pacheco-community-center-closed-15/
LOCATION:Pacheco Community Center\, 5800 Pacheco Blvd.\, Pacheco\, CA\, 94553\, United States
END:VEVENT
BEGIN:VEVENT
DTSTART;TZID=America/Los_Angeles:20230824T113000
DTEND;TZID=America/Los_Angeles:20230824T130000
DTSTAMP:20260421T200800
CREATED:20230726T174613Z
LAST-MODIFIED:20230726T174613Z
UID:4546-1692876600-1692882000@www.pachecocommunitycenter.com
SUMMARY:CCC Housing Authority Meeting
DESCRIPTION:
URL:https://www.pachecocommunitycenter.com/events/ccc-housing-authority-meeting/
LOCATION:Pacheco Community Center\, 5800 Pacheco Blvd.\, Pacheco\, CA\, 94553\, United States
END:VEVENT
BEGIN:VEVENT
DTSTART;TZID=America/Los_Angeles:20230823T080000
DTEND;TZID=America/Los_Angeles:20230823T160000
DTSTAMP:20260421T200800
CREATED:20230726T174504Z
LAST-MODIFIED:20230726T174504Z
UID:4544-1692777600-1692806400@www.pachecocommunitycenter.com
SUMMARY:Lifeline Screening Public Health Screening
DESCRIPTION:
URL:https://www.pachecocommunitycenter.com/events/lifeline-screening-public-health-screening-2/
LOCATION:Pacheco Community Center\, 5800 Pacheco Blvd.\, Pacheco\, CA\, 94553\, United States
END:VEVENT
BEGIN:VEVENT
DTSTART;TZID=America/Los_Angeles:20230819T100000
DTEND;TZID=America/Los_Angeles:20230819T150000
DTSTAMP:20260421T200800
CREATED:20230726T174218Z
LAST-MODIFIED:20230726T174218Z
UID:4540-1692439200-1692457200@www.pachecocommunitycenter.com
SUMMARY:Private Event: Celebration of Life
DESCRIPTION:
URL:https://www.pachecocommunitycenter.com/events/private-event-celebration-of-life-20/
LOCATION:Pacheco Community Center\, 5800 Pacheco Blvd.\, Pacheco\, CA\, 94553\, United States
END:VEVENT
BEGIN:VEVENT
DTSTART;TZID=America/Los_Angeles:20230803T100000
DTEND;TZID=America/Los_Angeles:20230803T130000
DTSTAMP:20260421T200800
CREATED:20230726T174434Z
LAST-MODIFIED:20230726T174434Z
UID:4542-1691056800-1691067600@www.pachecocommunitycenter.com
SUMMARY:Retiree Support Group Meeting
DESCRIPTION:
URL:https://www.pachecocommunitycenter.com/events/retiree-support-group-meeting-2/
LOCATION:Pacheco Community Center\, 5800 Pacheco Blvd.\, Pacheco\, CA\, 94553\, United States
END:VEVENT
BEGIN:VEVENT
DTSTART;TZID=America/Los_Angeles:20230729T130000
DTEND;TZID=America/Los_Angeles:20230729T230000
DTSTAMP:20260421T200800
CREATED:20230726T173740Z
LAST-MODIFIED:20230726T173740Z
UID:4533-1690635600-1690671600@www.pachecocommunitycenter.com
SUMMARY:Private Event: Baptism
DESCRIPTION:
URL:https://www.pachecocommunitycenter.com/events/private-event-baptism-8/
LOCATION:Pacheco Community Center\, 5800 Pacheco Blvd.\, Pacheco\, CA\, 94553\, United States
END:VEVENT
BEGIN:VEVENT
DTSTART;TZID=America/Los_Angeles:20230715T130000
DTEND;TZID=America/Los_Angeles:20230715T230000
DTSTAMP:20260421T200800
CREATED:20230726T173721Z
LAST-MODIFIED:20230726T173721Z
UID:4531-1689426000-1689462000@www.pachecocommunitycenter.com
SUMMARY:Private Event: Family Reunion
DESCRIPTION:
URL:https://www.pachecocommunitycenter.com/events/private-event-family-reunion-2/
LOCATION:Pacheco Community Center\, 5800 Pacheco Blvd.\, Pacheco\, CA\, 94553\, United States
END:VEVENT
BEGIN:VEVENT
DTSTART;TZID=America/Los_Angeles:20230708T120000
DTEND;TZID=America/Los_Angeles:20230708T190000
DTSTAMP:20260421T200800
CREATED:20230726T173653Z
LAST-MODIFIED:20230726T173653Z
UID:4529-1688817600-1688842800@www.pachecocommunitycenter.com
SUMMARY:Private Event: Birthday Party
DESCRIPTION:
URL:https://www.pachecocommunitycenter.com/events/private-event-birthday-party-28/
LOCATION:Pacheco Community Center\, 5800 Pacheco Blvd.\, Pacheco\, CA\, 94553\, United States
END:VEVENT
BEGIN:VEVENT
DTSTART;VALUE=DATE:20230630
DTEND;VALUE=DATE:20230705
DTSTAMP:20260421T200800
CREATED:20230726T173818Z
LAST-MODIFIED:20230726T173818Z
UID:4535-1688086800-1688432399@www.pachecocommunitycenter.com
SUMMARY:Pacheco Community Center Closed
DESCRIPTION:
URL:https://www.pachecocommunitycenter.com/events/pacheco-community-center-closed-14/
LOCATION:Pacheco Community Center\, 5800 Pacheco Blvd.\, Pacheco\, CA\, 94553\, United States
END:VEVENT
BEGIN:VEVENT
DTSTART;TZID=America/Los_Angeles:20230611T113000
DTEND;TZID=America/Los_Angeles:20230611T140000
DTSTAMP:20260421T200800
CREATED:20230414T221229Z
LAST-MODIFIED:20230414T221229Z
UID:4306-1686483000-1686492000@www.pachecocommunitycenter.com
SUMMARY:Private Event: Tech Trek Ice Cream Social
DESCRIPTION:
URL:https://www.pachecocommunitycenter.com/events/private-event-tech-trek-ice-cream-social/
LOCATION:Pacheco Community Center\, 5800 Pacheco Blvd.\, Pacheco\, CA\, 94553\, United States
END:VEVENT
END:VCALENDAR