BEGIN:VCALENDAR
VERSION:2.0
PRODID:-//Pacheco Community Center - ECPv6.15.15//NONSGML v1.0//EN
CALSCALE:GREGORIAN
METHOD:PUBLISH
X-WR-CALNAME:Pacheco Community Center
X-ORIGINAL-URL:https://www.pachecocommunitycenter.com
X-WR-CALDESC:Events for Pacheco Community Center
REFRESH-INTERVAL;VALUE=DURATION:PT1H
X-Robots-Tag:noindex
X-PUBLISHED-TTL:PT1H
BEGIN:VTIMEZONE
TZID:America/Los_Angeles
BEGIN:DAYLIGHT
TZOFFSETFROM:-0800
TZOFFSETTO:-0700
TZNAME:PDT
DTSTART:20230312T100000
END:DAYLIGHT
BEGIN:STANDARD
TZOFFSETFROM:-0700
TZOFFSETTO:-0800
TZNAME:PST
DTSTART:20231105T090000
END:STANDARD
BEGIN:DAYLIGHT
TZOFFSETFROM:-0800
TZOFFSETTO:-0700
TZNAME:PDT
DTSTART:20240310T100000
END:DAYLIGHT
BEGIN:STANDARD
TZOFFSETFROM:-0700
TZOFFSETTO:-0800
TZNAME:PST
DTSTART:20241103T090000
END:STANDARD
BEGIN:DAYLIGHT
TZOFFSETFROM:-0800
TZOFFSETTO:-0700
TZNAME:PDT
DTSTART:20250309T100000
END:DAYLIGHT
BEGIN:STANDARD
TZOFFSETFROM:-0700
TZOFFSETTO:-0800
TZNAME:PST
DTSTART:20251102T090000
END:STANDARD
END:VTIMEZONE
BEGIN:VEVENT
DTSTART;TZID=America/Los_Angeles:20240307T163000
DTEND;TZID=America/Los_Angeles:20240307T183000
DTSTAMP:20260419T234340
CREATED:20240404T003317Z
LAST-MODIFIED:20240404T003317Z
UID:5359-1709829000-1709836200@www.pachecocommunitycenter.com
SUMMARY:New You Dance Center Dance Class
DESCRIPTION:New You Dance Class
URL:https://www.pachecocommunitycenter.com/events/new-you-dance-center-dance-class-49/
LOCATION:Pacheco Community Center\, 5800 Pacheco Blvd.\, Pacheco\, CA\, 94553\, United States
ORGANIZER;CN="New You Dance Center":MAILTO:newyoudancecenter@gmail.com
END:VEVENT
BEGIN:VEVENT
DTSTART;TZID=America/Los_Angeles:20240306T190000
DTEND;TZID=America/Los_Angeles:20240306T213000
DTSTAMP:20260419T234340
CREATED:20240313T230422Z
LAST-MODIFIED:20240313T230422Z
UID:5216-1709751600-1709760600@www.pachecocommunitycenter.com
SUMMARY:Martinez Swingers Square Dance
DESCRIPTION:Plus Program Workshop
URL:https://www.pachecocommunitycenter.com/events/martinez-swingers-square-dance-17/
LOCATION:Pacheco Community Center\, 5800 Pacheco Blvd.\, Pacheco\, CA\, 94553\, United States
END:VEVENT
BEGIN:VEVENT
DTSTART;TZID=America/Los_Angeles:20240306T173000
DTEND;TZID=America/Los_Angeles:20240306T184500
DTSTAMP:20260419T234340
CREATED:20240313T231251Z
LAST-MODIFIED:20240313T231337Z
UID:5221-1709746200-1709750700@www.pachecocommunitycenter.com
SUMMARY:New You Dance Center Dance Class
DESCRIPTION:New You Dance Class
URL:https://www.pachecocommunitycenter.com/events/5221/
LOCATION:Pacheco Community Center\, 5800 Pacheco Blvd.\, Pacheco\, CA\, 94553\, United States
ORGANIZER;CN="New You Dance Center":MAILTO:newyoudancecenter@gmail.com
END:VEVENT
BEGIN:VEVENT
DTSTART;TZID=America/Los_Angeles:20240305T070000
DTEND;TZID=America/Los_Angeles:20240305T200000
DTSTAMP:20260419T234340
CREATED:20240207T222044Z
LAST-MODIFIED:20240207T222044Z
UID:4860-1709622000-1709668800@www.pachecocommunitycenter.com
SUMMARY:CCCounty Elections Polling Place
DESCRIPTION:
URL:https://www.pachecocommunitycenter.com/events/cccounty-elections-polling-place/
LOCATION:CA
END:VEVENT
BEGIN:VEVENT
DTSTART;TZID=America/Los_Angeles:20240302T110000
DTEND;TZID=America/Los_Angeles:20240302T123000
DTSTAMP:20260419T234340
CREATED:20240207T222232Z
LAST-MODIFIED:20240207T222232Z
UID:4862-1709377200-1709382600@www.pachecocommunitycenter.com
SUMMARY:Conference Room Meeting: Martinez Swingers
DESCRIPTION:
URL:https://www.pachecocommunitycenter.com/events/conference-room-meeting-martinez-swingers/
LOCATION:CA
END:VEVENT
BEGIN:VEVENT
DTSTART;TZID=America/Los_Angeles:20240229T163000
DTEND;TZID=America/Los_Angeles:20240229T183000
DTSTAMP:20260419T234340
CREATED:20240207T223944Z
LAST-MODIFIED:20240207T223944Z
UID:4902-1709224200-1709231400@www.pachecocommunitycenter.com
SUMMARY:New You Dance Center Dance Class
DESCRIPTION:
URL:https://www.pachecocommunitycenter.com/events/new-you-dance-center-dance-class-9/
LOCATION:CA
END:VEVENT
BEGIN:VEVENT
DTSTART;TZID=America/Los_Angeles:20240228T190000
DTEND;TZID=America/Los_Angeles:20240228T213000
DTSTAMP:20260419T234340
CREATED:20240207T223228Z
LAST-MODIFIED:20240207T223228Z
UID:4884-1709146800-1709155800@www.pachecocommunitycenter.com
SUMMARY:Martinez Swingers Square Dance
DESCRIPTION:
URL:https://www.pachecocommunitycenter.com/events/martinez-swingers-square-dance-8/
LOCATION:CA
END:VEVENT
BEGIN:VEVENT
DTSTART;TZID=America/Los_Angeles:20240228T173000
DTEND;TZID=America/Los_Angeles:20240228T184500
DTSTAMP:20260419T234340
CREATED:20240207T223803Z
LAST-MODIFIED:20240207T223803Z
UID:4892-1709141400-1709145900@www.pachecocommunitycenter.com
SUMMARY:New You Dance Center Dance Class
DESCRIPTION:
URL:https://www.pachecocommunitycenter.com/events/new-you-dance-center-dance-class-4/
LOCATION:CA
END:VEVENT
BEGIN:VEVENT
DTSTART;TZID=America/Los_Angeles:20240227T190000
DTEND;TZID=America/Los_Angeles:20240227T213000
DTSTAMP:20260419T234340
CREATED:20240207T222934Z
LAST-MODIFIED:20240207T222934Z
UID:4876-1709060400-1709069400@www.pachecocommunitycenter.com
SUMMARY:Martinez Swingers Square Dance
DESCRIPTION:
URL:https://www.pachecocommunitycenter.com/events/martinez-swingers-square-dance-4/
LOCATION:CA
END:VEVENT
BEGIN:VEVENT
DTSTART;TZID=America/Los_Angeles:20240227T090000
DTEND;TZID=America/Los_Angeles:20240227T150000
DTSTAMP:20260419T234340
CREATED:20240125T193240Z
LAST-MODIFIED:20240125T193240Z
UID:4837-1709024400-1709046000@www.pachecocommunitycenter.com
SUMMARY:AARP Tax Aide - By Appt
DESCRIPTION:AARP Tax Aide will be at the Pacheco Community Center\nDates Open: 2/1/2024 – 4/15/2024\nTuesdays only 9am – 3pm\nBy appointment only – to reserve an appointment\, call (925) 276-2590\nFor more information go here
URL:https://www.pachecocommunitycenter.com/events/aarp-tax-aide-by-appt-3/
LOCATION:Pacheco Community Center\, 5800 Pacheco Blvd.\, Pacheco\, CA\, 94553\, United States
END:VEVENT
BEGIN:VEVENT
DTSTART;TZID=America/Los_Angeles:20240222T163000
DTEND;TZID=America/Los_Angeles:20240222T183000
DTSTAMP:20260419T234340
CREATED:20240207T223922Z
LAST-MODIFIED:20240207T223922Z
UID:4900-1708619400-1708626600@www.pachecocommunitycenter.com
SUMMARY:New You Dance Center Dance Class
DESCRIPTION:
URL:https://www.pachecocommunitycenter.com/events/new-you-dance-center-dance-class-8/
LOCATION:CA
END:VEVENT
BEGIN:VEVENT
DTSTART;TZID=America/Los_Angeles:20240221T190000
DTEND;TZID=America/Los_Angeles:20240221T213000
DTSTAMP:20260419T234340
CREATED:20240207T223205Z
LAST-MODIFIED:20240207T223205Z
UID:4882-1708542000-1708551000@www.pachecocommunitycenter.com
SUMMARY:Martinez Swingers Square Dance
DESCRIPTION:
URL:https://www.pachecocommunitycenter.com/events/martinez-swingers-square-dance-7/
LOCATION:CA
END:VEVENT
BEGIN:VEVENT
DTSTART;TZID=America/Los_Angeles:20240221T173000
DTEND;TZID=America/Los_Angeles:20240221T184500
DTSTAMP:20260419T234340
CREATED:20240207T223736Z
LAST-MODIFIED:20240207T223736Z
UID:4890-1708536600-1708541100@www.pachecocommunitycenter.com
SUMMARY:New You Dance Center Dance Class
DESCRIPTION:
URL:https://www.pachecocommunitycenter.com/events/new-you-dance-center-dance-class-3/
LOCATION:CA
END:VEVENT
BEGIN:VEVENT
DTSTART;TZID=America/Los_Angeles:20240220T190000
DTEND;TZID=America/Los_Angeles:20240220T213000
DTSTAMP:20260419T234340
CREATED:20240207T222911Z
LAST-MODIFIED:20240207T222911Z
UID:4874-1708455600-1708464600@www.pachecocommunitycenter.com
SUMMARY:Martinez Swingers Square Dance
DESCRIPTION:
URL:https://www.pachecocommunitycenter.com/events/martinez-swingers-square-dance-3/
LOCATION:CA
END:VEVENT
BEGIN:VEVENT
DTSTART;TZID=America/Los_Angeles:20240220T090000
DTEND;TZID=America/Los_Angeles:20240220T150000
DTSTAMP:20260419T234340
CREATED:20240125T192130Z
LAST-MODIFIED:20240125T192130Z
UID:4834-1708419600-1708441200@www.pachecocommunitycenter.com
SUMMARY:AARP Tax Aide - By Appt
DESCRIPTION:AARP Tax Aide will be at the Pacheco Community Center\nDates Open: 2/1/2024 – 4/15/2024\nTuesdays only 9am – 3pm\nBy appointment only – to reserve an appointment\, call (925) 276-2590\nFor more information go here
URL:https://www.pachecocommunitycenter.com/events/aarp-tax-aide-by-appt-2/
LOCATION:Pacheco Community Center\, 5800 Pacheco Blvd.\, Pacheco\, CA\, 94553\, United States
END:VEVENT
BEGIN:VEVENT
DTSTART;TZID=America/Los_Angeles:20240215T163000
DTEND;TZID=America/Los_Angeles:20240215T183000
DTSTAMP:20260419T234340
CREATED:20240207T223905Z
LAST-MODIFIED:20240207T223905Z
UID:4898-1708014600-1708021800@www.pachecocommunitycenter.com
SUMMARY:New You Dance Center Dance Class
DESCRIPTION:
URL:https://www.pachecocommunitycenter.com/events/new-you-dance-center-dance-class-7/
LOCATION:CA
END:VEVENT
BEGIN:VEVENT
DTSTART;TZID=America/Los_Angeles:20240214T190000
DTEND;TZID=America/Los_Angeles:20240214T213000
DTSTAMP:20260419T234340
CREATED:20240207T223144Z
LAST-MODIFIED:20240207T223144Z
UID:4880-1707937200-1707946200@www.pachecocommunitycenter.com
SUMMARY:Martinez Swingers Square Dance
DESCRIPTION:
URL:https://www.pachecocommunitycenter.com/events/martinez-swingers-square-dance-6/
LOCATION:CA
END:VEVENT
BEGIN:VEVENT
DTSTART;TZID=America/Los_Angeles:20240214T173000
DTEND;TZID=America/Los_Angeles:20240214T184500
DTSTAMP:20260419T234340
CREATED:20240207T223714Z
LAST-MODIFIED:20240207T223714Z
UID:4888-1707931800-1707936300@www.pachecocommunitycenter.com
SUMMARY:New You Dance Center Dance Class
DESCRIPTION:
URL:https://www.pachecocommunitycenter.com/events/new-you-dance-center-dance-class-2/
LOCATION:CA
END:VEVENT
BEGIN:VEVENT
DTSTART;TZID=America/Los_Angeles:20240213T190000
DTEND;TZID=America/Los_Angeles:20240213T213000
DTSTAMP:20260419T234340
CREATED:20240207T222850Z
LAST-MODIFIED:20240207T222850Z
UID:4872-1707850800-1707859800@www.pachecocommunitycenter.com
SUMMARY:Martinez Swingers Square Dance
DESCRIPTION:
URL:https://www.pachecocommunitycenter.com/events/martinez-swingers-square-dance-2/
LOCATION:CA
END:VEVENT
BEGIN:VEVENT
DTSTART;TZID=America/Los_Angeles:20240213T090000
DTEND;TZID=America/Los_Angeles:20240213T150000
DTSTAMP:20260419T234340
CREATED:20240125T192002Z
LAST-MODIFIED:20240125T192634Z
UID:4831-1707814800-1707836400@www.pachecocommunitycenter.com
SUMMARY:AARP Tax Aide - By Appt
DESCRIPTION:AARP Tax Aide will be at the Pacheco Community Center\nDates Open: 2/1/2024 – 4/15/2024\nTuesdays only 9am – 3pm\nBy appointment only – to reserve an appointment\, call (925) 276-2590\nFor more information go here
URL:https://www.pachecocommunitycenter.com/events/4831/
LOCATION:Pacheco Community Center\, 5800 Pacheco Blvd.\, Pacheco\, CA\, 94553\, United States
END:VEVENT
BEGIN:VEVENT
DTSTART;TZID=America/Los_Angeles:20240212T080000
DTEND;TZID=America/Los_Angeles:20240212T140000
DTSTAMP:20260419T234340
CREATED:20240207T222409Z
LAST-MODIFIED:20240207T222409Z
UID:4866-1707724800-1707746400@www.pachecocommunitycenter.com
SUMMARY:CCC Public Defenders Training
DESCRIPTION:
URL:https://www.pachecocommunitycenter.com/events/ccc-public-defenders-training/
LOCATION:CA
END:VEVENT
BEGIN:VEVENT
DTSTART;VALUE=DATE:20240211
DTEND;VALUE=DATE:20240213
DTSTAMP:20260419T234340
CREATED:20240207T224040Z
LAST-MODIFIED:20240207T224040Z
UID:4904-1707613200-1707699599@www.pachecocommunitycenter.com
SUMMARY:PCC Closed
DESCRIPTION:
URL:https://www.pachecocommunitycenter.com/events/pcc-closed-2/
LOCATION:CA
END:VEVENT
BEGIN:VEVENT
DTSTART;TZID=America/Los_Angeles:20240208T163000
DTEND;TZID=America/Los_Angeles:20240208T183000
DTSTAMP:20260419T234340
CREATED:20240207T223844Z
LAST-MODIFIED:20240207T223844Z
UID:4896-1707409800-1707417000@www.pachecocommunitycenter.com
SUMMARY:New You Dance Center Dance Class
DESCRIPTION:
URL:https://www.pachecocommunitycenter.com/events/new-you-dance-center-dance-class-6/
LOCATION:CA
END:VEVENT
BEGIN:VEVENT
DTSTART;TZID=America/Los_Angeles:20240207T190000
DTEND;TZID=America/Los_Angeles:20240207T213000
DTSTAMP:20260419T234340
CREATED:20240207T223123Z
LAST-MODIFIED:20240207T223123Z
UID:4878-1707332400-1707341400@www.pachecocommunitycenter.com
SUMMARY:Martinez Swingers Square Dance
DESCRIPTION:
URL:https://www.pachecocommunitycenter.com/events/martinez-swingers-square-dance-5/
LOCATION:CA
END:VEVENT
BEGIN:VEVENT
DTSTART;TZID=America/Los_Angeles:20240207T173000
DTEND;TZID=America/Los_Angeles:20240207T184500
DTSTAMP:20260419T234340
CREATED:20240207T223652Z
LAST-MODIFIED:20240207T223652Z
UID:4886-1707327000-1707331500@www.pachecocommunitycenter.com
SUMMARY:New You Dance Center Dance Class
DESCRIPTION:
URL:https://www.pachecocommunitycenter.com/events/new-you-dance-center-dance-class/
LOCATION:CA
END:VEVENT
BEGIN:VEVENT
DTSTART;TZID=America/Los_Angeles:20240206T190000
DTEND;TZID=America/Los_Angeles:20240206T213000
DTSTAMP:20260419T234340
CREATED:20240207T222725Z
LAST-MODIFIED:20240207T222725Z
UID:4870-1707246000-1707255000@www.pachecocommunitycenter.com
SUMMARY:Martinez Swingers Square Dance
DESCRIPTION:
URL:https://www.pachecocommunitycenter.com/events/martinez-swingers-square-dance/
LOCATION:CA
END:VEVENT
BEGIN:VEVENT
DTSTART;TZID=America/Los_Angeles:20240206T090000
DTEND;TZID=America/Los_Angeles:20240206T150000
DTSTAMP:20260419T234340
CREATED:20240125T191138Z
LAST-MODIFIED:20240125T191248Z
UID:4829-1707210000-1707231600@www.pachecocommunitycenter.com
SUMMARY:AARP Tax Aide - By Appt
DESCRIPTION:AARP Tax Aide will be at the Pacheco Community Center\nDates Open: 2/1/2024 – 4/15/2024\nTuesdays only 9am – 3pm\nBy appointment only – to reserve an appointment\, call (925) 276-2590\nFor more information go here
URL:https://www.pachecocommunitycenter.com/events/aarp-tax-aide-by-appt/
LOCATION:Pacheco Community Center\, 5800 Pacheco Blvd.\, Pacheco\, CA\, 94553\, United States
CATEGORIES:Event
END:VEVENT
BEGIN:VEVENT
DTSTART;TZID=America/Los_Angeles:20240201T163000
DTEND;TZID=America/Los_Angeles:20240201T183000
DTSTAMP:20260419T234340
CREATED:20240207T223826Z
LAST-MODIFIED:20240207T223826Z
UID:4894-1706805000-1706812200@www.pachecocommunitycenter.com
SUMMARY:New You Dance Center Dance Class
DESCRIPTION:
URL:https://www.pachecocommunitycenter.com/events/new-you-dance-center-dance-class-5/
LOCATION:CA
END:VEVENT
BEGIN:VEVENT
DTSTART;TZID=America/Los_Angeles:20240201T100000
DTEND;TZID=America/Los_Angeles:20240201T130000
DTSTAMP:20260419T234340
CREATED:20240207T222447Z
LAST-MODIFIED:20240207T222447Z
UID:4868-1706781600-1706792400@www.pachecocommunitycenter.com
SUMMARY:Retiree Support Group Meeting
DESCRIPTION:
URL:https://www.pachecocommunitycenter.com/events/retiree-support-group-meeting-4/
LOCATION:CA
END:VEVENT
BEGIN:VEVENT
DTSTART;TZID=America/Los_Angeles:20240127T130000
DTEND;TZID=America/Los_Angeles:20240127T180000
DTSTAMP:20260419T234340
CREATED:20231124T205015Z
LAST-MODIFIED:20231124T205015Z
UID:4770-1706360400-1706378400@www.pachecocommunitycenter.com
SUMMARY:Private Event: Celebration of Life
DESCRIPTION:
URL:https://www.pachecocommunitycenter.com/events/private-event-celebration-of-life-21/
LOCATION:CA
END:VEVENT
END:VCALENDAR