BEGIN:VCALENDAR
VERSION:2.0
PRODID:-//Pacheco Community Center - ECPv6.15.15//NONSGML v1.0//EN
CALSCALE:GREGORIAN
METHOD:PUBLISH
X-ORIGINAL-URL:https://www.pachecocommunitycenter.com
X-WR-CALDESC:Events for Pacheco Community Center
REFRESH-INTERVAL;VALUE=DURATION:PT1H
X-Robots-Tag:noindex
X-PUBLISHED-TTL:PT1H
BEGIN:VTIMEZONE
TZID:America/Los_Angeles
BEGIN:DAYLIGHT
TZOFFSETFROM:-0800
TZOFFSETTO:-0700
TZNAME:PDT
DTSTART:20250309T100000
END:DAYLIGHT
BEGIN:STANDARD
TZOFFSETFROM:-0700
TZOFFSETTO:-0800
TZNAME:PST
DTSTART:20251102T090000
END:STANDARD
BEGIN:DAYLIGHT
TZOFFSETFROM:-0800
TZOFFSETTO:-0700
TZNAME:PDT
DTSTART:20260308T100000
END:DAYLIGHT
BEGIN:STANDARD
TZOFFSETFROM:-0700
TZOFFSETTO:-0800
TZNAME:PST
DTSTART:20261101T090000
END:STANDARD
BEGIN:DAYLIGHT
TZOFFSETFROM:-0800
TZOFFSETTO:-0700
TZNAME:PDT
DTSTART:20270314T100000
END:DAYLIGHT
BEGIN:STANDARD
TZOFFSETFROM:-0700
TZOFFSETTO:-0800
TZNAME:PST
DTSTART:20271107T090000
END:STANDARD
END:VTIMEZONE
BEGIN:VEVENT
DTSTART;TZID=America/Los_Angeles:20260304T120000
DTEND;TZID=America/Los_Angeles:20260304T130000
DTSTAMP:20260419T220604
CREATED:20260131T191357Z
LAST-MODIFIED:20260131T191357Z
UID:6715-1772625600-1772629200@www.pachecocommunitycenter.com
SUMMARY:FREE PRODUCE BY FOOD BANK OF CC & SOLANO
DESCRIPTION:IN PARTNERSHIP WITH FOOD BANK OF CONTRA COSTA & SOLANO\, WE WILL PROVIDE FREE PRODUCE TO ONE PERSON PER FAMILY. BRING ONE OR TWO BAGS WITH HANDLES. MUST BE PRESENT TO RECEIVE FOOD
URL:https://www.pachecocommunitycenter.com/events/free-produce-by-food-bank-of-cc-solano-21/
LOCATION:Pacheco Community Center Parking Lot\, 5800 Pacheco Blvd\, Pacheco\, California\, 94553
ORGANIZER;CN="FOOD BANK of CONTRA COSTA and SOLANO":MAILTO:info@foodbankccs.org
END:VEVENT
BEGIN:VEVENT
DTSTART;TZID=America/Los_Angeles:20260304T190000
DTEND;TZID=America/Los_Angeles:20260304T213000
DTSTAMP:20260419T220604
CREATED:20251108T195157Z
LAST-MODIFIED:20251108T195157Z
UID:6545-1772650800-1772659800@www.pachecocommunitycenter.com
SUMMARY:Martinez Swingers Square Dance
DESCRIPTION:
URL:https://www.pachecocommunitycenter.com/events/martinez-swingers-square-dance-223/
LOCATION:Pacheco Community Center\, 5800 Pacheco Blvd.\, Pacheco\, CA\, 94553\, United States
END:VEVENT
BEGIN:VEVENT
DTSTART;TZID=America/Los_Angeles:20260305T090000
DTEND;TZID=America/Los_Angeles:20260305T130000
DTSTAMP:20260419T220604
CREATED:20260327T205429Z
LAST-MODIFIED:20260327T205429Z
UID:6858-1772701200-1772715600@www.pachecocommunitycenter.com
SUMMARY:Concord Day Adult Program
DESCRIPTION:Concord Day Adult Program
URL:https://www.pachecocommunitycenter.com/events/concord-day-adult-program-147/
LOCATION:Pacheco Community Center\, 5800 Pacheco Blvd.\, Pacheco\, CA\, 94553\, United States
END:VEVENT
BEGIN:VEVENT
DTSTART;TZID=America/Los_Angeles:20260306T090000
DTEND;TZID=America/Los_Angeles:20260306T130000
DTSTAMP:20260419T220604
CREATED:20260327T205429Z
LAST-MODIFIED:20260327T205429Z
UID:6859-1772787600-1772802000@www.pachecocommunitycenter.com
SUMMARY:Concord Day Adult Program
DESCRIPTION:Concord Day Adult Program
URL:https://www.pachecocommunitycenter.com/events/concord-day-adult-program-148/
LOCATION:Pacheco Community Center\, 5800 Pacheco Blvd.\, Pacheco\, CA\, 94553\, United States
END:VEVENT
BEGIN:VEVENT
DTSTART;TZID=America/Los_Angeles:20260307T110000
DTEND;TZID=America/Los_Angeles:20260307T130000
DTSTAMP:20260419T220604
CREATED:20251108T193942Z
LAST-MODIFIED:20251108T193945Z
UID:6513-1772881200-1772888400@www.pachecocommunitycenter.com
SUMMARY:Martinez Swingers Club Meeting
DESCRIPTION:Club members only – meeting in conference room
URL:https://www.pachecocommunitycenter.com/events/martinez-swingers-club-meeting-5/
LOCATION:Conference Room at PCC\, 5800 Pacheco Blvd\, Pacheco\, California\, 94553
END:VEVENT
BEGIN:VEVENT
DTSTART;TZID=America/Los_Angeles:20260309T090000
DTEND;TZID=America/Los_Angeles:20260309T130000
DTSTAMP:20260419T220604
CREATED:20260327T205442Z
LAST-MODIFIED:20260327T205442Z
UID:6860-1773046800-1773061200@www.pachecocommunitycenter.com
SUMMARY:Concord Day Adult Program
DESCRIPTION:Concord Day Adult Program
URL:https://www.pachecocommunitycenter.com/events/concord-day-adult-program-149/
LOCATION:Pacheco Community Center\, 5800 Pacheco Blvd.\, Pacheco\, CA\, 94553\, United States
END:VEVENT
BEGIN:VEVENT
DTSTART;TZID=America/Los_Angeles:20260310T090000
DTEND;TZID=America/Los_Angeles:20260310T090000
DTSTAMP:20260419T220604
CREATED:20260224T010127Z
LAST-MODIFIED:20260224T010127Z
UID:6754-1773133200-1773133200@www.pachecocommunitycenter.com
SUMMARY:AARP Tax-Aide
DESCRIPTION:AARP Tax-Aide by appointment only
URL:https://www.pachecocommunitycenter.com/events/aarp-tax-aide-19/
LOCATION:Pacheco Community Center\, 5800 Pacheco Blvd.\, Pacheco\, CA\, 94553\, United States
END:VEVENT
BEGIN:VEVENT
DTSTART;TZID=America/Los_Angeles:20260310T190000
DTEND;TZID=America/Los_Angeles:20260310T213000
DTSTAMP:20260419T220604
CREATED:20251108T194734Z
LAST-MODIFIED:20251108T194734Z
UID:6526-1773169200-1773178200@www.pachecocommunitycenter.com
SUMMARY:Martinez Swingers Square Dance
DESCRIPTION:Advanced Workshop
URL:https://www.pachecocommunitycenter.com/events/martinez-swingers-square-dance-206/
LOCATION:Pacheco Community Center\, 5800 Pacheco Blvd.\, Pacheco\, CA\, 94553\, United States
END:VEVENT
BEGIN:VEVENT
DTSTART;TZID=America/Los_Angeles:20260311T090000
DTEND;TZID=America/Los_Angeles:20260311T130000
DTSTAMP:20260419T220604
CREATED:20260327T205443Z
LAST-MODIFIED:20260327T205443Z
UID:6861-1773219600-1773234000@www.pachecocommunitycenter.com
SUMMARY:Concord Day Adult Program
DESCRIPTION:Concord Day Adult Program
URL:https://www.pachecocommunitycenter.com/events/concord-day-adult-program-150/
LOCATION:Pacheco Community Center\, 5800 Pacheco Blvd.\, Pacheco\, CA\, 94553\, United States
END:VEVENT
BEGIN:VEVENT
DTSTART;TZID=America/Los_Angeles:20260311T183000
DTEND;TZID=America/Los_Angeles:20260311T193000
DTSTAMP:20260419T220604
CREATED:20260107T022010Z
LAST-MODIFIED:20260107T022010Z
UID:6681-1773253800-1773257400@www.pachecocommunitycenter.com
SUMMARY:PMAC Meeting
DESCRIPTION:Pacheco Municipal Advisory Council Meeting
URL:https://www.pachecocommunitycenter.com/events/pmac-meeting-22/
LOCATION:Pacheco Community Center\, 5800 Pacheco Blvd.\, Pacheco\, CA\, 94553\, United States
END:VEVENT
BEGIN:VEVENT
DTSTART;TZID=America/Los_Angeles:20260311T190000
DTEND;TZID=America/Los_Angeles:20260311T213000
DTSTAMP:20260419T220604
CREATED:20251108T195158Z
LAST-MODIFIED:20251108T195158Z
UID:6546-1773255600-1773264600@www.pachecocommunitycenter.com
SUMMARY:Martinez Swingers Square Dance
DESCRIPTION:
URL:https://www.pachecocommunitycenter.com/events/martinez-swingers-square-dance-224/
LOCATION:Pacheco Community Center\, 5800 Pacheco Blvd.\, Pacheco\, CA\, 94553\, United States
END:VEVENT
BEGIN:VEVENT
DTSTART;TZID=America/Los_Angeles:20260312T090000
DTEND;TZID=America/Los_Angeles:20260312T130000
DTSTAMP:20260419T220604
CREATED:20260327T205443Z
LAST-MODIFIED:20260327T205443Z
UID:6862-1773306000-1773320400@www.pachecocommunitycenter.com
SUMMARY:Concord Day Adult Program
DESCRIPTION:Concord Day Adult Program
URL:https://www.pachecocommunitycenter.com/events/concord-day-adult-program-151/
LOCATION:Pacheco Community Center\, 5800 Pacheco Blvd.\, Pacheco\, CA\, 94553\, United States
END:VEVENT
BEGIN:VEVENT
DTSTART;TZID=America/Los_Angeles:20260313T090000
DTEND;TZID=America/Los_Angeles:20260313T130000
DTSTAMP:20260419T220604
CREATED:20260327T205444Z
LAST-MODIFIED:20260327T205444Z
UID:6863-1773392400-1773406800@www.pachecocommunitycenter.com
SUMMARY:Concord Day Adult Program
DESCRIPTION:Concord Day Adult Program
URL:https://www.pachecocommunitycenter.com/events/concord-day-adult-program-152/
LOCATION:Pacheco Community Center\, 5800 Pacheco Blvd.\, Pacheco\, CA\, 94553\, United States
END:VEVENT
BEGIN:VEVENT
DTSTART;TZID=America/Los_Angeles:20260316T090000
DTEND;TZID=America/Los_Angeles:20260316T130000
DTSTAMP:20260419T220604
CREATED:20260327T205445Z
LAST-MODIFIED:20260327T205445Z
UID:6864-1773651600-1773666000@www.pachecocommunitycenter.com
SUMMARY:Concord Day Adult Program
DESCRIPTION:Concord Day Adult Program
URL:https://www.pachecocommunitycenter.com/events/concord-day-adult-program-153/
LOCATION:Pacheco Community Center\, 5800 Pacheco Blvd.\, Pacheco\, CA\, 94553\, United States
END:VEVENT
BEGIN:VEVENT
DTSTART;TZID=America/Los_Angeles:20260317T090000
DTEND;TZID=America/Los_Angeles:20260317T090000
DTSTAMP:20260419T220604
CREATED:20260224T010127Z
LAST-MODIFIED:20260224T010127Z
UID:6755-1773738000-1773738000@www.pachecocommunitycenter.com
SUMMARY:AARP Tax-Aide
DESCRIPTION:AARP Tax-Aide by appointment only
URL:https://www.pachecocommunitycenter.com/events/aarp-tax-aide-20/
LOCATION:Pacheco Community Center\, 5800 Pacheco Blvd.\, Pacheco\, CA\, 94553\, United States
END:VEVENT
BEGIN:VEVENT
DTSTART;TZID=America/Los_Angeles:20260317T190000
DTEND;TZID=America/Los_Angeles:20260317T213000
DTSTAMP:20260419T220604
CREATED:20251108T194742Z
LAST-MODIFIED:20251108T194742Z
UID:6527-1773774000-1773783000@www.pachecocommunitycenter.com
SUMMARY:Martinez Swingers Square Dance
DESCRIPTION:Advanced Workshop
URL:https://www.pachecocommunitycenter.com/events/martinez-swingers-square-dance-207/
LOCATION:Pacheco Community Center\, 5800 Pacheco Blvd.\, Pacheco\, CA\, 94553\, United States
END:VEVENT
BEGIN:VEVENT
DTSTART;TZID=America/Los_Angeles:20260318T090000
DTEND;TZID=America/Los_Angeles:20260318T130000
DTSTAMP:20260419T220604
CREATED:20260327T205457Z
LAST-MODIFIED:20260327T205457Z
UID:6865-1773824400-1773838800@www.pachecocommunitycenter.com
SUMMARY:Concord Day Adult Program
DESCRIPTION:Concord Day Adult Program
URL:https://www.pachecocommunitycenter.com/events/concord-day-adult-program-154/
LOCATION:Pacheco Community Center\, 5800 Pacheco Blvd.\, Pacheco\, CA\, 94553\, United States
END:VEVENT
BEGIN:VEVENT
DTSTART;TZID=America/Los_Angeles:20260318T120000
DTEND;TZID=America/Los_Angeles:20260318T130000
DTSTAMP:20260419T220604
CREATED:20260131T191401Z
LAST-MODIFIED:20260131T191401Z
UID:6716-1773835200-1773838800@www.pachecocommunitycenter.com
SUMMARY:FREE PRODUCE BY FOOD BANK OF CC & SOLANO
DESCRIPTION:IN PARTNERSHIP WITH FOOD BANK OF CONTRA COSTA & SOLANO\, WE WILL PROVIDE FREE PRODUCE TO ONE PERSON PER FAMILY. BRING ONE OR TWO BAGS WITH HANDLES. MUST BE PRESENT TO RECEIVE FOOD
URL:https://www.pachecocommunitycenter.com/events/free-produce-by-food-bank-of-cc-solano-22/
LOCATION:Pacheco Community Center Parking Lot\, 5800 Pacheco Blvd\, Pacheco\, California\, 94553
ORGANIZER;CN="FOOD BANK of CONTRA COSTA and SOLANO":MAILTO:info@foodbankccs.org
END:VEVENT
BEGIN:VEVENT
DTSTART;TZID=America/Los_Angeles:20260318T190000
DTEND;TZID=America/Los_Angeles:20260318T213000
DTSTAMP:20260419T220604
CREATED:20251108T195158Z
LAST-MODIFIED:20251108T195158Z
UID:6547-1773860400-1773869400@www.pachecocommunitycenter.com
SUMMARY:Martinez Swingers Square Dance
DESCRIPTION:
URL:https://www.pachecocommunitycenter.com/events/martinez-swingers-square-dance-225/
LOCATION:Pacheco Community Center\, 5800 Pacheco Blvd.\, Pacheco\, CA\, 94553\, United States
END:VEVENT
BEGIN:VEVENT
DTSTART;TZID=America/Los_Angeles:20260319T090000
DTEND;TZID=America/Los_Angeles:20260319T130000
DTSTAMP:20260419T220604
CREATED:20260327T205458Z
LAST-MODIFIED:20260327T205458Z
UID:6866-1773910800-1773925200@www.pachecocommunitycenter.com
SUMMARY:Concord Day Adult Program
DESCRIPTION:Concord Day Adult Program
URL:https://www.pachecocommunitycenter.com/events/concord-day-adult-program-155/
LOCATION:Pacheco Community Center\, 5800 Pacheco Blvd.\, Pacheco\, CA\, 94553\, United States
END:VEVENT
BEGIN:VEVENT
DTSTART;TZID=America/Los_Angeles:20260320T090000
DTEND;TZID=America/Los_Angeles:20260320T130000
DTSTAMP:20260419T220604
CREATED:20260327T205459Z
LAST-MODIFIED:20260327T205459Z
UID:6867-1773997200-1774011600@www.pachecocommunitycenter.com
SUMMARY:Concord Day Adult Program
DESCRIPTION:Concord Day Adult Program
URL:https://www.pachecocommunitycenter.com/events/concord-day-adult-program-156/
LOCATION:Pacheco Community Center\, 5800 Pacheco Blvd.\, Pacheco\, CA\, 94553\, United States
END:VEVENT
BEGIN:VEVENT
DTSTART;TZID=America/Los_Angeles:20260323T090000
DTEND;TZID=America/Los_Angeles:20260323T130000
DTSTAMP:20260419T220604
CREATED:20260327T205501Z
LAST-MODIFIED:20260327T205501Z
UID:6868-1774256400-1774270800@www.pachecocommunitycenter.com
SUMMARY:Concord Day Adult Program
DESCRIPTION:Concord Day Adult Program
URL:https://www.pachecocommunitycenter.com/events/concord-day-adult-program-157/
LOCATION:Pacheco Community Center\, 5800 Pacheco Blvd.\, Pacheco\, CA\, 94553\, United States
END:VEVENT
BEGIN:VEVENT
DTSTART;TZID=America/Los_Angeles:20260324T090000
DTEND;TZID=America/Los_Angeles:20260324T090000
DTSTAMP:20260419T220604
CREATED:20260224T010128Z
LAST-MODIFIED:20260224T010128Z
UID:6756-1774342800-1774342800@www.pachecocommunitycenter.com
SUMMARY:AARP Tax-Aide
DESCRIPTION:AARP Tax-Aide by appointment only
URL:https://www.pachecocommunitycenter.com/events/aarp-tax-aide-21/
LOCATION:Pacheco Community Center\, 5800 Pacheco Blvd.\, Pacheco\, CA\, 94553\, United States
END:VEVENT
BEGIN:VEVENT
DTSTART;TZID=America/Los_Angeles:20260324T190000
DTEND;TZID=America/Los_Angeles:20260324T213000
DTSTAMP:20260419T220604
CREATED:20251108T194743Z
LAST-MODIFIED:20251108T194743Z
UID:6528-1774378800-1774387800@www.pachecocommunitycenter.com
SUMMARY:Martinez Swingers Square Dance
DESCRIPTION:Advanced Workshop
URL:https://www.pachecocommunitycenter.com/events/martinez-swingers-square-dance-208/
LOCATION:Pacheco Community Center\, 5800 Pacheco Blvd.\, Pacheco\, CA\, 94553\, United States
END:VEVENT
BEGIN:VEVENT
DTSTART;TZID=America/Los_Angeles:20260325T090000
DTEND;TZID=America/Los_Angeles:20260325T130000
DTSTAMP:20260419T220604
CREATED:20260327T205504Z
LAST-MODIFIED:20260327T205504Z
UID:6869-1774429200-1774443600@www.pachecocommunitycenter.com
SUMMARY:Concord Day Adult Program
DESCRIPTION:Concord Day Adult Program
URL:https://www.pachecocommunitycenter.com/events/concord-day-adult-program-158/
LOCATION:Pacheco Community Center\, 5800 Pacheco Blvd.\, Pacheco\, CA\, 94553\, United States
END:VEVENT
BEGIN:VEVENT
DTSTART;TZID=America/Los_Angeles:20260325T183000
DTEND;TZID=America/Los_Angeles:20260325T193000
DTSTAMP:20260419T220604
CREATED:20260107T022017Z
LAST-MODIFIED:20260107T022017Z
UID:6682-1774463400-1774467000@www.pachecocommunitycenter.com
SUMMARY:PTC Meeting
DESCRIPTION:Pacheco Town Council Meeting
URL:https://www.pachecocommunitycenter.com/events/ptc-meeting-18/
LOCATION:Pacheco Community Center\, 5800 Pacheco Blvd.\, Pacheco\, CA\, 94553\, United States
END:VEVENT
BEGIN:VEVENT
DTSTART;TZID=America/Los_Angeles:20260325T190000
DTEND;TZID=America/Los_Angeles:20260325T213000
DTSTAMP:20260419T220604
CREATED:20251108T195158Z
LAST-MODIFIED:20251108T195158Z
UID:6548-1774465200-1774474200@www.pachecocommunitycenter.com
SUMMARY:Martinez Swingers Square Dance
DESCRIPTION:
URL:https://www.pachecocommunitycenter.com/events/martinez-swingers-square-dance-226/
LOCATION:Pacheco Community Center\, 5800 Pacheco Blvd.\, Pacheco\, CA\, 94553\, United States
END:VEVENT
BEGIN:VEVENT
DTSTART;TZID=America/Los_Angeles:20260326T090000
DTEND;TZID=America/Los_Angeles:20260326T130000
DTSTAMP:20260419T220604
CREATED:20260327T205511Z
LAST-MODIFIED:20260327T205511Z
UID:6870-1774515600-1774530000@www.pachecocommunitycenter.com
SUMMARY:Concord Day Adult Program
DESCRIPTION:Concord Day Adult Program
URL:https://www.pachecocommunitycenter.com/events/concord-day-adult-program-159/
LOCATION:Pacheco Community Center\, 5800 Pacheco Blvd.\, Pacheco\, CA\, 94553\, United States
END:VEVENT
BEGIN:VEVENT
DTSTART;TZID=America/Los_Angeles:20260327T090000
DTEND;TZID=America/Los_Angeles:20260327T130000
DTSTAMP:20260419T220604
CREATED:20260327T205513Z
LAST-MODIFIED:20260327T205513Z
UID:6871-1774602000-1774616400@www.pachecocommunitycenter.com
SUMMARY:Concord Day Adult Program
DESCRIPTION:Concord Day Adult Program
URL:https://www.pachecocommunitycenter.com/events/concord-day-adult-program-160/
LOCATION:Pacheco Community Center\, 5800 Pacheco Blvd.\, Pacheco\, CA\, 94553\, United States
END:VEVENT
BEGIN:VEVENT
DTSTART;TZID=America/Los_Angeles:20260328T080000
DTEND;TZID=America/Los_Angeles:20260328T140000
DTSTAMP:20260419T220604
CREATED:20260224T004917Z
LAST-MODIFIED:20260224T004927Z
UID:6735-1774684800-1774706400@www.pachecocommunitycenter.com
SUMMARY:Spring Rummage Sale
DESCRIPTION:
URL:https://www.pachecocommunitycenter.com/events/spring-rummage-sale/
LOCATION:CA
END:VEVENT
END:VCALENDAR