BEGIN:VCALENDAR
VERSION:2.0
PRODID:-//Pacheco Community Center - ECPv6.15.15//NONSGML v1.0//EN
CALSCALE:GREGORIAN
METHOD:PUBLISH
X-WR-CALNAME:Pacheco Community Center
X-ORIGINAL-URL:https://www.pachecocommunitycenter.com
X-WR-CALDESC:Events for Pacheco Community Center
REFRESH-INTERVAL;VALUE=DURATION:PT1H
X-Robots-Tag:noindex
X-PUBLISHED-TTL:PT1H
BEGIN:VTIMEZONE
TZID:America/Los_Angeles
BEGIN:DAYLIGHT
TZOFFSETFROM:-0800
TZOFFSETTO:-0700
TZNAME:PDT
DTSTART:20210314T100000
END:DAYLIGHT
BEGIN:STANDARD
TZOFFSETFROM:-0700
TZOFFSETTO:-0800
TZNAME:PST
DTSTART:20211107T090000
END:STANDARD
BEGIN:DAYLIGHT
TZOFFSETFROM:-0800
TZOFFSETTO:-0700
TZNAME:PDT
DTSTART:20220313T100000
END:DAYLIGHT
BEGIN:STANDARD
TZOFFSETFROM:-0700
TZOFFSETTO:-0800
TZNAME:PST
DTSTART:20221106T090000
END:STANDARD
BEGIN:DAYLIGHT
TZOFFSETFROM:-0800
TZOFFSETTO:-0700
TZNAME:PDT
DTSTART:20230312T100000
END:DAYLIGHT
BEGIN:STANDARD
TZOFFSETFROM:-0700
TZOFFSETTO:-0800
TZNAME:PST
DTSTART:20231105T090000
END:STANDARD
END:VTIMEZONE
BEGIN:VEVENT
DTSTART;TZID=America/Los_Angeles:20220715T140000
DTEND;TZID=America/Los_Angeles:20220715T180000
DTSTAMP:20260421T235913
CREATED:20220504T201924Z
LAST-MODIFIED:20220504T201924Z
UID:3892-1657893600-1657908000@www.pachecocommunitycenter.com
SUMMARY:New You Dance Center Free Dance Day
DESCRIPTION:
URL:https://www.pachecocommunitycenter.com/events/new-you-dance-center-free-dance-day/
LOCATION:Pacheco Community Center\, 5800 Pacheco Blvd.\, Pacheco\, CA\, 94553\, United States
END:VEVENT
BEGIN:VEVENT
DTSTART;TZID=America/Los_Angeles:20220701T080000
DTEND;TZID=America/Los_Angeles:20220704T170000
DTSTAMP:20260421T235914
CREATED:20220302T223139Z
LAST-MODIFIED:20220504T202004Z
UID:3743-1656662400-1656954000@www.pachecocommunitycenter.com
SUMMARY:Pacheco Community Center Closed
DESCRIPTION:
URL:https://www.pachecocommunitycenter.com/events/pacheco-community-center-closed-12/
LOCATION:Pacheco Community Center\, 5800 Pacheco Blvd.\, Pacheco\, CA\, 94553\, United States
END:VEVENT
BEGIN:VEVENT
DTSTART;TZID=America/Los_Angeles:20220626T113000
DTEND;TZID=America/Los_Angeles:20220626T163000
DTSTAMP:20260421T235914
CREATED:20220610T184803Z
LAST-MODIFIED:20220610T184803Z
UID:3912-1656243000-1656261000@www.pachecocommunitycenter.com
SUMMARY:Private Event: Celebration of Life
DESCRIPTION:
URL:https://www.pachecocommunitycenter.com/events/private-event-celebration-of-life-14/
LOCATION:Pacheco Community Center\, 5800 Pacheco Blvd.\, Pacheco\, CA\, 94553\, United States
END:VEVENT
BEGIN:VEVENT
DTSTART;VALUE=DATE:20220619
DTEND;VALUE=DATE:20220621
DTSTAMP:20260421T235914
CREATED:20220302T223027Z
LAST-MODIFIED:20220302T223027Z
UID:3741-1655600400-1655686799@www.pachecocommunitycenter.com
SUMMARY:Pacheco Community Center Closed
DESCRIPTION:
URL:https://www.pachecocommunitycenter.com/events/pacheco-community-center-closed-11/
LOCATION:Pacheco Community Center\, 5800 Pacheco Blvd.\, Pacheco\, CA\, 94553\, United States
END:VEVENT
BEGIN:VEVENT
DTSTART;TZID=America/Los_Angeles:20220617T120000
DTEND;TZID=America/Los_Angeles:20220617T200000
DTSTAMP:20260421T235914
CREATED:20220610T184725Z
LAST-MODIFIED:20220610T184725Z
UID:3910-1655467200-1655496000@www.pachecocommunitycenter.com
SUMMARY:Private Event: Celebration of Life
DESCRIPTION:
URL:https://www.pachecocommunitycenter.com/events/private-event-celebration-of-life-13/
LOCATION:Pacheco Community Center\, 5800 Pacheco Blvd.\, Pacheco\, CA\, 94553\, United States
END:VEVENT
BEGIN:VEVENT
DTSTART;TZID=America/Los_Angeles:20220612T150000
DTEND;TZID=America/Los_Angeles:20220612T210000
DTSTAMP:20260421T235914
CREATED:20220504T201622Z
LAST-MODIFIED:20220610T184701Z
UID:3886-1655046000-1655067600@www.pachecocommunitycenter.com
SUMMARY:Private Event: Birthday/ Graduation Party
DESCRIPTION:
URL:https://www.pachecocommunitycenter.com/events/pending-event-birthday-graduation-party/
LOCATION:Pacheco Community Center\, 5800 Pacheco Blvd.\, Pacheco\, CA\, 94553\, United States
END:VEVENT
BEGIN:VEVENT
DTSTART;TZID=America/Los_Angeles:20220611T130000
DTEND;TZID=America/Los_Angeles:20220611T180000
DTSTAMP:20260421T235914
CREATED:20220610T184628Z
LAST-MODIFIED:20220610T184633Z
UID:3907-1654952400-1654970400@www.pachecocommunitycenter.com
SUMMARY:Private Event: Celebration of Life
DESCRIPTION:
URL:https://www.pachecocommunitycenter.com/events/private-event-celebration-of-life-12/
LOCATION:Pacheco Community Center\, 5800 Pacheco Blvd.\, Pacheco\, CA\, 94553\, United States
END:VEVENT
BEGIN:VEVENT
DTSTART;TZID=America/Los_Angeles:20220610T190000
DTEND;TZID=America/Los_Angeles:20220610T220000
DTSTAMP:20260421T235914
CREATED:20220302T222803Z
LAST-MODIFIED:20220610T183859Z
UID:3731-1654887600-1654898400@www.pachecocommunitycenter.com
SUMMARY:New Year Dance Center Dance Recital
DESCRIPTION:
URL:https://www.pachecocommunitycenter.com/events/new-year-dance-center-dance-recital/
LOCATION:Pacheco Community Center\, 5800 Pacheco Blvd.\, Pacheco\, CA\, 94553\, United States
END:VEVENT
BEGIN:VEVENT
DTSTART;TZID=America/Los_Angeles:20220607T070000
DTEND;TZID=America/Los_Angeles:20220607T200000
DTSTAMP:20260421T235914
CREATED:20220302T222921Z
LAST-MODIFIED:20220302T222921Z
UID:3737-1654585200-1654632000@www.pachecocommunitycenter.com
SUMMARY:CCC Polling Place
DESCRIPTION:
URL:https://www.pachecocommunitycenter.com/events/ccc-polling-place/
LOCATION:Pacheco Community Center\, 5800 Pacheco Blvd.\, Pacheco\, CA\, 94553\, United States
END:VEVENT
BEGIN:VEVENT
DTSTART;TZID=America/Los_Angeles:20220605T120000
DTEND;TZID=America/Los_Angeles:20220605T140000
DTSTAMP:20260421T235914
CREATED:20220418T185801Z
LAST-MODIFIED:20220418T185801Z
UID:3872-1654430400-1654437600@www.pachecocommunitycenter.com
SUMMARY:Private Event: Tech Trek Social
DESCRIPTION:
URL:https://www.pachecocommunitycenter.com/events/private-event-tech-trek-social/
LOCATION:Pacheco Community Center\, 5800 Pacheco Blvd.\, Pacheco\, CA\, 94553\, United States
END:VEVENT
BEGIN:VEVENT
DTSTART;TZID=America/Los_Angeles:20220604T130000
DTEND;TZID=America/Los_Angeles:20220604T230000
DTSTAMP:20260421T235914
CREATED:20220418T185645Z
LAST-MODIFIED:20220418T185645Z
UID:3870-1654347600-1654383600@www.pachecocommunitycenter.com
SUMMARY:Private Event: Birthday Party
DESCRIPTION:
URL:https://www.pachecocommunitycenter.com/events/private-event-birthday-party-21/
LOCATION:Pacheco Community Center\, 5800 Pacheco Blvd.\, Pacheco\, CA\, 94553\, United States
END:VEVENT
BEGIN:VEVENT
DTSTART;TZID=America/Los_Angeles:20220603T100000
DTEND;TZID=America/Los_Angeles:20220603T160000
DTSTAMP:20260421T235914
CREATED:20220504T201729Z
LAST-MODIFIED:20220504T201729Z
UID:3888-1654250400-1654272000@www.pachecocommunitycenter.com
SUMMARY:CCC Vaccine Clinic
DESCRIPTION:
URL:https://www.pachecocommunitycenter.com/events/ccc-vaccine-clinic/
LOCATION:Pacheco Community Center\, 5800 Pacheco Blvd.\, Pacheco\, CA\, 94553\, United States
END:VEVENT
BEGIN:VEVENT
DTSTART;TZID=America/Los_Angeles:20220602T100000
DTEND;TZID=America/Los_Angeles:20220602T130000
DTSTAMP:20260421T235914
CREATED:20220302T222952Z
LAST-MODIFIED:20220302T222952Z
UID:3739-1654164000-1654174800@www.pachecocommunitycenter.com
SUMMARY:Retiree Support Group
DESCRIPTION:
URL:https://www.pachecocommunitycenter.com/events/retiree-support-group-8/
LOCATION:Pacheco Community Center\, 5800 Pacheco Blvd.\, Pacheco\, CA\, 94553\, United States
END:VEVENT
BEGIN:VEVENT
DTSTART;VALUE=DATE:20220529
DTEND;VALUE=DATE:20220601
DTSTAMP:20260421T235914
CREATED:20220418T185530Z
LAST-MODIFIED:20220418T185530Z
UID:3868-1653786000-1653958799@www.pachecocommunitycenter.com
SUMMARY:Pacheco Community Center Closed
DESCRIPTION:
URL:https://www.pachecocommunitycenter.com/events/pacheco-community-center-closed-10/
LOCATION:Pacheco Community Center\, 5800 Pacheco Blvd.\, Pacheco\, CA\, 94553\, United States
END:VEVENT
BEGIN:VEVENT
DTSTART;TZID=America/Los_Angeles:20220528T180000
DTEND;TZID=America/Los_Angeles:20220528T230000
DTSTAMP:20260421T235914
CREATED:20220418T185424Z
LAST-MODIFIED:20220418T185424Z
UID:3866-1653760800-1653778800@www.pachecocommunitycenter.com
SUMMARY:Private Event: Birthday Party
DESCRIPTION:
URL:https://www.pachecocommunitycenter.com/events/private-event-birthday-party-20/
LOCATION:Pacheco Community Center\, 5800 Pacheco Blvd.\, Pacheco\, CA\, 94553\, United States
END:VEVENT
BEGIN:VEVENT
DTSTART;TZID=America/Los_Angeles:20220522T100000
DTEND;TZID=America/Los_Angeles:20220522T150000
DTSTAMP:20260421T235914
CREATED:20220504T201336Z
LAST-MODIFIED:20220504T201501Z
UID:3882-1653213600-1653231600@www.pachecocommunitycenter.com
SUMMARY:Pacheco Town Council and Community Center Parking Lot Sale
DESCRIPTION:If interested in renting out a spot in our parking lot please call the office at: 925-676-8877. \nIt is $20 for two parking spots and two tables.
URL:https://www.pachecocommunitycenter.com/events/parking-lot-sale/
LOCATION:Pacheco Community Center\, 5800 Pacheco Blvd.\, Pacheco\, CA\, 94553\, United States
END:VEVENT
BEGIN:VEVENT
DTSTART;TZID=America/Los_Angeles:20220521T100000
DTEND;TZID=America/Los_Angeles:20220521T140000
DTSTAMP:20260421T235914
CREATED:20220401T194916Z
LAST-MODIFIED:20220401T194916Z
UID:3856-1653127200-1653141600@www.pachecocommunitycenter.com
SUMMARY:Private Event: 1st Birthday Party
DESCRIPTION:
URL:https://www.pachecocommunitycenter.com/events/private-event-1st-birthday-party/
LOCATION:Pacheco Community Center\, 5800 Pacheco Blvd.\, Pacheco\, CA\, 94553\, United States
END:VEVENT
BEGIN:VEVENT
DTSTART;TZID=America/Los_Angeles:20220515T160000
DTEND;TZID=America/Los_Angeles:20220515T170000
DTSTAMP:20260421T235914
CREATED:20220504T201153Z
LAST-MODIFIED:20220504T201153Z
UID:3880-1652630400-1652634000@www.pachecocommunitycenter.com
SUMMARY:PTA Meeting: Conference Room
DESCRIPTION:
URL:https://www.pachecocommunitycenter.com/events/pta-meeting-conference-room/
LOCATION:Pacheco Community Center\, 5800 Pacheco Blvd.\, Pacheco\, CA\, 94553\, United States
END:VEVENT
BEGIN:VEVENT
DTSTART;TZID=America/Los_Angeles:20220515T110000
DTEND;TZID=America/Los_Angeles:20220515T160000
DTSTAMP:20260421T235914
CREATED:20220504T200727Z
LAST-MODIFIED:20220504T200727Z
UID:3878-1652612400-1652630400@www.pachecocommunitycenter.com
SUMMARY:Private Event: Celebration of Life
DESCRIPTION:
URL:https://www.pachecocommunitycenter.com/events/private-event-celebration-of-life-11/
LOCATION:Pacheco Community Center\, 5800 Pacheco Blvd.\, Pacheco\, CA\, 94553\, United States
END:VEVENT
BEGIN:VEVENT
DTSTART;TZID=America/Los_Angeles:20220514T140000
DTEND;TZID=America/Los_Angeles:20220514T220000
DTSTAMP:20260421T235914
CREATED:20220302T222314Z
LAST-MODIFIED:20220504T200621Z
UID:3721-1652536800-1652565600@www.pachecocommunitycenter.com
SUMMARY:Private Event: Birthday Party
DESCRIPTION:
URL:https://www.pachecocommunitycenter.com/events/pending-event-7/
LOCATION:Pacheco Community Center\, 5800 Pacheco Blvd.\, Pacheco\, CA\, 94553\, United States
END:VEVENT
BEGIN:VEVENT
DTSTART;TZID=America/Los_Angeles:20220511T190000
DTEND;TZID=America/Los_Angeles:20220511T210000
DTSTAMP:20260421T235914
CREATED:20220401T194818Z
LAST-MODIFIED:20220401T194818Z
UID:3854-1652295600-1652302800@www.pachecocommunitycenter.com
SUMMARY:Private Event: Award Ceremony
DESCRIPTION:
URL:https://www.pachecocommunitycenter.com/events/private-event-award-ceremony/
LOCATION:Pacheco Community Center\, 5800 Pacheco Blvd.\, Pacheco\, CA\, 94553\, United States
END:VEVENT
BEGIN:VEVENT
DTSTART;VALUE=DATE:20220508
DTEND;VALUE=DATE:20220510
DTSTAMP:20260421T235914
CREATED:20220302T222439Z
LAST-MODIFIED:20220302T222439Z
UID:3725-1651971600-1652057999@www.pachecocommunitycenter.com
SUMMARY:Pacheco Community Center Closed
DESCRIPTION:
URL:https://www.pachecocommunitycenter.com/events/pacheco-community-center-closed-9/
LOCATION:Pacheco Community Center\, 5800 Pacheco Blvd.\, Pacheco\, CA\, 94553\, United States
END:VEVENT
BEGIN:VEVENT
DTSTART;TZID=America/Los_Angeles:20220507T140000
DTEND;TZID=America/Los_Angeles:20220507T210000
DTSTAMP:20260421T235914
CREATED:20220401T194739Z
LAST-MODIFIED:20220401T194739Z
UID:3852-1651932000-1651957200@www.pachecocommunitycenter.com
SUMMARY:Private Event: Birthday Party
DESCRIPTION:
URL:https://www.pachecocommunitycenter.com/events/private-event-birthday-party-19/
LOCATION:Pacheco Community Center\, 5800 Pacheco Blvd.\, Pacheco\, CA\, 94553\, United States
END:VEVENT
BEGIN:VEVENT
DTSTART;TZID=America/Los_Angeles:20220501T140000
DTEND;TZID=America/Los_Angeles:20220501T180000
DTSTAMP:20260421T235914
CREATED:20220401T194717Z
LAST-MODIFIED:20220401T194717Z
UID:3850-1651413600-1651428000@www.pachecocommunitycenter.com
SUMMARY:Private Event: Celebration of Life
DESCRIPTION:
URL:https://www.pachecocommunitycenter.com/events/private-event-celebration-of-life-10/
LOCATION:Pacheco Community Center\, 5800 Pacheco Blvd.\, Pacheco\, CA\, 94553\, United States
END:VEVENT
BEGIN:VEVENT
DTSTART;TZID=America/Los_Angeles:20220430T130000
DTEND;TZID=America/Los_Angeles:20220430T230000
DTSTAMP:20260421T235914
CREATED:20220211T234113Z
LAST-MODIFIED:20220211T234113Z
UID:3702-1651323600-1651359600@www.pachecocommunitycenter.com
SUMMARY:Private Event: Birthday Party
DESCRIPTION:
URL:https://www.pachecocommunitycenter.com/events/private-event-birthday-party-17/
LOCATION:Pacheco Community Center\, 5800 Pacheco Blvd.\, Pacheco\, CA\, 94553\, United States
END:VEVENT
BEGIN:VEVENT
DTSTART;TZID=America/Los_Angeles:20220425T173000
DTEND;TZID=America/Los_Angeles:20220425T203000
DTSTAMP:20260421T235914
CREATED:20220418T185113Z
LAST-MODIFIED:20220418T185113Z
UID:3864-1650907800-1650918600@www.pachecocommunitycenter.com
SUMMARY:Private Seminar: Conference Room
DESCRIPTION:
URL:https://www.pachecocommunitycenter.com/events/private-seminar-conference-room/
LOCATION:Pacheco Community Center\, 5800 Pacheco Blvd.\, Pacheco\, CA\, 94553\, United States
END:VEVENT
BEGIN:VEVENT
DTSTART;TZID=America/Los_Angeles:20220420T090000
DTEND;TZID=America/Los_Angeles:20220420T160000
DTSTAMP:20260421T235914
CREATED:20220302T222054Z
LAST-MODIFIED:20220302T222054Z
UID:3715-1650445200-1650470400@www.pachecocommunitycenter.com
SUMMARY:Lifeline Screening Health Screening
DESCRIPTION:
URL:https://www.pachecocommunitycenter.com/events/lifeline-screening-health-screening/
LOCATION:Pacheco Community Center\, 5800 Pacheco Blvd.\, Pacheco\, CA\, 94553\, United States
END:VEVENT
BEGIN:VEVENT
DTSTART;VALUE=DATE:20220417
DTEND;VALUE=DATE:20220419
DTSTAMP:20260421T235914
CREATED:20220302T222409Z
LAST-MODIFIED:20220302T222409Z
UID:3723-1650157200-1650243599@www.pachecocommunitycenter.com
SUMMARY:Pacheco Community Center Closed
DESCRIPTION:
URL:https://www.pachecocommunitycenter.com/events/pacheco-community-center-closed-8/
LOCATION:Pacheco Community Center\, 5800 Pacheco Blvd.\, Pacheco\, CA\, 94553\, United States
END:VEVENT
BEGIN:VEVENT
DTSTART;TZID=America/Los_Angeles:20220407T100000
DTEND;TZID=America/Los_Angeles:20220407T130000
DTSTAMP:20260421T235914
CREATED:20220302T222215Z
LAST-MODIFIED:20220302T222215Z
UID:3719-1649325600-1649336400@www.pachecocommunitycenter.com
SUMMARY:Retiree Support Group
DESCRIPTION:
URL:https://www.pachecocommunitycenter.com/events/retiree-support-group-7/
LOCATION:Pacheco Community Center\, 5800 Pacheco Blvd.\, Pacheco\, CA\, 94553\, United States
END:VEVENT
BEGIN:VEVENT
DTSTART;TZID=America/Los_Angeles:20220405T080000
DTEND;TZID=America/Los_Angeles:20220405T170000
DTSTAMP:20260421T235914
CREATED:20220302T222828Z
LAST-MODIFIED:20220302T222828Z
UID:3733-1649145600-1649178000@www.pachecocommunitycenter.com
SUMMARY:Pending Event
DESCRIPTION:
URL:https://www.pachecocommunitycenter.com/events/pending-event-9/
LOCATION:Pacheco Community Center\, 5800 Pacheco Blvd.\, Pacheco\, CA\, 94553\, United States
END:VEVENT
END:VCALENDAR