BEGIN:VCALENDAR
VERSION:2.0
PRODID:-//Pacheco Community Center - ECPv6.15.15//NONSGML v1.0//EN
CALSCALE:GREGORIAN
METHOD:PUBLISH
X-WR-CALNAME:Pacheco Community Center
X-ORIGINAL-URL:https://www.pachecocommunitycenter.com
X-WR-CALDESC:Events for Pacheco Community Center
REFRESH-INTERVAL;VALUE=DURATION:PT1H
X-Robots-Tag:noindex
X-PUBLISHED-TTL:PT1H
BEGIN:VTIMEZONE
TZID:America/Los_Angeles
BEGIN:DAYLIGHT
TZOFFSETFROM:-0800
TZOFFSETTO:-0700
TZNAME:PDT
DTSTART:20200308T100000
END:DAYLIGHT
BEGIN:STANDARD
TZOFFSETFROM:-0700
TZOFFSETTO:-0800
TZNAME:PST
DTSTART:20201101T090000
END:STANDARD
BEGIN:DAYLIGHT
TZOFFSETFROM:-0800
TZOFFSETTO:-0700
TZNAME:PDT
DTSTART:20210314T100000
END:DAYLIGHT
BEGIN:STANDARD
TZOFFSETFROM:-0700
TZOFFSETTO:-0800
TZNAME:PST
DTSTART:20211107T090000
END:STANDARD
BEGIN:DAYLIGHT
TZOFFSETFROM:-0800
TZOFFSETTO:-0700
TZNAME:PDT
DTSTART:20220313T100000
END:DAYLIGHT
BEGIN:STANDARD
TZOFFSETFROM:-0700
TZOFFSETTO:-0800
TZNAME:PST
DTSTART:20221106T090000
END:STANDARD
BEGIN:DAYLIGHT
TZOFFSETFROM:-0800
TZOFFSETTO:-0700
TZNAME:PDT
DTSTART:20230312T100000
END:DAYLIGHT
BEGIN:STANDARD
TZOFFSETFROM:-0700
TZOFFSETTO:-0800
TZNAME:PST
DTSTART:20231105T090000
END:STANDARD
END:VTIMEZONE
BEGIN:VEVENT
DTSTART;VALUE=DATE:20211224
DTEND;VALUE=DATE:20220104
DTSTAMP:20260422T194643
CREATED:20210517T202434Z
LAST-MODIFIED:20210517T202434Z
UID:2932-1640307600-1641171599@www.pachecocommunitycenter.com
SUMMARY:Pacheco Community Center Closed
DESCRIPTION:We are closed for Christmas and through the New Year. Thank you and happy holidays and new year!
URL:https://www.pachecocommunitycenter.com/events/pacheco-community-center-closed-5/
LOCATION:Pacheco Community Center\, 5800 Pacheco Blvd.\, Pacheco\, CA\, 94553\, United States
END:VEVENT
BEGIN:VEVENT
DTSTART;TZID=America/Los_Angeles:20211223T130000
DTEND;TZID=America/Los_Angeles:20211223T210000
DTSTAMP:20260422T194643
CREATED:20211115T202149Z
LAST-MODIFIED:20211115T202149Z
UID:3430-1640264400-1640293200@www.pachecocommunitycenter.com
SUMMARY:Private Event: Holiday Party
DESCRIPTION:
URL:https://www.pachecocommunitycenter.com/events/private-event-holiday-party-4/
LOCATION:Pacheco Community Center\, 5800 Pacheco Blvd.\, Pacheco\, CA\, 94553\, United States
END:VEVENT
BEGIN:VEVENT
DTSTART;TZID=America/Los_Angeles:20211219T100000
DTEND;TZID=America/Los_Angeles:20211219T150000
DTSTAMP:20260422T194643
CREATED:20211115T202049Z
LAST-MODIFIED:20211115T202049Z
UID:3428-1639908000-1639926000@www.pachecocommunitycenter.com
SUMMARY:Pending Event: Contra Costa County Vaccine Clinic
DESCRIPTION:County Vaccine Clinic
URL:https://www.pachecocommunitycenter.com/events/pending-event-contra-costa-county-vaccine-clinic/
LOCATION:Pacheco Community Center\, 5800 Pacheco Blvd.\, Pacheco\, CA\, 94553\, United States
END:VEVENT
BEGIN:VEVENT
DTSTART;TZID=America/Los_Angeles:20211218T160000
DTEND;TZID=America/Los_Angeles:20211218T230000
DTSTAMP:20260422T194643
CREATED:20211022T203407Z
LAST-MODIFIED:20211206T004019Z
UID:3364-1639843200-1639868400@www.pachecocommunitycenter.com
SUMMARY:Private Event: Birthday Party
DESCRIPTION:
URL:https://www.pachecocommunitycenter.com/events/pending-event-5/
LOCATION:Pacheco Community Center\, 5800 Pacheco Blvd.\, Pacheco\, CA\, 94553\, United States
END:VEVENT
BEGIN:VEVENT
DTSTART;TZID=America/Los_Angeles:20211218T113000
DTEND;TZID=America/Los_Angeles:20211218T133000
DTSTAMP:20260422T194643
CREATED:20211025T205445Z
LAST-MODIFIED:20211115T201820Z
UID:3418-1639827000-1639834200@www.pachecocommunitycenter.com
SUMMARY:New You Dance Center Recital
DESCRIPTION:New You Dance Winter Show
URL:https://www.pachecocommunitycenter.com/events/pending-event-dance-recital/
LOCATION:Pacheco Community Center\, 5800 Pacheco Blvd.\, Pacheco\, CA\, 94553\, United States
END:VEVENT
BEGIN:VEVENT
DTSTART;TZID=America/Los_Angeles:20211217T150000
DTEND;TZID=America/Los_Angeles:20211217T200000
DTSTAMP:20260422T194643
CREATED:20211115T201911Z
LAST-MODIFIED:20211115T201911Z
UID:3426-1639753200-1639771200@www.pachecocommunitycenter.com
SUMMARY:New You Dance Center Recital
DESCRIPTION:New You Dance Center Winter Recital
URL:https://www.pachecocommunitycenter.com/events/new-you-dance-center-recital/
LOCATION:Pacheco Community Center\, 5800 Pacheco Blvd.\, Pacheco\, CA\, 94553\, United States
END:VEVENT
BEGIN:VEVENT
DTSTART;TZID=America/Los_Angeles:20211214T080000
DTEND;TZID=America/Los_Angeles:20211214T173000
DTSTAMP:20260422T194643
CREATED:20211115T202318Z
LAST-MODIFIED:20211115T202318Z
UID:3434-1639468800-1639503000@www.pachecocommunitycenter.com
SUMMARY:AARP Tax Aide Orientation
DESCRIPTION:
URL:https://www.pachecocommunitycenter.com/events/aarp-tax-aide-orientation-2/
LOCATION:Pacheco Community Center\, 5800 Pacheco Blvd.\, Pacheco\, CA\, 94553\, United States
END:VEVENT
BEGIN:VEVENT
DTSTART;TZID=America/Los_Angeles:20211212T120000
DTEND;TZID=America/Los_Angeles:20211212T200000
DTSTAMP:20260422T194643
CREATED:20211022T203347Z
LAST-MODIFIED:20211206T003808Z
UID:3362-1639310400-1639339200@www.pachecocommunitycenter.com
SUMMARY:Private Event: Baby Shower
DESCRIPTION:
URL:https://www.pachecocommunitycenter.com/events/pending-event-4/
LOCATION:Pacheco Community Center\, 5800 Pacheco Blvd.\, Pacheco\, CA\, 94553\, United States
END:VEVENT
BEGIN:VEVENT
DTSTART;TZID=America/Los_Angeles:20211211T160000
DTEND;TZID=America/Los_Angeles:20211211T230000
DTSTAMP:20260422T194643
CREATED:20211107T013520Z
LAST-MODIFIED:20211107T013520Z
UID:3422-1639238400-1639263600@www.pachecocommunitycenter.com
SUMMARY:Private Event: Youth Committee Dinner
DESCRIPTION:
URL:https://www.pachecocommunitycenter.com/events/private-event-youth-committee-dinner/
LOCATION:Pacheco Community Center\, 5800 Pacheco Blvd.\, Pacheco\, CA\, 94553\, United States
END:VEVENT
BEGIN:VEVENT
DTSTART;TZID=America/Los_Angeles:20211209T080000
DTEND;TZID=America/Los_Angeles:20211209T163000
DTSTAMP:20260422T194643
CREATED:20211115T202250Z
LAST-MODIFIED:20211115T202250Z
UID:3432-1639036800-1639067400@www.pachecocommunitycenter.com
SUMMARY:AARP Tax Aide Orientation
DESCRIPTION:
URL:https://www.pachecocommunitycenter.com/events/aarp-tax-aide-orientation/
LOCATION:Pacheco Community Center\, 5800 Pacheco Blvd.\, Pacheco\, CA\, 94553\, United States
END:VEVENT
BEGIN:VEVENT
DTSTART;TZID=America/Los_Angeles:20211208T080000
DTEND;TZID=America/Los_Angeles:20211208T170000
DTSTAMP:20260422T194643
CREATED:20210517T202111Z
LAST-MODIFIED:20210517T202111Z
UID:2930-1638950400-1638982800@www.pachecocommunitycenter.com
SUMMARY:Lifeline Screening
DESCRIPTION:Lifeline Screening event; open to public.
URL:https://www.pachecocommunitycenter.com/events/lifeline-screening-5/
LOCATION:Pacheco Community Center\, 5800 Pacheco Blvd.\, Pacheco\, CA\, 94553\, United States
END:VEVENT
BEGIN:VEVENT
DTSTART;TZID=America/Los_Angeles:20211205T150000
DTEND;TZID=America/Los_Angeles:20211205T220000
DTSTAMP:20260422T194643
CREATED:20210915T032559Z
LAST-MODIFIED:20210915T032559Z
UID:3086-1638716400-1638741600@www.pachecocommunitycenter.com
SUMMARY:Diablo Valley Corvettes Dinner
DESCRIPTION:Private DVC Members event hosted at Pacheco Community Center.
URL:https://www.pachecocommunitycenter.com/events/diablo-valley-corvettes-dinner/
LOCATION:Pacheco Community Center\, 5800 Pacheco Blvd.\, Pacheco\, CA\, 94553\, United States
END:VEVENT
BEGIN:VEVENT
DTSTART;TZID=America/Los_Angeles:20211204T170000
DTEND;TZID=America/Los_Angeles:20211204T220000
DTSTAMP:20260422T194643
CREATED:20210915T032343Z
LAST-MODIFIED:20211025T205635Z
UID:3084-1638637200-1638655200@www.pachecocommunitycenter.com
SUMMARY:Private Event: Quinceañera
DESCRIPTION:Private Event hosted at Pacheco Community Center.
URL:https://www.pachecocommunitycenter.com/events/private-event-3/
LOCATION:Pacheco Community Center\, 5800 Pacheco Blvd.\, Pacheco\, CA\, 94553\, United States
END:VEVENT
BEGIN:VEVENT
DTSTART;TZID=America/Los_Angeles:20211202T100000
DTEND;TZID=America/Los_Angeles:20211202T120000
DTSTAMP:20260422T194643
CREATED:20210628T191930Z
LAST-MODIFIED:20210628T191930Z
UID:2973-1638439200-1638446400@www.pachecocommunitycenter.com
SUMMARY:Retiree Support Group
DESCRIPTION:
URL:https://www.pachecocommunitycenter.com/events/retiree-support-group-5/
LOCATION:Pacheco Community Center\, 5800 Pacheco Blvd.\, Pacheco\, CA\, 94553\, United States
END:VEVENT
BEGIN:VEVENT
DTSTART;VALUE=DATE:20211124
DTEND;VALUE=DATE:20211128
DTSTAMP:20260422T194643
CREATED:20210517T201848Z
LAST-MODIFIED:20210517T201848Z
UID:2926-1637715600-1637974799@www.pachecocommunitycenter.com
SUMMARY:Pacheco Community Center Closed
DESCRIPTION:Pacheco Community Center is closed for Thanksgiving.
URL:https://www.pachecocommunitycenter.com/events/pacheco-community-center-closed-3/
LOCATION:Pacheco Community Center\, 5800 Pacheco Blvd.\, Pacheco\, CA\, 94553\, United States
END:VEVENT
BEGIN:VEVENT
DTSTART;VALUE=DATE:20211122
DTEND;VALUE=DATE:20211124
DTSTAMP:20260422T194643
CREATED:20211022T203256Z
LAST-MODIFIED:20211022T203256Z
UID:3360-1637542800-1637629199@www.pachecocommunitycenter.com
SUMMARY:PCC Office Closed
DESCRIPTION:
URL:https://www.pachecocommunitycenter.com/events/pcc-office-closed/
LOCATION:Pacheco Community Center\, 5800 Pacheco Blvd.\, Pacheco\, CA\, 94553\, United States
END:VEVENT
BEGIN:VEVENT
DTSTART;VALUE=DATE:20211120
DTEND;VALUE=DATE:20211123
DTSTAMP:20260422T194643
CREATED:20211022T203227Z
LAST-MODIFIED:20211022T203227Z
UID:3358-1637370000-1637542799@www.pachecocommunitycenter.com
SUMMARY:Pacheco Community Center Closed
DESCRIPTION:
URL:https://www.pachecocommunitycenter.com/events/pacheco-community-center-closed-7/
LOCATION:Pacheco Community Center\, 5800 Pacheco Blvd.\, Pacheco\, CA\, 94553\, United States
END:VEVENT
BEGIN:VEVENT
DTSTART;TZID=America/Los_Angeles:20211113T110000
DTEND;TZID=America/Los_Angeles:20211113T180000
DTSTAMP:20260422T194643
CREATED:20211022T202910Z
LAST-MODIFIED:20211022T202910Z
UID:3355-1636801200-1636826400@www.pachecocommunitycenter.com
SUMMARY:Pending Event
DESCRIPTION:
URL:https://www.pachecocommunitycenter.com/events/pending-event-3/
LOCATION:Pacheco Community Center\, 5800 Pacheco Blvd.\, Pacheco\, CA\, 94553\, United States
END:VEVENT
BEGIN:VEVENT
DTSTART;TZID=America/Los_Angeles:20211107T110000
DTEND;TZID=America/Los_Angeles:20211107T150000
DTSTAMP:20260422T194643
CREATED:20211022T202849Z
LAST-MODIFIED:20211025T205322Z
UID:3353-1636282800-1636297200@www.pachecocommunitycenter.com
SUMMARY:Private Event: Celebration of Life
DESCRIPTION:
URL:https://www.pachecocommunitycenter.com/events/pending-event-2/
LOCATION:Pacheco Community Center\, 5800 Pacheco Blvd.\, Pacheco\, CA\, 94553\, United States
END:VEVENT
BEGIN:VEVENT
DTSTART;TZID=America/Los_Angeles:20211106T170000
DTEND;TZID=America/Los_Angeles:20211106T230000
DTSTAMP:20260422T194643
CREATED:20211004T185435Z
LAST-MODIFIED:20211004T185435Z
UID:3243-1636218000-1636239600@www.pachecocommunitycenter.com
SUMMARY:Private Event: Birthday Party
DESCRIPTION:
URL:https://www.pachecocommunitycenter.com/events/private-event-birthday-party-15/
LOCATION:Pacheco Community Center\, 5800 Pacheco Blvd.\, Pacheco\, CA\, 94553\, United States
END:VEVENT
BEGIN:VEVENT
DTSTART;TZID=America/Los_Angeles:20211106T093000
DTEND;TZID=America/Los_Angeles:20211106T133000
DTSTAMP:20260422T194643
CREATED:20211022T202810Z
LAST-MODIFIED:20211022T202810Z
UID:3351-1636191000-1636205400@www.pachecocommunitycenter.com
SUMMARY:Community Clean Up Day
DESCRIPTION:
URL:https://www.pachecocommunitycenter.com/events/community-clean-up-day/
LOCATION:Pacheco Community Center\, 5800 Pacheco Blvd.\, Pacheco\, CA\, 94553\, United States
END:VEVENT
BEGIN:VEVENT
DTSTART;TZID=America/Los_Angeles:20211102T190000
DTEND;TZID=America/Los_Angeles:20211102T220000
DTSTAMP:20260422T194643
CREATED:20210614T203813Z
LAST-MODIFIED:20211022T204519Z
UID:2955-1635879600-1635890400@www.pachecocommunitycenter.com
SUMMARY:Martinez Swingers
DESCRIPTION:
URL:https://www.pachecocommunitycenter.com/events/election-day/
LOCATION:Pacheco Community Center\, 5800 Pacheco Blvd.\, Pacheco\, CA\, 94553\, United States
END:VEVENT
BEGIN:VEVENT
DTSTART;VALUE=DATE:20211030
DTEND;VALUE=DATE:20211102
DTSTAMP:20260422T194643
CREATED:20210517T201950Z
LAST-MODIFIED:20210517T202002Z
UID:2928-1635555600-1635728399@www.pachecocommunitycenter.com
SUMMARY:Pacheco Community Center Closed
DESCRIPTION:Pacheco Community Center is closed for Halloween.
URL:https://www.pachecocommunitycenter.com/events/pacheco-community-center-closed-4/
LOCATION:Pacheco Community Center\, 5800 Pacheco Blvd.\, Pacheco\, CA\, 94553\, United States
END:VEVENT
BEGIN:VEVENT
DTSTART;TZID=America/Los_Angeles:20211026T190000
DTEND;TZID=America/Los_Angeles:20211026T220000
DTSTAMP:20260422T194643
CREATED:20210614T203813Z
LAST-MODIFIED:20211022T204107Z
UID:2954-1635274800-1635285600@www.pachecocommunitycenter.com
SUMMARY:Martinez Swingers: Momentarily on Hold
DESCRIPTION:Martinez Swingers Square Dance group\, meets every Tuesday\, however they are currently on hold until the mask mandate is lifted. They plan on resuming classes Tuesday\, November 2nd.
URL:https://www.pachecocommunitycenter.com/events/martinez-swingers-2021-10-26/
LOCATION:Pacheco Community Center\, 5800 Pacheco Blvd.\, Pacheco\, CA\, 94553\, United States
END:VEVENT
BEGIN:VEVENT
DTSTART;TZID=America/Los_Angeles:20211024T080000
DTEND;TZID=America/Los_Angeles:20211024T170000
DTSTAMP:20260422T194643
CREATED:20210915T033448Z
LAST-MODIFIED:20210915T033448Z
UID:3219-1635062400-1635094800@www.pachecocommunitycenter.com
SUMMARY:Pending-Private Event
DESCRIPTION:
URL:https://www.pachecocommunitycenter.com/events/pending-private-event-2/
LOCATION:Pacheco Community Center\, 5800 Pacheco Blvd.\, Pacheco\, CA\, 94553\, United States
END:VEVENT
BEGIN:VEVENT
DTSTART;TZID=America/Los_Angeles:20211017T120000
DTEND;TZID=America/Los_Angeles:20211017T170000
DTSTAMP:20260422T194643
CREATED:20210926T200307Z
LAST-MODIFIED:20210926T200307Z
UID:3229-1634472000-1634490000@www.pachecocommunitycenter.com
SUMMARY:Private Event: Celebration of Life
DESCRIPTION:
URL:https://www.pachecocommunitycenter.com/events/private-event-celebration-of-life-5/
LOCATION:Pacheco Community Center\, 5800 Pacheco Blvd.\, Pacheco\, CA\, 94553\, United States
END:VEVENT
BEGIN:VEVENT
DTSTART;TZID=America/Los_Angeles:20211016T130000
DTEND;TZID=America/Los_Angeles:20211016T180000
DTSTAMP:20260422T194643
CREATED:20210915T032711Z
LAST-MODIFIED:20210926T200221Z
UID:3088-1634389200-1634407200@www.pachecocommunitycenter.com
SUMMARY:Private Event: Birthday Party
DESCRIPTION:
URL:https://www.pachecocommunitycenter.com/events/pending-private-event/
LOCATION:Pacheco Community Center\, 5800 Pacheco Blvd.\, Pacheco\, CA\, 94553\, United States
END:VEVENT
BEGIN:VEVENT
DTSTART;TZID=America/Los_Angeles:20211007T100000
DTEND;TZID=America/Los_Angeles:20211007T120000
DTSTAMP:20260422T194643
CREATED:20210628T191848Z
LAST-MODIFIED:20210628T191848Z
UID:2971-1633600800-1633608000@www.pachecocommunitycenter.com
SUMMARY:Retiree Support Group
DESCRIPTION:
URL:https://www.pachecocommunitycenter.com/events/retiree-support-group-4/
LOCATION:Pacheco Community Center\, 5800 Pacheco Blvd.\, Pacheco\, CA\, 94553\, United States
END:VEVENT
BEGIN:VEVENT
DTSTART;TZID=America/Los_Angeles:20210926T120000
DTEND;TZID=America/Los_Angeles:20210926T160000
DTSTAMP:20260422T194643
CREATED:20210926T195813Z
LAST-MODIFIED:20210926T195813Z
UID:3226-1632657600-1632672000@www.pachecocommunitycenter.com
SUMMARY:Private Event: Celebration of Life
DESCRIPTION:
URL:https://www.pachecocommunitycenter.com/events/private-event-celebration-of-life-4/
LOCATION:Pacheco Community Center\, 5800 Pacheco Blvd.\, Pacheco\, CA\, 94553\, United States
END:VEVENT
BEGIN:VEVENT
DTSTART;TZID=America/Los_Angeles:20210918T153000
DTEND;TZID=America/Los_Angeles:20210918T223000
DTSTAMP:20260422T194643
CREATED:20210823T201123Z
LAST-MODIFIED:20210823T201123Z
UID:3046-1631979000-1632004200@www.pachecocommunitycenter.com
SUMMARY:Private Event: Quinceañera
DESCRIPTION:
URL:https://www.pachecocommunitycenter.com/events/private-event-quinceanera-6/
LOCATION:Pacheco Community Center\, 5800 Pacheco Blvd.\, Pacheco\, CA\, 94553\, United States
END:VEVENT
END:VCALENDAR