BEGIN:VCALENDAR
VERSION:2.0
PRODID:-//Pacheco Community Center - ECPv6.15.15//NONSGML v1.0//EN
CALSCALE:GREGORIAN
METHOD:PUBLISH
X-WR-CALNAME:Pacheco Community Center
X-ORIGINAL-URL:https://www.pachecocommunitycenter.com
X-WR-CALDESC:Events for Pacheco Community Center
REFRESH-INTERVAL;VALUE=DURATION:PT1H
X-Robots-Tag:noindex
X-PUBLISHED-TTL:PT1H
BEGIN:VTIMEZONE
TZID:America/Los_Angeles
BEGIN:DAYLIGHT
TZOFFSETFROM:-0800
TZOFFSETTO:-0700
TZNAME:PDT
DTSTART:20180311T100000
END:DAYLIGHT
BEGIN:STANDARD
TZOFFSETFROM:-0700
TZOFFSETTO:-0800
TZNAME:PST
DTSTART:20181104T090000
END:STANDARD
BEGIN:DAYLIGHT
TZOFFSETFROM:-0800
TZOFFSETTO:-0700
TZNAME:PDT
DTSTART:20190310T100000
END:DAYLIGHT
BEGIN:STANDARD
TZOFFSETFROM:-0700
TZOFFSETTO:-0800
TZNAME:PST
DTSTART:20191103T090000
END:STANDARD
BEGIN:DAYLIGHT
TZOFFSETFROM:-0800
TZOFFSETTO:-0700
TZNAME:PDT
DTSTART:20200308T100000
END:DAYLIGHT
BEGIN:STANDARD
TZOFFSETFROM:-0700
TZOFFSETTO:-0800
TZNAME:PST
DTSTART:20201101T090000
END:STANDARD
BEGIN:DAYLIGHT
TZOFFSETFROM:-0800
TZOFFSETTO:-0700
TZNAME:PDT
DTSTART:20210314T100000
END:DAYLIGHT
BEGIN:STANDARD
TZOFFSETFROM:-0700
TZOFFSETTO:-0800
TZNAME:PST
DTSTART:20211107T090000
END:STANDARD
END:VTIMEZONE
BEGIN:VEVENT
DTSTART;VALUE=DATE:20200101
DTEND;VALUE=DATE:20200103
DTSTAMP:20260422T035435
CREATED:20191020T212141Z
LAST-MODIFIED:20191020T212141Z
UID:2634-1577840400-1577926799@www.pachecocommunitycenter.com
SUMMARY:New Years Day: Community Center Closed
DESCRIPTION:Happy New Year!
URL:https://www.pachecocommunitycenter.com/events/new-years-day-community-center-closed/
LOCATION:Pacheco Community Center\, 5800 Pacheco Blvd.\, Pacheco\, CA\, 94553\, United States
END:VEVENT
BEGIN:VEVENT
DTSTART;VALUE=DATE:20191231
DTEND;VALUE=DATE:20200102
DTSTAMP:20260422T035435
CREATED:20191020T211952Z
LAST-MODIFIED:20191020T211952Z
UID:2632-1577754000-1577840399@www.pachecocommunitycenter.com
SUMMARY:New Years Eve: Community Center Closed
DESCRIPTION:No events apart from scheduled Martinez Swingers Square Dance (unless otherwise noted). Happy New Year!
URL:https://www.pachecocommunitycenter.com/events/new-years-eve-community-center-closed/
LOCATION:Pacheco Community Center\, 5800 Pacheco Blvd.\, Pacheco\, CA\, 94553\, United States
END:VEVENT
BEGIN:VEVENT
DTSTART;VALUE=DATE:20191225
DTEND;VALUE=DATE:20191227
DTSTAMP:20260422T035435
CREATED:20190812T213332Z
LAST-MODIFIED:20191020T211606Z
UID:2601-1577235600-1577321999@www.pachecocommunitycenter.com
SUMMARY:Christmas Day: Community Center Closed
DESCRIPTION:
URL:https://www.pachecocommunitycenter.com/events/office-hours-10am-3pm-2-2019-12-25/
LOCATION:Pacheco Community Center\, 5800 Pacheco Blvd.\, Pacheco\, CA\, 94553\, United States
END:VEVENT
BEGIN:VEVENT
DTSTART;VALUE=DATE:20191224
DTEND;VALUE=DATE:20191226
DTSTAMP:20260422T035435
CREATED:20191020T212301Z
LAST-MODIFIED:20191020T212301Z
UID:2636-1577149200-1577235599@www.pachecocommunitycenter.com
SUMMARY:Christmas Eve: Community Center Closed
DESCRIPTION:Community Center closed to all events apart from scheduled Martinez Swingers Square Dance (unless otherwise noted).
URL:https://www.pachecocommunitycenter.com/events/christmas-eve-community-center-closed/
LOCATION:Pacheco Community Center\, 5800 Pacheco Blvd.\, Pacheco\, CA\, 94553\, United States
END:VEVENT
BEGIN:VEVENT
DTSTART;TZID=America/Los_Angeles:20191220T150000
DTEND;TZID=America/Los_Angeles:20191220T190000
DTSTAMP:20260422T035435
CREATED:20191020T211111Z
LAST-MODIFIED:20191209T033001Z
UID:2628-1576854000-1576868400@www.pachecocommunitycenter.com
SUMMARY:Private Event: Holiday Party
DESCRIPTION:
URL:https://www.pachecocommunitycenter.com/events/private-event-birthday-party-9/
LOCATION:Pacheco Community Center\, 5800 Pacheco Blvd.\, Pacheco\, CA\, 94553\, United States
END:VEVENT
BEGIN:VEVENT
DTSTART;TZID=America/Los_Angeles:20191219T120000
DTEND;TZID=America/Los_Angeles:20191219T170000
DTSTAMP:20260422T035435
CREATED:20191209T035417Z
LAST-MODIFIED:20191209T035417Z
UID:2649-1576756800-1576774800@www.pachecocommunitycenter.com
SUMMARY:Private Event: Holiday Party
DESCRIPTION:
URL:https://www.pachecocommunitycenter.com/events/private-event-holiday-party-3/
LOCATION:Pacheco Community Center\, 5800 Pacheco Blvd.\, Pacheco\, CA\, 94553\, United States
END:VEVENT
BEGIN:VEVENT
DTSTART;TZID=America/Los_Angeles:20191216T173000
DTEND;TZID=America/Los_Angeles:20191216T203000
DTSTAMP:20260422T035435
CREATED:20190812T212920Z
LAST-MODIFIED:20190812T212920Z
UID:2573-1576517400-1576528200@www.pachecocommunitycenter.com
SUMMARY:Sunrise Ridge Association- Conference Room Meeting
DESCRIPTION:
URL:https://www.pachecocommunitycenter.com/events/sunrise-ridge-association-conference-room-meeting-2/
LOCATION:Pacheco Community Center\, 5800 Pacheco Blvd.\, Pacheco\, CA\, 94553\, United States
END:VEVENT
BEGIN:VEVENT
DTSTART;TZID=America/Los_Angeles:20191214T140000
DTEND;TZID=America/Los_Angeles:20191214T200000
DTSTAMP:20260422T035435
CREATED:20191020T210751Z
LAST-MODIFIED:20191020T210751Z
UID:2624-1576332000-1576353600@www.pachecocommunitycenter.com
SUMMARY:Private Event: Birthday Party/ Recovery Celebration!
DESCRIPTION:
URL:https://www.pachecocommunitycenter.com/events/private-event-birthday-party-recovery-celebration/
LOCATION:Pacheco Community Center\, 5800 Pacheco Blvd.\, Pacheco\, CA\, 94553\, United States
END:VEVENT
BEGIN:VEVENT
DTSTART;TZID=America/Los_Angeles:20191214T100000
DTEND;TZID=America/Los_Angeles:20191214T120000
DTSTAMP:20260422T035435
CREATED:20190812T212457Z
LAST-MODIFIED:20190812T212457Z
UID:2571-1576317600-1576324800@www.pachecocommunitycenter.com
SUMMARY:PCC Holiday Party!!
DESCRIPTION:
URL:https://www.pachecocommunitycenter.com/events/pcc-holiday-party/
LOCATION:Pacheco Community Center\, 5800 Pacheco Blvd.\, Pacheco\, CA\, 94553\, United States
END:VEVENT
BEGIN:VEVENT
DTSTART;TZID=America/Los_Angeles:20191213T180000
DTEND;TZID=America/Los_Angeles:20191213T220000
DTSTAMP:20260422T035435
CREATED:20191020T210947Z
LAST-MODIFIED:20191020T210947Z
UID:2626-1576260000-1576274400@www.pachecocommunitycenter.com
SUMMARY:Private Event: Holiday Party
DESCRIPTION:
URL:https://www.pachecocommunitycenter.com/events/private-event-holiday-party-2/
LOCATION:Pacheco Community Center\, 5800 Pacheco Blvd.\, Pacheco\, CA\, 94553\, United States
END:VEVENT
BEGIN:VEVENT
DTSTART;TZID=America/Los_Angeles:20191212T160000
DTEND;TZID=America/Los_Angeles:20191212T220000
DTSTAMP:20260422T035435
CREATED:20190812T212336Z
LAST-MODIFIED:20190812T212336Z
UID:2569-1576166400-1576188000@www.pachecocommunitycenter.com
SUMMARY:Private Event: Holiday Party
DESCRIPTION:
URL:https://www.pachecocommunitycenter.com/events/private-event-holiday-party/
LOCATION:Pacheco Community Center\, 5800 Pacheco Blvd.\, Pacheco\, CA\, 94553\, United States
END:VEVENT
BEGIN:VEVENT
DTSTART;TZID=America/Los_Angeles:20191211T183000
DTEND;TZID=America/Los_Angeles:20191211T213000
DTSTAMP:20260422T035435
CREATED:20190812T213605Z
LAST-MODIFIED:20190812T213605Z
UID:2604-1576089000-1576099800@www.pachecocommunitycenter.com
SUMMARY:Pacheco Municipal Advisory Council Meeting
DESCRIPTION:
URL:https://www.pachecocommunitycenter.com/events/pacheco-municipal-advisory-council-meeting-3/
LOCATION:Pacheco Community Center\, 5800 Pacheco Blvd.\, Pacheco\, CA\, 94553\, United States
END:VEVENT
BEGIN:VEVENT
DTSTART;TZID=America/Los_Angeles:20191208T150000
DTEND;TZID=America/Los_Angeles:20191208T220000
DTSTAMP:20260422T035435
CREATED:20190812T212017Z
LAST-MODIFIED:20190812T212017Z
UID:2564-1575817200-1575842400@www.pachecocommunitycenter.com
SUMMARY:Private Event: Diablo Valley Corvettes Dinner Party
DESCRIPTION:
URL:https://www.pachecocommunitycenter.com/events/private-event-diablo-valley-corvettes-dinner-party/
LOCATION:Pacheco Community Center\, 5800 Pacheco Blvd.\, Pacheco\, CA\, 94553\, United States
END:VEVENT
BEGIN:VEVENT
DTSTART;TZID=America/Los_Angeles:20191207T110000
DTEND;TZID=America/Los_Angeles:20191207T190000
DTSTAMP:20260422T035435
CREATED:20191209T035317Z
LAST-MODIFIED:20191209T035317Z
UID:2647-1575716400-1575745200@www.pachecocommunitycenter.com
SUMMARY:Private Event: Birthday Party
DESCRIPTION:
URL:https://www.pachecocommunitycenter.com/events/private-event-birthday-party-10/
LOCATION:Pacheco Community Center\, 5800 Pacheco Blvd.\, Pacheco\, CA\, 94553\, United States
END:VEVENT
BEGIN:VEVENT
DTSTART;TZID=America/Los_Angeles:20191205T090000
DTEND;TZID=America/Los_Angeles:20191205T130000
DTSTAMP:20260422T035435
CREATED:20190812T211928Z
LAST-MODIFIED:20190812T211928Z
UID:2562-1575536400-1575550800@www.pachecocommunitycenter.com
SUMMARY:Retiree Support Group
DESCRIPTION:
URL:https://www.pachecocommunitycenter.com/events/retiree-support-group-2/
LOCATION:Pacheco Community Center\, 5800 Pacheco Blvd.\, Pacheco\, CA\, 94553\, United States
END:VEVENT
BEGIN:VEVENT
DTSTART;VALUE=DATE:20191128
DTEND;VALUE=DATE:20191130
DTSTAMP:20260422T035435
CREATED:20191020T212541Z
LAST-MODIFIED:20191020T212541Z
UID:2638-1574902800-1574989199@www.pachecocommunitycenter.com
SUMMARY:Thanksgiving Day: Community Center Closed
DESCRIPTION:
URL:https://www.pachecocommunitycenter.com/events/thanksgiving-day-community-center-closed/
LOCATION:Pacheco Community Center\, 5800 Pacheco Blvd.\, Pacheco\, CA\, 94553\, United States
END:VEVENT
BEGIN:VEVENT
DTSTART;TZID=America/Los_Angeles:20191127T183000
DTEND;TZID=America/Los_Angeles:20191127T193000
DTSTAMP:20260422T035435
CREATED:20190424T223616Z
LAST-MODIFIED:20190424T223616Z
UID:2264-1574879400-1574883000@www.pachecocommunitycenter.com
SUMMARY:Pacheco Town Council Meeting
DESCRIPTION:Meeting 6:30pm-7:30pm in the Conference Room. Come join members of your community to discuss what’s going on in Pacheco. All Pacheco residents are welcome to stop by. Council meets fourth Wednesday of every month.
URL:https://www.pachecocommunitycenter.com/events/pacheco-town-council-meeting-13/
LOCATION:Pacheco Community Center\, 5800 Pacheco Blvd.\, Pacheco\, CA\, 94553\, United States
END:VEVENT
BEGIN:VEVENT
DTSTART;TZID=America/Los_Angeles:20191123T080000
DTEND;TZID=America/Los_Angeles:20191123T140000
DTSTAMP:20260422T035435
CREATED:20190812T211247Z
LAST-MODIFIED:20190812T211247Z
UID:2556-1574496000-1574517600@www.pachecocommunitycenter.com
SUMMARY:Private Event: Wedding Reception
DESCRIPTION:
URL:https://www.pachecocommunitycenter.com/events/private-event-wedding-reception/
LOCATION:Pacheco Community Center\, 5800 Pacheco Blvd.\, Pacheco\, CA\, 94553\, United States
END:VEVENT
BEGIN:VEVENT
DTSTART;TZID=America/Los_Angeles:20191118T173000
DTEND;TZID=America/Los_Angeles:20191118T203000
DTSTAMP:20260422T035435
CREATED:20190812T211450Z
LAST-MODIFIED:20190812T211450Z
UID:2558-1574098200-1574109000@www.pachecocommunitycenter.com
SUMMARY:Sunrise Ridge Association- Conference Room Meeting
DESCRIPTION:
URL:https://www.pachecocommunitycenter.com/events/sunrise-ridge-association-conference-room-meeting/
LOCATION:Pacheco Community Center\, 5800 Pacheco Blvd.\, Pacheco\, CA\, 94553\, United States
END:VEVENT
BEGIN:VEVENT
DTSTART;TZID=America/Los_Angeles:20191113T183000
DTEND;TZID=America/Los_Angeles:20191113T213000
DTSTAMP:20260422T035435
CREATED:20190812T211621Z
LAST-MODIFIED:20190812T211621Z
UID:2560-1573669800-1573680600@www.pachecocommunitycenter.com
SUMMARY:Pacheco Municipal Advisory Council Meeting
DESCRIPTION:
URL:https://www.pachecocommunitycenter.com/events/pacheco-municipal-advisory-council-meeting-2/
LOCATION:Pacheco Community Center\, 5800 Pacheco Blvd.\, Pacheco\, CA\, 94553\, United States
END:VEVENT
BEGIN:VEVENT
DTSTART;TZID=America/Los_Angeles:20191111T100000
DTEND;TZID=America/Los_Angeles:20191111T150000
DTSTAMP:20260422T035435
CREATED:20190812T213332Z
LAST-MODIFIED:20191109T232333Z
UID:2582-1573466400-1573484400@www.pachecocommunitycenter.com
SUMMARY:Office Closed: Veterans Day
DESCRIPTION:
URL:https://www.pachecocommunitycenter.com/events/office-hours-10am-3pm-2-2019-11-11/
LOCATION:Pacheco Community Center\, 5800 Pacheco Blvd.\, Pacheco\, CA\, 94553\, United States
END:VEVENT
BEGIN:VEVENT
DTSTART;TZID=America/Los_Angeles:20191110T140000
DTEND;TZID=America/Los_Angeles:20191110T200000
DTSTAMP:20260422T035435
CREATED:20191019T224652Z
LAST-MODIFIED:20191019T224652Z
UID:2610-1573394400-1573416000@www.pachecocommunitycenter.com
SUMMARY:Private Event: Family Reunion
DESCRIPTION:
URL:https://www.pachecocommunitycenter.com/events/private-event-family-reunion/
LOCATION:Pacheco Community Center\, 5800 Pacheco Blvd.\, Pacheco\, CA\, 94553\, United States
END:VEVENT
BEGIN:VEVENT
DTSTART;TZID=America/Los_Angeles:20191109T150000
DTEND;TZID=America/Los_Angeles:20191109T220000
DTSTAMP:20260422T035435
CREATED:20191019T224200Z
LAST-MODIFIED:20191019T224200Z
UID:2608-1573311600-1573336800@www.pachecocommunitycenter.com
SUMMARY:Private Event: Baby Shower
DESCRIPTION:
URL:https://www.pachecocommunitycenter.com/events/private-event-baby-shower-5/
LOCATION:Pacheco Community Center\, 5800 Pacheco Blvd.\, Pacheco\, CA\, 94553\, United States
END:VEVENT
BEGIN:VEVENT
DTSTART;TZID=America/Los_Angeles:20191102T150000
DTEND;TZID=America/Los_Angeles:20191102T210000
DTSTAMP:20260422T035435
CREATED:20190812T211159Z
LAST-MODIFIED:20190812T211159Z
UID:2554-1572706800-1572728400@www.pachecocommunitycenter.com
SUMMARY:Private Event: Silver Wedding Anniversary
DESCRIPTION:
URL:https://www.pachecocommunitycenter.com/events/private-event-silver-wedding-anniversary/
LOCATION:Pacheco Community Center\, 5800 Pacheco Blvd.\, Pacheco\, CA\, 94553\, United States
END:VEVENT
BEGIN:VEVENT
DTSTART;TZID=America/Los_Angeles:20191030T173000
DTEND;TZID=America/Los_Angeles:20191030T200000
DTSTAMP:20260422T035435
CREATED:20191019T231157Z
LAST-MODIFIED:20191019T231157Z
UID:2622-1572456600-1572465600@www.pachecocommunitycenter.com
SUMMARY:Pacheco Town Council Member Spaghetti Dinner
DESCRIPTION:
URL:https://www.pachecocommunitycenter.com/events/pacheco-town-council-member-spaghetti-dinner/
LOCATION:Pacheco Community Center\, 5800 Pacheco Blvd.\, Pacheco\, CA\, 94553\, United States
END:VEVENT
BEGIN:VEVENT
DTSTART;TZID=America/Los_Angeles:20191026T113000
DTEND;TZID=America/Los_Angeles:20191026T163000
DTSTAMP:20260422T035435
CREATED:20191019T224813Z
LAST-MODIFIED:20191019T224813Z
UID:2612-1572089400-1572107400@www.pachecocommunitycenter.com
SUMMARY:Private Event: Celebration of Life
DESCRIPTION:
URL:https://www.pachecocommunitycenter.com/events/private-event-celebration-of-life-3/
LOCATION:Pacheco Community Center\, 5800 Pacheco Blvd.\, Pacheco\, CA\, 94553\, United States
END:VEVENT
BEGIN:VEVENT
DTSTART;TZID=America/Los_Angeles:20191024T083000
DTEND;TZID=America/Los_Angeles:20191024T173000
DTSTAMP:20260422T035435
CREATED:20190812T205723Z
LAST-MODIFIED:20190812T205723Z
UID:2539-1571905800-1571938200@www.pachecocommunitycenter.com
SUMMARY:Lifeline Screening- Public Event
DESCRIPTION:
URL:https://www.pachecocommunitycenter.com/events/lifeline-screening-public-event/
LOCATION:Pacheco Community Center\, 5800 Pacheco Blvd.\, Pacheco\, CA\, 94553\, United States
END:VEVENT
BEGIN:VEVENT
DTSTART;TZID=America/Los_Angeles:20191023T183000
DTEND;TZID=America/Los_Angeles:20191023T193000
DTSTAMP:20260422T035435
CREATED:20190424T223506Z
LAST-MODIFIED:20190424T223506Z
UID:2262-1571855400-1571859000@www.pachecocommunitycenter.com
SUMMARY:Pacheco Town Council Meeting
DESCRIPTION:Meeting 6:30pm-7:30pm in the Conference Room. Come join members of your community to discuss what’s going on in Pacheco. All Pacheco residents are welcome to stop by. Council meets fourth Wednesday of every month.
URL:https://www.pachecocommunitycenter.com/events/pacheco-town-council-meeting-12/
LOCATION:Pacheco Community Center\, 5800 Pacheco Blvd.\, Pacheco\, CA\, 94553\, United States
END:VEVENT
BEGIN:VEVENT
DTSTART;TZID=America/Los_Angeles:20191021T173000
DTEND;TZID=America/Los_Angeles:20191021T203000
DTSTAMP:20260422T035435
CREATED:20191019T225327Z
LAST-MODIFIED:20191019T225327Z
UID:2618-1571679000-1571689800@www.pachecocommunitycenter.com
SUMMARY:Conference Room Meeting: Sunrise Ridge Association
DESCRIPTION:
URL:https://www.pachecocommunitycenter.com/events/conference-room-meeting-sunrise-ridge-association/
LOCATION:Pacheco Community Center\, 5800 Pacheco Blvd.\, Pacheco\, CA\, 94553\, United States
END:VEVENT
BEGIN:VEVENT
DTSTART;TZID=America/Los_Angeles:20191020T140000
DTEND;TZID=America/Los_Angeles:20191020T190000
DTSTAMP:20260422T035435
CREATED:20190424T223737Z
LAST-MODIFIED:20191019T224908Z
UID:2266-1571580000-1571598000@www.pachecocommunitycenter.com
SUMMARY:Private Event: Birthday Party
DESCRIPTION:
URL:https://www.pachecocommunitycenter.com/events/private-event-birthday-party-6/
LOCATION:Pacheco Community Center\, 5800 Pacheco Blvd.\, Pacheco\, CA\, 94553\, United States
END:VEVENT
END:VCALENDAR