BEGIN:VCALENDAR
VERSION:2.0
PRODID:-//Pacheco Community Center - ECPv6.15.15//NONSGML v1.0//EN
CALSCALE:GREGORIAN
METHOD:PUBLISH
X-WR-CALNAME:Pacheco Community Center
X-ORIGINAL-URL:https://www.pachecocommunitycenter.com
X-WR-CALDESC:Events for Pacheco Community Center
REFRESH-INTERVAL;VALUE=DURATION:PT1H
X-Robots-Tag:noindex
X-PUBLISHED-TTL:PT1H
BEGIN:VTIMEZONE
TZID:America/Los_Angeles
BEGIN:DAYLIGHT
TZOFFSETFROM:-0800
TZOFFSETTO:-0700
TZNAME:PDT
DTSTART:20180311T100000
END:DAYLIGHT
BEGIN:STANDARD
TZOFFSETFROM:-0700
TZOFFSETTO:-0800
TZNAME:PST
DTSTART:20181104T090000
END:STANDARD
BEGIN:DAYLIGHT
TZOFFSETFROM:-0800
TZOFFSETTO:-0700
TZNAME:PDT
DTSTART:20190310T100000
END:DAYLIGHT
BEGIN:STANDARD
TZOFFSETFROM:-0700
TZOFFSETTO:-0800
TZNAME:PST
DTSTART:20191103T090000
END:STANDARD
BEGIN:DAYLIGHT
TZOFFSETFROM:-0800
TZOFFSETTO:-0700
TZNAME:PDT
DTSTART:20200308T100000
END:DAYLIGHT
BEGIN:STANDARD
TZOFFSETFROM:-0700
TZOFFSETTO:-0800
TZNAME:PST
DTSTART:20201101T090000
END:STANDARD
BEGIN:DAYLIGHT
TZOFFSETFROM:-0800
TZOFFSETTO:-0700
TZNAME:PDT
DTSTART:20210314T100000
END:DAYLIGHT
BEGIN:STANDARD
TZOFFSETFROM:-0700
TZOFFSETTO:-0800
TZNAME:PST
DTSTART:20211107T090000
END:STANDARD
BEGIN:DAYLIGHT
TZOFFSETFROM:-0800
TZOFFSETTO:-0700
TZNAME:PDT
DTSTART:20220313T100000
END:DAYLIGHT
BEGIN:STANDARD
TZOFFSETFROM:-0700
TZOFFSETTO:-0800
TZNAME:PST
DTSTART:20221106T090000
END:STANDARD
END:VTIMEZONE
BEGIN:VEVENT
DTSTART;TZID=America/Los_Angeles:20210702T080000
DTEND;TZID=America/Los_Angeles:20210702T170000
DTSTAMP:20260422T061542
CREATED:20210517T201210Z
LAST-MODIFIED:20210517T201210Z
UID:2910-1625212800-1625245200@www.pachecocommunitycenter.com
SUMMARY:Lifeline Screening
DESCRIPTION:Health Screening Event
URL:https://www.pachecocommunitycenter.com/events/lifeline-screening-4/
LOCATION:Pacheco Community Center\, 5800 Pacheco Blvd.\, Pacheco\, CA\, 94553\, United States
END:VEVENT
BEGIN:VEVENT
DTSTART;VALUE=DATE:20210702
DTEND;VALUE=DATE:20210704
DTSTAMP:20260422T061542
CREATED:20210628T191735Z
LAST-MODIFIED:20210628T191735Z
UID:2967-1625187600-1625273999@www.pachecocommunitycenter.com
SUMMARY:Pacheco Community Center Closed
DESCRIPTION:
URL:https://www.pachecocommunitycenter.com/events/pacheco-community-center-closed-6/
LOCATION:Pacheco Community Center\, 5800 Pacheco Blvd.\, Pacheco\, CA\, 94553\, United States
END:VEVENT
BEGIN:VEVENT
DTSTART;TZID=America/Los_Angeles:20210619T140000
DTEND;TZID=America/Los_Angeles:20210619T190000
DTSTAMP:20260422T061542
CREATED:20210517T201446Z
LAST-MODIFIED:20210517T201459Z
UID:2915-1624111200-1624129200@www.pachecocommunitycenter.com
SUMMARY:Event Pending
DESCRIPTION:
URL:https://www.pachecocommunitycenter.com/events/pending-event/
LOCATION:Pacheco Community Center\, 5800 Pacheco Blvd.\, Pacheco\, CA\, 94553\, United States
END:VEVENT
BEGIN:VEVENT
DTSTART;TZID=America/Los_Angeles:20210605T080000
DTEND;TZID=America/Los_Angeles:20210605T170000
DTSTAMP:20260422T061542
CREATED:20210517T201038Z
LAST-MODIFIED:20210517T201038Z
UID:2908-1622880000-1622912400@www.pachecocommunitycenter.com
SUMMARY:Event Pending
DESCRIPTION:
URL:https://www.pachecocommunitycenter.com/events/event-pending/
LOCATION:Pacheco Community Center\, 5800 Pacheco Blvd.\, Pacheco\, CA\, 94553\, United States
END:VEVENT
BEGIN:VEVENT
DTSTART;TZID=America/Los_Angeles:20201107T090000
DTEND;TZID=America/Los_Angeles:20201107T140000
DTSTAMP:20260422T061542
CREATED:20201028T211130Z
LAST-MODIFIED:20201028T211130Z
UID:2887-1604739600-1604757600@www.pachecocommunitycenter.com
SUMMARY:Pacheco Community Clean Up Day
DESCRIPTION:We will once again be hosting as a site for Pacheco residents to drop off unwanted items in dumpsters donated by Supervisor Federal Glover’s office. Completely free of charge! \nPlease visit our Nextdoor page for more information and to view our flier. \n  \nhttps://nextdoor.com/pages/pacheco-community-center/
URL:https://www.pachecocommunitycenter.com/events/pacheco-community-clean-up-day/
LOCATION:Pacheco Community Center\, 5800 Pacheco Blvd.\, Pacheco\, CA\, 94553\, United States
END:VEVENT
BEGIN:VEVENT
DTSTART;TZID=America/Los_Angeles:20201103T070000
DTEND;TZID=America/Los_Angeles:20201103T200000
DTSTAMP:20260422T061543
CREATED:20201007T230549Z
LAST-MODIFIED:20201028T210651Z
UID:2881-1604386800-1604433600@www.pachecocommunitycenter.com
SUMMARY:Polling Station
DESCRIPTION:We are once again happy to serve as Pacheco’s polling station on Tuesday\, November 3\, 2020. Please remember to wear a mask! \nWe will also have mail-in-ballot drop off boxes for those turning in ballots by hand.
URL:https://www.pachecocommunitycenter.com/events/polling-station/
LOCATION:Pacheco Community Center\, 5800 Pacheco Blvd.\, Pacheco\, CA\, 94553\, United States
END:VEVENT
BEGIN:VEVENT
DTSTART;TZID=America/Los_Angeles:20200615T173000
DTEND;TZID=America/Los_Angeles:20200615T203000
DTSTAMP:20260422T061543
CREATED:20191209T043852Z
LAST-MODIFIED:20191209T043852Z
UID:2763-1592242200-1592253000@www.pachecocommunitycenter.com
SUMMARY:Sunrise Ridge Association- Conference Room Meeting
DESCRIPTION:
URL:https://www.pachecocommunitycenter.com/events/sunrise-ridge-association-conference-room-meeting-8/
LOCATION:Pacheco Community Center\, 5800 Pacheco Blvd.\, Pacheco\, CA\, 94553\, United States
END:VEVENT
BEGIN:VEVENT
DTSTART;TZID=America/Los_Angeles:20200607T100000
DTEND;TZID=America/Los_Angeles:20200607T140000
DTSTAMP:20260422T061543
CREATED:20191209T044806Z
LAST-MODIFIED:20191209T044806Z
UID:2833-1591524000-1591538400@www.pachecocommunitycenter.com
SUMMARY:Tech Trek Ice Cream Social
DESCRIPTION:
URL:https://www.pachecocommunitycenter.com/events/tech-trek-ice-cream-social/
LOCATION:Pacheco Community Center\, 5800 Pacheco Blvd.\, Pacheco\, CA\, 94553\, United States
END:VEVENT
BEGIN:VEVENT
DTSTART;TZID=America/Los_Angeles:20200518T173000
DTEND;TZID=America/Los_Angeles:20200518T203000
DTSTAMP:20260422T061543
CREATED:20191209T043201Z
LAST-MODIFIED:20191209T043201Z
UID:2759-1589823000-1589833800@www.pachecocommunitycenter.com
SUMMARY:Sunrise Ridge Association- Conference Room Meeting
DESCRIPTION:
URL:https://www.pachecocommunitycenter.com/events/sunrise-ridge-association-conference-room-meeting-7/
LOCATION:Pacheco Community Center\, 5800 Pacheco Blvd.\, Pacheco\, CA\, 94553\, United States
END:VEVENT
BEGIN:VEVENT
DTSTART;TZID=America/Los_Angeles:20200426T120000
DTEND;TZID=America/Los_Angeles:20200426T200000
DTSTAMP:20260422T061543
CREATED:20191209T042734Z
LAST-MODIFIED:20191209T042734Z
UID:2753-1587902400-1587931200@www.pachecocommunitycenter.com
SUMMARY:Private Event: Birthday Party
DESCRIPTION:
URL:https://www.pachecocommunitycenter.com/events/private-event-birthday-party-13/
LOCATION:Pacheco Community Center\, 5800 Pacheco Blvd.\, Pacheco\, CA\, 94553\, United States
END:VEVENT
BEGIN:VEVENT
DTSTART;TZID=America/Los_Angeles:20200420T173000
DTEND;TZID=America/Los_Angeles:20200420T203000
DTSTAMP:20260422T061543
CREATED:20191209T042628Z
LAST-MODIFIED:20191209T042628Z
UID:2751-1587403800-1587414600@www.pachecocommunitycenter.com
SUMMARY:Sunrise Ridge Association- Conference Room Meeting
DESCRIPTION:
URL:https://www.pachecocommunitycenter.com/events/sunrise-ridge-association-conference-room-meeting-6/
LOCATION:Pacheco Community Center\, 5800 Pacheco Blvd.\, Pacheco\, CA\, 94553\, United States
END:VEVENT
BEGIN:VEVENT
DTSTART;TZID=America/Los_Angeles:20200418T150000
DTEND;TZID=America/Los_Angeles:20200418T230000
DTSTAMP:20260422T061543
CREATED:20191209T042908Z
LAST-MODIFIED:20191209T042908Z
UID:2757-1587222000-1587250800@www.pachecocommunitycenter.com
SUMMARY:Private Event: Quinceanera
DESCRIPTION:
URL:https://www.pachecocommunitycenter.com/events/private-event-quinceanera-5/
LOCATION:Pacheco Community Center\, 5800 Pacheco Blvd.\, Pacheco\, CA\, 94553\, United States
END:VEVENT
BEGIN:VEVENT
DTSTART;TZID=America/Los_Angeles:20200411T140000
DTEND;TZID=America/Los_Angeles:20200411T220000
DTSTAMP:20260422T061543
CREATED:20191209T042809Z
LAST-MODIFIED:20191209T042809Z
UID:2755-1586613600-1586642400@www.pachecocommunitycenter.com
SUMMARY:Private Event: Birthday Party
DESCRIPTION:
URL:https://www.pachecocommunitycenter.com/events/private-event-birthday-party-14/
LOCATION:Pacheco Community Center\, 5800 Pacheco Blvd.\, Pacheco\, CA\, 94553\, United States
END:VEVENT
BEGIN:VEVENT
DTSTART;TZID=America/Los_Angeles:20200411T100000
DTEND;TZID=America/Los_Angeles:20200411T120000
DTSTAMP:20260422T061543
CREATED:20191209T043605Z
LAST-MODIFIED:20191209T043605Z
UID:2761-1586599200-1586606400@www.pachecocommunitycenter.com
SUMMARY:PCC Community Easter Egg Hunt
DESCRIPTION:Come join us as we celebrate spring with our annual egg hunt\, fun\, games and prizes\, and pictures with the Easter Bunny.  Small snack foods and drink will be provided.  Be sure to bring a bag or basket for all the eggs you find!  Fun for all children from ages 1-12.
URL:https://www.pachecocommunitycenter.com/events/pcc-community-easter-egg-hunt/
LOCATION:Pacheco Community Center\, 5800 Pacheco Blvd.\, Pacheco\, CA\, 94553\, United States
END:VEVENT
BEGIN:VEVENT
DTSTART;TZID=America/Los_Angeles:20200316T173000
DTEND;TZID=America/Los_Angeles:20200316T203000
DTSTAMP:20260422T061543
CREATED:20191209T042523Z
LAST-MODIFIED:20191209T042523Z
UID:2749-1584379800-1584390600@www.pachecocommunitycenter.com
SUMMARY:Sunrise Ridge Association- Conference Room Meeting
DESCRIPTION:
URL:https://www.pachecocommunitycenter.com/events/sunrise-ridge-association-conference-room-meeting-5/
LOCATION:Pacheco Community Center\, 5800 Pacheco Blvd.\, Pacheco\, CA\, 94553\, United States
END:VEVENT
BEGIN:VEVENT
DTSTART;TZID=America/Los_Angeles:20200217T080000
DTEND;TZID=America/Los_Angeles:20200217T170000
DTSTAMP:20260422T061543
CREATED:20191209T041117Z
LAST-MODIFIED:20191209T041117Z
UID:2745-1581926400-1581958800@www.pachecocommunitycenter.com
SUMMARY:The Child Day Schools- Private Event
DESCRIPTION:
URL:https://www.pachecocommunitycenter.com/events/the-child-day-schools-private-event/
LOCATION:Pacheco Community Center\, 5800 Pacheco Blvd.\, Pacheco\, CA\, 94553\, United States
END:VEVENT
BEGIN:VEVENT
DTSTART;TZID=America/Los_Angeles:20200215T120000
DTEND;TZID=America/Los_Angeles:20200215T233000
DTSTAMP:20260422T061543
CREATED:20191209T041239Z
LAST-MODIFIED:20191209T041239Z
UID:2747-1581768000-1581809400@www.pachecocommunitycenter.com
SUMMARY:Private Event: Birthday Party
DESCRIPTION:
URL:https://www.pachecocommunitycenter.com/events/private-event-birthday-party-12/
LOCATION:Pacheco Community Center\, 5800 Pacheco Blvd.\, Pacheco\, CA\, 94553\, United States
END:VEVENT
BEGIN:VEVENT
DTSTART;TZID=America/Los_Angeles:20200210T173000
DTEND;TZID=America/Los_Angeles:20200210T203000
DTSTAMP:20260422T061543
CREATED:20191209T040935Z
LAST-MODIFIED:20191209T040935Z
UID:2743-1581355800-1581366600@www.pachecocommunitycenter.com
SUMMARY:Sunrise Ridge Association- Conference Room Meeting
DESCRIPTION:
URL:https://www.pachecocommunitycenter.com/events/sunrise-ridge-association-conference-room-meeting-4/
LOCATION:Pacheco Community Center\, 5800 Pacheco Blvd.\, Pacheco\, CA\, 94553\, United States
END:VEVENT
BEGIN:VEVENT
DTSTART;TZID=America/Los_Angeles:20200125T170000
DTEND;TZID=America/Los_Angeles:20200125T230000
DTSTAMP:20260422T061543
CREATED:20191209T035740Z
LAST-MODIFIED:20191209T035740Z
UID:2651-1579971600-1579993200@www.pachecocommunitycenter.com
SUMMARY:Private Event: Birthday Party
DESCRIPTION:
URL:https://www.pachecocommunitycenter.com/events/private-event-birthday-party-11/
LOCATION:Pacheco Community Center\, 5800 Pacheco Blvd.\, Pacheco\, CA\, 94553\, United States
END:VEVENT
BEGIN:VEVENT
DTSTART;TZID=America/Los_Angeles:20200121T183000
DTEND;TZID=America/Los_Angeles:20200121T213000
DTSTAMP:20260422T061543
CREATED:20191209T040244Z
LAST-MODIFIED:20191209T040244Z
UID:2657-1579631400-1579642200@www.pachecocommunitycenter.com
SUMMARY:Villages at Arnold- Conference Room Meeting
DESCRIPTION:
URL:https://www.pachecocommunitycenter.com/events/villages-at-arnold-conference-room-meeting-2/
LOCATION:Pacheco Community Center\, 5800 Pacheco Blvd.\, Pacheco\, CA\, 94553\, United States
END:VEVENT
BEGIN:VEVENT
DTSTART;TZID=America/Los_Angeles:20200113T173000
DTEND;TZID=America/Los_Angeles:20200113T203000
DTSTAMP:20260422T061543
CREATED:20191209T040032Z
LAST-MODIFIED:20191209T040032Z
UID:2655-1578936600-1578947400@www.pachecocommunitycenter.com
SUMMARY:Sunrise Ridge Association- Conference Room Meeting
DESCRIPTION:
URL:https://www.pachecocommunitycenter.com/events/sunrise-ridge-association-conference-room-meeting-3/
LOCATION:Pacheco Community Center\, 5800 Pacheco Blvd.\, Pacheco\, CA\, 94553\, United States
END:VEVENT
BEGIN:VEVENT
DTSTART;TZID=America/Los_Angeles:20200110T090000
DTEND;TZID=America/Los_Angeles:20200110T160000
DTSTAMP:20260422T061543
CREATED:20191209T040324Z
LAST-MODIFIED:20191209T040324Z
UID:2659-1578646800-1578672000@www.pachecocommunitycenter.com
SUMMARY:Public Event- Lifeline Health Screening
DESCRIPTION:
URL:https://www.pachecocommunitycenter.com/events/public-event-lifeline-health-screening/
LOCATION:Pacheco Community Center\, 5800 Pacheco Blvd.\, Pacheco\, CA\, 94553\, United States
END:VEVENT
BEGIN:VEVENT
DTSTART;TZID=America/Los_Angeles:20200106T180000
DTEND;TZID=America/Los_Angeles:20200106T210000
DTSTAMP:20260422T061543
CREATED:20191209T035952Z
LAST-MODIFIED:20191209T035952Z
UID:2653-1578333600-1578344400@www.pachecocommunitycenter.com
SUMMARY:Belmont Terrace- Conference Room Meeting
DESCRIPTION:
URL:https://www.pachecocommunitycenter.com/events/belmont-terrace-conference-room-meeting-2/
LOCATION:Pacheco Community Center\, 5800 Pacheco Blvd.\, Pacheco\, CA\, 94553\, United States
END:VEVENT
BEGIN:VEVENT
DTSTART;VALUE=DATE:20200101
DTEND;VALUE=DATE:20200103
DTSTAMP:20260422T061543
CREATED:20191020T212141Z
LAST-MODIFIED:20191020T212141Z
UID:2634-1577840400-1577926799@www.pachecocommunitycenter.com
SUMMARY:New Years Day: Community Center Closed
DESCRIPTION:Happy New Year!
URL:https://www.pachecocommunitycenter.com/events/new-years-day-community-center-closed/
LOCATION:Pacheco Community Center\, 5800 Pacheco Blvd.\, Pacheco\, CA\, 94553\, United States
END:VEVENT
BEGIN:VEVENT
DTSTART;VALUE=DATE:20191231
DTEND;VALUE=DATE:20200102
DTSTAMP:20260422T061543
CREATED:20191020T211952Z
LAST-MODIFIED:20191020T211952Z
UID:2632-1577754000-1577840399@www.pachecocommunitycenter.com
SUMMARY:New Years Eve: Community Center Closed
DESCRIPTION:No events apart from scheduled Martinez Swingers Square Dance (unless otherwise noted). Happy New Year!
URL:https://www.pachecocommunitycenter.com/events/new-years-eve-community-center-closed/
LOCATION:Pacheco Community Center\, 5800 Pacheco Blvd.\, Pacheco\, CA\, 94553\, United States
END:VEVENT
BEGIN:VEVENT
DTSTART;VALUE=DATE:20191225
DTEND;VALUE=DATE:20191227
DTSTAMP:20260422T061543
CREATED:20190812T213332Z
LAST-MODIFIED:20191020T211606Z
UID:2601-1577235600-1577321999@www.pachecocommunitycenter.com
SUMMARY:Christmas Day: Community Center Closed
DESCRIPTION:
URL:https://www.pachecocommunitycenter.com/events/office-hours-10am-3pm-2-2019-12-25/
LOCATION:Pacheco Community Center\, 5800 Pacheco Blvd.\, Pacheco\, CA\, 94553\, United States
END:VEVENT
BEGIN:VEVENT
DTSTART;VALUE=DATE:20191224
DTEND;VALUE=DATE:20191226
DTSTAMP:20260422T061543
CREATED:20191020T212301Z
LAST-MODIFIED:20191020T212301Z
UID:2636-1577149200-1577235599@www.pachecocommunitycenter.com
SUMMARY:Christmas Eve: Community Center Closed
DESCRIPTION:Community Center closed to all events apart from scheduled Martinez Swingers Square Dance (unless otherwise noted).
URL:https://www.pachecocommunitycenter.com/events/christmas-eve-community-center-closed/
LOCATION:Pacheco Community Center\, 5800 Pacheco Blvd.\, Pacheco\, CA\, 94553\, United States
END:VEVENT
BEGIN:VEVENT
DTSTART;TZID=America/Los_Angeles:20191220T150000
DTEND;TZID=America/Los_Angeles:20191220T190000
DTSTAMP:20260422T061543
CREATED:20191020T211111Z
LAST-MODIFIED:20191209T033001Z
UID:2628-1576854000-1576868400@www.pachecocommunitycenter.com
SUMMARY:Private Event: Holiday Party
DESCRIPTION:
URL:https://www.pachecocommunitycenter.com/events/private-event-birthday-party-9/
LOCATION:Pacheco Community Center\, 5800 Pacheco Blvd.\, Pacheco\, CA\, 94553\, United States
END:VEVENT
BEGIN:VEVENT
DTSTART;TZID=America/Los_Angeles:20191219T120000
DTEND;TZID=America/Los_Angeles:20191219T170000
DTSTAMP:20260422T061543
CREATED:20191209T035417Z
LAST-MODIFIED:20191209T035417Z
UID:2649-1576756800-1576774800@www.pachecocommunitycenter.com
SUMMARY:Private Event: Holiday Party
DESCRIPTION:
URL:https://www.pachecocommunitycenter.com/events/private-event-holiday-party-3/
LOCATION:Pacheco Community Center\, 5800 Pacheco Blvd.\, Pacheco\, CA\, 94553\, United States
END:VEVENT
BEGIN:VEVENT
DTSTART;TZID=America/Los_Angeles:20191216T173000
DTEND;TZID=America/Los_Angeles:20191216T203000
DTSTAMP:20260422T061543
CREATED:20190812T212920Z
LAST-MODIFIED:20190812T212920Z
UID:2573-1576517400-1576528200@www.pachecocommunitycenter.com
SUMMARY:Sunrise Ridge Association- Conference Room Meeting
DESCRIPTION:
URL:https://www.pachecocommunitycenter.com/events/sunrise-ridge-association-conference-room-meeting-2/
LOCATION:Pacheco Community Center\, 5800 Pacheco Blvd.\, Pacheco\, CA\, 94553\, United States
END:VEVENT
END:VCALENDAR