BEGIN:VCALENDAR
VERSION:2.0
PRODID:-//Pacheco Community Center - ECPv6.15.15//NONSGML v1.0//EN
CALSCALE:GREGORIAN
METHOD:PUBLISH
X-WR-CALNAME:Pacheco Community Center
X-ORIGINAL-URL:https://www.pachecocommunitycenter.com
X-WR-CALDESC:Events for Pacheco Community Center
REFRESH-INTERVAL;VALUE=DURATION:PT1H
X-Robots-Tag:noindex
X-PUBLISHED-TTL:PT1H
BEGIN:VTIMEZONE
TZID:America/Los_Angeles
BEGIN:DAYLIGHT
TZOFFSETFROM:-0800
TZOFFSETTO:-0700
TZNAME:PDT
DTSTART:20150308T100000
END:DAYLIGHT
BEGIN:STANDARD
TZOFFSETFROM:-0700
TZOFFSETTO:-0800
TZNAME:PST
DTSTART:20151101T090000
END:STANDARD
BEGIN:DAYLIGHT
TZOFFSETFROM:-0800
TZOFFSETTO:-0700
TZNAME:PDT
DTSTART:20160313T100000
END:DAYLIGHT
BEGIN:STANDARD
TZOFFSETFROM:-0700
TZOFFSETTO:-0800
TZNAME:PST
DTSTART:20161106T090000
END:STANDARD
BEGIN:DAYLIGHT
TZOFFSETFROM:-0800
TZOFFSETTO:-0700
TZNAME:PDT
DTSTART:20170312T100000
END:DAYLIGHT
BEGIN:STANDARD
TZOFFSETFROM:-0700
TZOFFSETTO:-0800
TZNAME:PST
DTSTART:20171105T090000
END:STANDARD
BEGIN:DAYLIGHT
TZOFFSETFROM:-0800
TZOFFSETTO:-0700
TZNAME:PDT
DTSTART:20180311T100000
END:DAYLIGHT
BEGIN:STANDARD
TZOFFSETFROM:-0700
TZOFFSETTO:-0800
TZNAME:PST
DTSTART:20181104T090000
END:STANDARD
END:VTIMEZONE
BEGIN:VEVENT
DTSTART;TZID=America/Los_Angeles:20170128T100000
DTEND;TZID=America/Los_Angeles:20170128T153000
DTSTAMP:20260423T042058
CREATED:20160824T210448Z
LAST-MODIFIED:20160824T210448Z
UID:1223-1485597600-1485617400@www.pachecocommunitycenter.com
SUMMARY:Dr. Wurschmidt Retirement Party
DESCRIPTION:
URL:https://www.pachecocommunitycenter.com/events/dr-wurschmidt-retirement-party/
LOCATION:Pacheco Community Center\, 5800 Pacheco Blvd.\, Pacheco\, CA\, 94553\, United States
END:VEVENT
BEGIN:VEVENT
DTSTART;TZID=America/Los_Angeles:20170126T080000
DTEND;TZID=America/Los_Angeles:20170126T160000
DTSTAMP:20260423T042058
CREATED:20161205T211122Z
LAST-MODIFIED:20161205T211122Z
UID:1425-1485417600-1485446400@www.pachecocommunitycenter.com
SUMMARY:Life Line Screening
DESCRIPTION:Open to the Public
URL:https://www.pachecocommunitycenter.com/events/life-line-screening-3/
LOCATION:Pacheco Community Center\, 5800 Pacheco Blvd.\, Pacheco\, CA\, 94553\, United States
END:VEVENT
BEGIN:VEVENT
DTSTART;TZID=America/Los_Angeles:20170121T150000
DTEND;TZID=America/Los_Angeles:20170121T230000
DTSTAMP:20260423T042058
CREATED:20161205T211036Z
LAST-MODIFIED:20161205T211036Z
UID:1423-1485010800-1485039600@www.pachecocommunitycenter.com
SUMMARY:Gonzalez Party
DESCRIPTION:Private Party
URL:https://www.pachecocommunitycenter.com/events/gonzalez-party/
LOCATION:Pacheco Community Center\, 5800 Pacheco Blvd.\, Pacheco\, CA\, 94553\, United States
END:VEVENT
BEGIN:VEVENT
DTSTART;TZID=America/Los_Angeles:20170121T150000
DTEND;TZID=America/Los_Angeles:20170121T230000
DTSTAMP:20260423T042058
CREATED:20160824T210355Z
LAST-MODIFIED:20160824T210355Z
UID:1221-1485010800-1485039600@www.pachecocommunitycenter.com
SUMMARY:Gonzalez Quinceanera
DESCRIPTION:
URL:https://www.pachecocommunitycenter.com/events/gonzalez-quinceanera/
LOCATION:Pacheco Community Center\, 5800 Pacheco Blvd.\, Pacheco\, CA\, 94553\, United States
END:VEVENT
BEGIN:VEVENT
DTSTART;TZID=America/Los_Angeles:20170114T170000
DTEND;TZID=America/Los_Angeles:20170114T170000
DTSTAMP:20260423T042058
CREATED:20161205T210942Z
LAST-MODIFIED:20161205T210942Z
UID:1421-1484413200-1484413200@www.pachecocommunitycenter.com
SUMMARY:Banjayan Birthday Party
DESCRIPTION:Private Party
URL:https://www.pachecocommunitycenter.com/events/banjayan-birthday-party/
LOCATION:Pacheco Community Center\, 5800 Pacheco Blvd.\, Pacheco\, CA\, 94553\, United States
END:VEVENT
BEGIN:VEVENT
DTSTART;TZID=America/Los_Angeles:20170112T143000
DTEND;TZID=America/Los_Angeles:20170112T173000
DTSTAMP:20260423T042058
CREATED:20160824T210255Z
LAST-MODIFIED:20160824T210255Z
UID:1219-1484231400-1484242200@www.pachecocommunitycenter.com
SUMMARY:Contra Costa County Employment & Human Recourse Dept. Training
DESCRIPTION:
URL:https://www.pachecocommunitycenter.com/events/contra-costa-county-employment-human-recourse-dept-training-3/
LOCATION:Pacheco Community Center\, 5800 Pacheco Blvd.\, Pacheco\, CA\, 94553\, United States
END:VEVENT
BEGIN:VEVENT
DTSTART;TZID=America/Los_Angeles:20161221T180000
DTEND;TZID=America/Los_Angeles:20161221T210000
DTSTAMP:20260423T042058
CREATED:20161205T193043Z
LAST-MODIFIED:20161205T193043Z
UID:1419-1482343200-1482354000@www.pachecocommunitycenter.com
SUMMARY:Diablo Valley Mac Users Group
DESCRIPTION:
URL:https://www.pachecocommunitycenter.com/events/diablo-valley-mac-users-group/
LOCATION:Pacheco Community Center\, 5800 Pacheco Blvd.\, Pacheco\, CA\, 94553\, United States
END:VEVENT
BEGIN:VEVENT
DTSTART;TZID=America/Los_Angeles:20161218T113000
DTEND;TZID=America/Los_Angeles:20161218T173000
DTSTAMP:20260423T042058
CREATED:20161205T192204Z
LAST-MODIFIED:20161205T192204Z
UID:1392-1482060600-1482082200@www.pachecocommunitycenter.com
SUMMARY:Kern Holiday Party
DESCRIPTION:Private Event
URL:https://www.pachecocommunitycenter.com/events/kern-holiday-party/
LOCATION:Pacheco Community Center\, 5800 Pacheco Blvd.\, Pacheco\, CA\, 94553\, United States
END:VEVENT
BEGIN:VEVENT
DTSTART;TZID=America/Los_Angeles:20161217T160000
DTEND;TZID=America/Los_Angeles:20161217T200000
DTSTAMP:20260423T042058
CREATED:20161205T192116Z
LAST-MODIFIED:20161205T192116Z
UID:1390-1481990400-1482004800@www.pachecocommunitycenter.com
SUMMARY:Mc Wright 60th Birthday party
DESCRIPTION:Private Event
URL:https://www.pachecocommunitycenter.com/events/mc-wright-60th-birthday-party/
LOCATION:Pacheco Community Center\, 5800 Pacheco Blvd.\, Pacheco\, CA\, 94553\, United States
END:VEVENT
BEGIN:VEVENT
DTSTART;TZID=America/Los_Angeles:20161216T180000
DTEND;TZID=America/Los_Angeles:20161216T220000
DTSTAMP:20260423T042058
CREATED:20161205T192033Z
LAST-MODIFIED:20161205T192033Z
UID:1388-1481911200-1481925600@www.pachecocommunitycenter.com
SUMMARY:Discovery House Alumni Holiday Party
DESCRIPTION:Private Event
URL:https://www.pachecocommunitycenter.com/events/discovery-house-alumni-holiday-party/
LOCATION:Pacheco Community Center\, 5800 Pacheco Blvd.\, Pacheco\, CA\, 94553\, United States
END:VEVENT
BEGIN:VEVENT
DTSTART;TZID=America/Los_Angeles:20161215T140000
DTEND;TZID=America/Los_Angeles:20161215T220000
DTSTAMP:20260423T042058
CREATED:20161205T191948Z
LAST-MODIFIED:20161205T191948Z
UID:1386-1481810400-1481839200@www.pachecocommunitycenter.com
SUMMARY:Contra Costa County Children Family Services Holiday Party
DESCRIPTION:Private Event
URL:https://www.pachecocommunitycenter.com/events/contra-costa-county-children-family-services-holiday-party/
LOCATION:Pacheco Community Center\, 5800 Pacheco Blvd.\, Pacheco\, CA\, 94553\, United States
END:VEVENT
BEGIN:VEVENT
DTSTART;TZID=America/Los_Angeles:20161211T150000
DTEND;TZID=America/Los_Angeles:20161211T200000
DTSTAMP:20260423T042058
CREATED:20161205T191843Z
LAST-MODIFIED:20161205T191843Z
UID:1384-1481468400-1481486400@www.pachecocommunitycenter.com
SUMMARY:Ramirez Event
DESCRIPTION:Private Event
URL:https://www.pachecocommunitycenter.com/events/ramirez-event/
LOCATION:Pacheco Community Center\, 5800 Pacheco Blvd.\, Pacheco\, CA\, 94553\, United States
END:VEVENT
BEGIN:VEVENT
DTSTART;TZID=America/Los_Angeles:20161210T150000
DTEND;TZID=America/Los_Angeles:20161210T210000
DTSTAMP:20260423T042058
CREATED:20161205T191713Z
LAST-MODIFIED:20161205T191713Z
UID:1380-1481382000-1481403600@www.pachecocommunitycenter.com
SUMMARY:Manuson Birthday Party
DESCRIPTION:Private Event
URL:https://www.pachecocommunitycenter.com/events/manuson-birthday-party/
LOCATION:Pacheco Community Center\, 5800 Pacheco Blvd.\, Pacheco\, CA\, 94553\, United States
END:VEVENT
BEGIN:VEVENT
DTSTART;VALUE=DATE:20161210
DTEND;VALUE=DATE:20161212
DTSTAMP:20260423T042058
CREATED:20161205T191754Z
LAST-MODIFIED:20161205T191754Z
UID:1382-1481331600-1481417999@www.pachecocommunitycenter.com
SUMMARY:NO SANTA DAY AT THE COMMUNITY CENTER THIS YEAR
DESCRIPTION:
URL:https://www.pachecocommunitycenter.com/events/no-santa-day-at-the-community-center-this-year/
LOCATION:Pacheco Community Center\, 5800 Pacheco Blvd.\, Pacheco\, CA\, 94553\, United States
END:VEVENT
END:VCALENDAR