BEGIN:VCALENDAR
VERSION:2.0
PRODID:-//Pacheco Community Center - ECPv6.15.15//NONSGML v1.0//EN
CALSCALE:GREGORIAN
METHOD:PUBLISH
X-WR-CALNAME:Pacheco Community Center
X-ORIGINAL-URL:https://www.pachecocommunitycenter.com
X-WR-CALDESC:Events for Pacheco Community Center
REFRESH-INTERVAL;VALUE=DURATION:PT1H
X-Robots-Tag:noindex
X-PUBLISHED-TTL:PT1H
BEGIN:VTIMEZONE
TZID:America/Los_Angeles
BEGIN:DAYLIGHT
TZOFFSETFROM:-0800
TZOFFSETTO:-0700
TZNAME:PDT
DTSTART:20170312T100000
END:DAYLIGHT
BEGIN:STANDARD
TZOFFSETFROM:-0700
TZOFFSETTO:-0800
TZNAME:PST
DTSTART:20171105T090000
END:STANDARD
BEGIN:DAYLIGHT
TZOFFSETFROM:-0800
TZOFFSETTO:-0700
TZNAME:PDT
DTSTART:20180311T100000
END:DAYLIGHT
BEGIN:STANDARD
TZOFFSETFROM:-0700
TZOFFSETTO:-0800
TZNAME:PST
DTSTART:20181104T090000
END:STANDARD
BEGIN:DAYLIGHT
TZOFFSETFROM:-0800
TZOFFSETTO:-0700
TZNAME:PDT
DTSTART:20190310T100000
END:DAYLIGHT
BEGIN:STANDARD
TZOFFSETFROM:-0700
TZOFFSETTO:-0800
TZNAME:PST
DTSTART:20191103T090000
END:STANDARD
BEGIN:DAYLIGHT
TZOFFSETFROM:-0800
TZOFFSETTO:-0700
TZNAME:PDT
DTSTART:20200308T100000
END:DAYLIGHT
BEGIN:STANDARD
TZOFFSETFROM:-0700
TZOFFSETTO:-0800
TZNAME:PST
DTSTART:20201101T090000
END:STANDARD
END:VTIMEZONE
BEGIN:VEVENT
DTSTART;TZID=America/Los_Angeles:20190420T100000
DTEND;TZID=America/Los_Angeles:20190420T120000
DTSTAMP:20260422T110037
CREATED:20190422T233456Z
LAST-MODIFIED:20190422T233456Z
UID:2165-1555754400-1555761600@www.pachecocommunitycenter.com
SUMMARY:PCC Annual Egg Hunt
DESCRIPTION:Stop by for pictures with the Bunny\, an egg hunt for ages <1 to 10 years\, games\, prizes and lots of yummy snacks! Free to the public\, an annual event put together by members of the Pacheco Town Council and wonderful volunteers for over 15 years. Interested in helping us out in the future? Give us a call or email the office and leave us a message. We would love to work with you and appreciate your help!
URL:https://www.pachecocommunitycenter.com/events/pcc-annual-egg-hunt/
LOCATION:Pacheco Community Center\, 5800 Pacheco Blvd.\, Pacheco\, CA\, 94553\, United States
END:VEVENT
BEGIN:VEVENT
DTSTART;TZID=America/Los_Angeles:20190419T083000
DTEND;TZID=America/Los_Angeles:20190419T153000
DTSTAMP:20260422T110038
CREATED:20190422T234401Z
LAST-MODIFIED:20190422T234401Z
UID:2179-1555662600-1555687800@www.pachecocommunitycenter.com
SUMMARY:HACCC Meeting and Training
DESCRIPTION:Housing Authority of Contra Costa County Meeting and Training Day.
URL:https://www.pachecocommunitycenter.com/events/haccc-meeting-and-training/
LOCATION:Pacheco Community Center\, 5800 Pacheco Blvd.\, Pacheco\, CA\, 94553\, United States
END:VEVENT
BEGIN:VEVENT
DTSTART;TZID=America/Los_Angeles:20190413T150000
DTEND;TZID=America/Los_Angeles:20190413T230000
DTSTAMP:20260422T110038
CREATED:20181024T232516Z
LAST-MODIFIED:20181024T232516Z
UID:2023-1555167600-1555196400@www.pachecocommunitycenter.com
SUMMARY:Private Event- Quinceanera
DESCRIPTION:
URL:https://www.pachecocommunitycenter.com/events/private-event-quinceanera/
LOCATION:Pacheco Community Center\, 5800 Pacheco Blvd.\, Pacheco\, CA\, 94553\, United States
END:VEVENT
BEGIN:VEVENT
DTSTART;TZID=America/Los_Angeles:20190327T183000
DTEND;TZID=America/Los_Angeles:20190327T193000
DTSTAMP:20260422T110038
CREATED:20181024T234637Z
LAST-MODIFIED:20181024T234637Z
UID:2048-1553711400-1553715000@www.pachecocommunitycenter.com
SUMMARY:Pacheco Town Council Meeting
DESCRIPTION:Meeting 6:30pm-7:30pm in the Conference Room. Come join members of your community to discuss what’s going on in Pacheco. All Pacheco residents are welcome to stop by. Council meets fourth Wednesday of every month.
URL:https://www.pachecocommunitycenter.com/events/pacheco-town-council-meeting-6/
LOCATION:Pacheco Community Center\, 5800 Pacheco Blvd.\, Pacheco\, CA\, 94553\, United States
END:VEVENT
BEGIN:VEVENT
DTSTART;TZID=America/Los_Angeles:20190227T183000
DTEND;TZID=America/Los_Angeles:20190227T193000
DTSTAMP:20260422T110038
CREATED:20181024T234528Z
LAST-MODIFIED:20181024T234528Z
UID:2046-1551292200-1551295800@www.pachecocommunitycenter.com
SUMMARY:Pacheco Town Council Meeting
DESCRIPTION:Meeting 6:30pm-7:30pm in the Conference Room. Come join members of your community to discuss what’s going on in Pacheco. All Pacheco residents are welcome to stop by. Council meets fourth Wednesday of every month.
URL:https://www.pachecocommunitycenter.com/events/pacheco-town-council-meeting-5/
LOCATION:Pacheco Community Center\, 5800 Pacheco Blvd.\, Pacheco\, CA\, 94553\, United States
END:VEVENT
BEGIN:VEVENT
DTSTART;TZID=America/Los_Angeles:20190219T080000
DTEND;TZID=America/Los_Angeles:20190219T170000
DTSTAMP:20260422T110038
CREATED:20190211T195200Z
LAST-MODIFIED:20190211T195200Z
UID:2106-1550563200-1550595600@www.pachecocommunitycenter.com
SUMMARY:AARP Tax Aide
DESCRIPTION:Free income tax filing assistance brought to the community by AARP. Tax-Aide volunteers provide free tax preparation for anyone who needs to file basic income tax forms. This service is available to people of all ages.
URL:https://www.pachecocommunitycenter.com/events/aarp-tax-aide-2/
LOCATION:Pacheco Community Center\, 5800 Pacheco Blvd.\, Pacheco\, CA\, 94553\, United States
END:VEVENT
BEGIN:VEVENT
DTSTART;TZID=America/Los_Angeles:20190218T073000
DTEND;TZID=America/Los_Angeles:20190218T170000
DTSTAMP:20260422T110038
CREATED:20181024T232011Z
LAST-MODIFIED:20181024T232011Z
UID:2018-1550475000-1550509200@www.pachecocommunitycenter.com
SUMMARY:The Child's Day School Meeting
DESCRIPTION:
URL:https://www.pachecocommunitycenter.com/events/the-childs-day-school-meeting/
LOCATION:Pacheco Community Center\, 5800 Pacheco Blvd.\, Pacheco\, CA\, 94553\, United States
END:VEVENT
BEGIN:VEVENT
DTSTART;TZID=America/Los_Angeles:20190212T080000
DTEND;TZID=America/Los_Angeles:20190212T170000
DTSTAMP:20260422T110038
CREATED:20190211T182503Z
LAST-MODIFIED:20190211T182503Z
UID:2102-1549958400-1549990800@www.pachecocommunitycenter.com
SUMMARY:AARP Tax Aide
DESCRIPTION:Free income tax filing assistance brought to the community by AARP. Tax-Aide volunteers provide free tax preparation for anyone who needs to file basic income tax forms. This service is available to people of all ages.
URL:https://www.pachecocommunitycenter.com/events/aarp-tax-aide/
LOCATION:Pacheco Community Center\, 5800 Pacheco Blvd.\, Pacheco\, CA\, 94553\, United States
END:VEVENT
BEGIN:VEVENT
DTSTART;TZID=America/Los_Angeles:20190126T170000
DTEND;TZID=America/Los_Angeles:20190126T233000
DTSTAMP:20260422T110038
CREATED:20181024T231323Z
LAST-MODIFIED:20181024T231323Z
UID:2013-1548522000-1548545400@www.pachecocommunitycenter.com
SUMMARY:Private Event-Birthday Party
DESCRIPTION:Event: 5pm-12am
URL:https://www.pachecocommunitycenter.com/events/private-event-birthday-party-2/
LOCATION:Pacheco Community Center\, 5800 Pacheco Blvd.\, Pacheco\, CA\, 94553\, United States
END:VEVENT
BEGIN:VEVENT
DTSTART;TZID=America/Los_Angeles:20190123T183000
DTEND;TZID=America/Los_Angeles:20190123T193000
DTSTAMP:20260422T110038
CREATED:20181024T234358Z
LAST-MODIFIED:20181024T234358Z
UID:2044-1548268200-1548271800@www.pachecocommunitycenter.com
SUMMARY:Pacheco Town Council Meeting
DESCRIPTION:Meeting 6:30pm-7:30pm in the Conference Room. Come join members of your community to discuss what’s going on in Pacheco. All Pacheco residents are welcome to stop by. Council meets fourth Wednesday of every month.
URL:https://www.pachecocommunitycenter.com/events/pacheco-town-council-meeting-4/
LOCATION:Pacheco Community Center\, 5800 Pacheco Blvd.\, Pacheco\, CA\, 94553\, United States
END:VEVENT
BEGIN:VEVENT
DTSTART;VALUE=DATE:20190121
DTEND;VALUE=DATE:20190122
DTSTAMP:20260422T110038
CREATED:20181024T231728Z
LAST-MODIFIED:20181024T231728Z
UID:2015-1548032400-1548115199@www.pachecocommunitycenter.com
SUMMARY:Martin Luther King Jr. Day
DESCRIPTION:Celebrating and remembering the legacy of the great Dr. King!
URL:https://www.pachecocommunitycenter.com/events/martin-luther-king-jr-day/
LOCATION:Pacheco Community Center\, 5800 Pacheco Blvd.\, Pacheco\, CA\, 94553\, United States
END:VEVENT
BEGIN:VEVENT
DTSTART;TZID=America/Los_Angeles:20190119T113000
DTEND;TZID=America/Los_Angeles:20190119T153000
DTSTAMP:20260422T110038
CREATED:20181024T231036Z
LAST-MODIFIED:20181024T231102Z
UID:2009-1547897400-1547911800@www.pachecocommunitycenter.com
SUMMARY:Private Event-Baby Shower
DESCRIPTION:
URL:https://www.pachecocommunitycenter.com/events/baby-shower-2/
LOCATION:Pacheco Community Center\, 5800 Pacheco Blvd.\, Pacheco\, CA\, 94553\, United States
END:VEVENT
BEGIN:VEVENT
DTSTART;TZID=America/Los_Angeles:20181226T183000
DTEND;TZID=America/Los_Angeles:20181226T193000
DTSTAMP:20260422T110038
CREATED:20181024T233859Z
LAST-MODIFIED:20181223T004713Z
UID:2039-1545849000-1545852600@www.pachecocommunitycenter.com
SUMMARY:Pacheco Town Council Meeting
DESCRIPTION:Meeting 6:30pm-7:30pm in the Conference Room. Come join members of your community to discuss what’s going on in Pacheco. All Pacheco residents are welcome to stop by. Council meets fourth Wednesday of every month.
URL:https://www.pachecocommunitycenter.com/events/pacheco-town-council-meeting-3/
LOCATION:Pacheco Community Center\, 5800 Pacheco Blvd.\, Pacheco\, CA\, 94553\, United States
END:VEVENT
BEGIN:VEVENT
DTSTART;TZID=America/Los_Angeles:20181225T130000
DTEND;TZID=America/Los_Angeles:20181225T190000
DTSTAMP:20260422T110038
CREATED:20181024T230709Z
LAST-MODIFIED:20181118T052258Z
UID:2007-1545742800-1545764400@www.pachecocommunitycenter.com
SUMMARY:Private Event-Holiday Party
DESCRIPTION:
URL:https://www.pachecocommunitycenter.com/events/holiday-party/
LOCATION:Pacheco Community Center\, 5800 Pacheco Blvd.\, Pacheco\, CA\, 94553\, United States
END:VEVENT
BEGIN:VEVENT
DTSTART;TZID=America/Los_Angeles:20181222T160000
DTEND;TZID=America/Los_Angeles:20181222T233000
DTSTAMP:20260422T110038
CREATED:20181024T230413Z
LAST-MODIFIED:20181024T230413Z
UID:2004-1545494400-1545521400@www.pachecocommunitycenter.com
SUMMARY:Private Event-Birthday
DESCRIPTION:Event: 4pm-12am
URL:https://www.pachecocommunitycenter.com/events/private-event-birthday-2/
LOCATION:Pacheco Community Center\, 5800 Pacheco Blvd.\, Pacheco\, CA\, 94553\, United States
END:VEVENT
BEGIN:VEVENT
DTSTART;TZID=America/Los_Angeles:20181216T140000
DTEND;TZID=America/Los_Angeles:20181216T180000
DTSTAMP:20260422T110038
CREATED:20181118T052117Z
LAST-MODIFIED:20181118T052117Z
UID:2090-1544968800-1544983200@www.pachecocommunitycenter.com
SUMMARY:Private Event- Recital
DESCRIPTION:
URL:https://www.pachecocommunitycenter.com/events/private-event-recital/
LOCATION:Pacheco Community Center\, 5800 Pacheco Blvd.\, Pacheco\, CA\, 94553\, United States
END:VEVENT
BEGIN:VEVENT
DTSTART;TZID=America/Los_Angeles:20181214T180000
DTEND;TZID=America/Los_Angeles:20181214T220000
DTSTAMP:20260422T110038
CREATED:20181024T230150Z
LAST-MODIFIED:20181031T191314Z
UID:2002-1544810400-1544824800@www.pachecocommunitycenter.com
SUMMARY:Private Event- Discovery House Holiday Party
DESCRIPTION:
URL:https://www.pachecocommunitycenter.com/events/discovery-house-holiday-party/
LOCATION:Pacheco Community Center\, 5800 Pacheco Blvd.\, Pacheco\, CA\, 94553\, United States
END:VEVENT
BEGIN:VEVENT
DTSTART;TZID=America/Los_Angeles:20181213T160000
DTEND;TZID=America/Los_Angeles:20181213T220000
DTSTAMP:20260422T110038
CREATED:20181024T225946Z
LAST-MODIFIED:20181024T225946Z
UID:2000-1544716800-1544738400@www.pachecocommunitycenter.com
SUMMARY:CCC Children and Family Services
DESCRIPTION:
URL:https://www.pachecocommunitycenter.com/events/ccc-children-and-family-services/
LOCATION:Pacheco Community Center\, 5800 Pacheco Blvd.\, Pacheco\, CA\, 94553\, United States
END:VEVENT
BEGIN:VEVENT
DTSTART;TZID=America/Los_Angeles:20181212T183000
DTEND;TZID=America/Los_Angeles:20181212T213000
DTSTAMP:20260422T110038
CREATED:20181024T225800Z
LAST-MODIFIED:20181024T225800Z
UID:1998-1544639400-1544650200@www.pachecocommunitycenter.com
SUMMARY:PMAC Meeting-Conference Room
DESCRIPTION:
URL:https://www.pachecocommunitycenter.com/events/pmac-meeting-conference-room-2/
LOCATION:Pacheco Community Center\, 5800 Pacheco Blvd.\, Pacheco\, CA\, 94553\, United States
END:VEVENT
BEGIN:VEVENT
DTSTART;TZID=America/Los_Angeles:20181208T150000
DTEND;TZID=America/Los_Angeles:20181208T210000
DTSTAMP:20260422T110038
CREATED:20181118T050809Z
LAST-MODIFIED:20181118T051011Z
UID:2087-1544281200-1544302800@www.pachecocommunitycenter.com
SUMMARY:Private Event- Birthday
DESCRIPTION:
URL:https://www.pachecocommunitycenter.com/events/private-event-birthday-party-3/
LOCATION:Pacheco Community Center\, 5800 Pacheco Blvd.\, Pacheco\, CA\, 94553\, United States
END:VEVENT
BEGIN:VEVENT
DTSTART;TZID=America/Los_Angeles:20181206T083000
DTEND;TZID=America/Los_Angeles:20181206T173000
DTSTAMP:20260422T110038
CREATED:20181024T225602Z
LAST-MODIFIED:20181024T225602Z
UID:1996-1544085000-1544117400@www.pachecocommunitycenter.com
SUMMARY:Lifeline Screening
DESCRIPTION:
URL:https://www.pachecocommunitycenter.com/events/lifeline-screening/
LOCATION:Pacheco Community Center\, 5800 Pacheco Blvd.\, Pacheco\, CA\, 94553\, United States
END:VEVENT
BEGIN:VEVENT
DTSTART;TZID=America/Los_Angeles:20181205T170000
DTEND;TZID=America/Los_Angeles:20181205T210000
DTSTAMP:20260422T110038
CREATED:20181031T191204Z
LAST-MODIFIED:20181206T014704Z
UID:2074-1544029200-1544043600@www.pachecocommunitycenter.com
SUMMARY:Private Event-Uplift Family Services Holiday Party
DESCRIPTION:
URL:https://www.pachecocommunitycenter.com/events/private-event-uplift-family-services-holiday-party/
LOCATION:Pacheco Community Center\, 5800 Pacheco Blvd.\, Pacheco\, CA\, 94553\, United States
END:VEVENT
BEGIN:VEVENT
DTSTART;TZID=America/Los_Angeles:20181202T150000
DTEND;TZID=America/Los_Angeles:20181202T220000
DTSTAMP:20260422T110038
CREATED:20181024T225320Z
LAST-MODIFIED:20181024T225320Z
UID:1993-1543762800-1543788000@www.pachecocommunitycenter.com
SUMMARY:Private Event-Dinner Party
DESCRIPTION:
URL:https://www.pachecocommunitycenter.com/events/private-event-dinner-party/
LOCATION:Pacheco Community Center\, 5800 Pacheco Blvd.\, Pacheco\, CA\, 94553\, United States
END:VEVENT
BEGIN:VEVENT
DTSTART;TZID=America/Los_Angeles:20181128T183000
DTEND;TZID=America/Los_Angeles:20181128T193000
DTSTAMP:20260422T110038
CREATED:20181024T233740Z
LAST-MODIFIED:20181024T234224Z
UID:2037-1543429800-1543433400@www.pachecocommunitycenter.com
SUMMARY:Pacheco Town Council Meeting
DESCRIPTION:Meeting 6:30pm-7:30pm in the Conference Room. Come join members of your community to discuss what’s going on in Pacheco. All Pacheco residents are welcome to stop by. Council meets fourth Wednesday of every month.
URL:https://www.pachecocommunitycenter.com/events/pacheco-town-council-meeting-2/
LOCATION:Pacheco Community Center\, 5800 Pacheco Blvd.\, Pacheco\, CA\, 94553\, United States
END:VEVENT
BEGIN:VEVENT
DTSTART;TZID=America/Los_Angeles:20181125T130000
DTEND;TZID=America/Los_Angeles:20181125T190000
DTSTAMP:20260422T110038
CREATED:20181023T202709Z
LAST-MODIFIED:20181027T185819Z
UID:1876-1543150800-1543172400@www.pachecocommunitycenter.com
SUMMARY:Private Event-Birthday
DESCRIPTION:
URL:https://www.pachecocommunitycenter.com/events/private-event-birthday/
LOCATION:Pacheco Community Center\, 5800 Pacheco Blvd.\, Pacheco\, CA\, 94553\, United States
END:VEVENT
BEGIN:VEVENT
DTSTART;TZID=America/Los_Angeles:20181117T150000
DTEND;TZID=America/Los_Angeles:20181117T220000
DTSTAMP:20260422T110038
CREATED:20181023T202416Z
LAST-MODIFIED:20181023T202743Z
UID:1874-1542466800-1542492000@www.pachecocommunitycenter.com
SUMMARY:Private Event-Baptism
DESCRIPTION:
URL:https://www.pachecocommunitycenter.com/events/private-event-baptism/
LOCATION:Pacheco Community Center\, 5800 Pacheco Blvd.\, Pacheco\, CA\, 94553\, United States
END:VEVENT
BEGIN:VEVENT
DTSTART;TZID=America/Los_Angeles:20181114T180000
DTEND;TZID=America/Los_Angeles:20181114T210000
DTSTAMP:20260422T110038
CREATED:20181024T224708Z
LAST-MODIFIED:20181024T224708Z
UID:1972-1542218400-1542229200@www.pachecocommunitycenter.com
SUMMARY:PMAC Meeting-Conference Room
DESCRIPTION:
URL:https://www.pachecocommunitycenter.com/events/pmac-meeting-conference-room/
LOCATION:Pacheco Community Center\, 5800 Pacheco Blvd.\, Pacheco\, CA\, 94553\, United States
END:VEVENT
BEGIN:VEVENT
DTSTART;TZID=America/Los_Angeles:20181110T160000
DTEND;TZID=America/Los_Angeles:20181110T233000
DTSTAMP:20260422T110038
CREATED:20181024T223302Z
LAST-MODIFIED:20181024T230444Z
UID:1968-1541865600-1541892600@www.pachecocommunitycenter.com
SUMMARY:Private Event-Birthday
DESCRIPTION:Event: 4pm-12am
URL:https://www.pachecocommunitycenter.com/events/private-event-birthday-party/
LOCATION:Pacheco Community Center\, 5800 Pacheco Blvd.\, Pacheco\, CA\, 94553\, United States
END:VEVENT
BEGIN:VEVENT
DTSTART;TZID=America/Los_Angeles:20181106T080000
DTEND;TZID=America/Los_Angeles:20181106T200000
DTSTAMP:20260422T110038
CREATED:20181023T202117Z
LAST-MODIFIED:20181024T164309Z
UID:1866-1541491200-1541534400@www.pachecocommunitycenter.com
SUMMARY:Election Polls
DESCRIPTION:Remember to get out to vote today! Every vote counts! Happy to serve here at Pacheco’s polling station.
URL:https://www.pachecocommunitycenter.com/events/election-polls/
LOCATION:Pacheco Community Center\, 5800 Pacheco Blvd.\, Pacheco\, CA\, 94553\, United States
END:VEVENT
BEGIN:VEVENT
DTSTART;TZID=America/Los_Angeles:20181103T170000
DTEND;TZID=America/Los_Angeles:20181103T230000
DTSTAMP:20260422T110038
CREATED:20181023T201408Z
LAST-MODIFIED:20181023T201408Z
UID:1863-1541264400-1541286000@www.pachecocommunitycenter.com
SUMMARY:Private Event-Reunion
DESCRIPTION:
URL:https://www.pachecocommunitycenter.com/events/private-event-reunion/
LOCATION:Pacheco Community Center\, 5800 Pacheco Blvd.\, Pacheco\, CA\, 94553\, United States
END:VEVENT
END:VCALENDAR