BEGIN:VCALENDAR
VERSION:2.0
PRODID:-//Pacheco Community Center - ECPv6.15.15//NONSGML v1.0//EN
CALSCALE:GREGORIAN
METHOD:PUBLISH
X-WR-CALNAME:Pacheco Community Center
X-ORIGINAL-URL:https://www.pachecocommunitycenter.com
X-WR-CALDESC:Events for Pacheco Community Center
REFRESH-INTERVAL;VALUE=DURATION:PT1H
X-Robots-Tag:noindex
X-PUBLISHED-TTL:PT1H
BEGIN:VTIMEZONE
TZID:America/Los_Angeles
BEGIN:DAYLIGHT
TZOFFSETFROM:-0800
TZOFFSETTO:-0700
TZNAME:PDT
DTSTART:20250309T100000
END:DAYLIGHT
BEGIN:STANDARD
TZOFFSETFROM:-0700
TZOFFSETTO:-0800
TZNAME:PST
DTSTART:20251102T090000
END:STANDARD
BEGIN:DAYLIGHT
TZOFFSETFROM:-0800
TZOFFSETTO:-0700
TZNAME:PDT
DTSTART:20260308T100000
END:DAYLIGHT
BEGIN:STANDARD
TZOFFSETFROM:-0700
TZOFFSETTO:-0800
TZNAME:PST
DTSTART:20261101T090000
END:STANDARD
BEGIN:DAYLIGHT
TZOFFSETFROM:-0800
TZOFFSETTO:-0700
TZNAME:PDT
DTSTART:20270314T100000
END:DAYLIGHT
BEGIN:STANDARD
TZOFFSETFROM:-0700
TZOFFSETTO:-0800
TZNAME:PST
DTSTART:20271107T090000
END:STANDARD
END:VTIMEZONE
BEGIN:VEVENT
DTSTART;TZID=America/Los_Angeles:20261125T183000
DTEND;TZID=America/Los_Angeles:20261125T193000
DTSTAMP:20260419T235814
CREATED:20260107T022101Z
LAST-MODIFIED:20260107T022101Z
UID:6697-1795631400-1795635000@www.pachecocommunitycenter.com
SUMMARY:PTC Meeting
DESCRIPTION:Pacheco Town Council Meeting
URL:https://www.pachecocommunitycenter.com/events/ptc-meeting-26/
LOCATION:Pacheco Community Center\, 5800 Pacheco Blvd.\, Pacheco\, CA\, 94553\, United States
END:VEVENT
BEGIN:VEVENT
DTSTART;TZID=America/Los_Angeles:20261202T120000
DTEND;TZID=America/Los_Angeles:20261202T130000
DTSTAMP:20260419T235814
CREATED:20260131T191446Z
LAST-MODIFIED:20260131T191446Z
UID:6733-1796212800-1796216400@www.pachecocommunitycenter.com
SUMMARY:FREE PRODUCE BY FOOD BANK OF CC & SOLANO
DESCRIPTION:IN PARTNERSHIP WITH FOOD BANK OF CONTRA COSTA & SOLANO\, WE WILL PROVIDE FREE PRODUCE TO ONE PERSON PER FAMILY. BRING ONE OR TWO BAGS WITH HANDLES. MUST BE PRESENT TO RECEIVE FOOD
URL:https://www.pachecocommunitycenter.com/events/free-produce-by-food-bank-of-cc-solano-39/
LOCATION:Pacheco Community Center Parking Lot\, 5800 Pacheco Blvd\, Pacheco\, California\, 94553
ORGANIZER;CN="FOOD BANK of CONTRA COSTA and SOLANO":MAILTO:info@foodbankccs.org
END:VEVENT
BEGIN:VEVENT
DTSTART;TZID=America/Los_Angeles:20261212T100000
DTEND;TZID=America/Los_Angeles:20261212T120000
DTSTAMP:20260419T235814
CREATED:20260224T005745Z
LAST-MODIFIED:20260224T005754Z
UID:6745-1797069600-1797076800@www.pachecocommunitycenter.com
SUMMARY:Santa Visits the Pacheco Community Center
DESCRIPTION:
URL:https://www.pachecocommunitycenter.com/events/santa-visits-the-pacheco-community-center/
LOCATION:CA
END:VEVENT
BEGIN:VEVENT
DTSTART;TZID=America/Los_Angeles:20261216T120000
DTEND;TZID=America/Los_Angeles:20261216T130000
DTSTAMP:20260419T235814
CREATED:20260131T191447Z
LAST-MODIFIED:20260131T191447Z
UID:6734-1797422400-1797426000@www.pachecocommunitycenter.com
SUMMARY:FREE PRODUCE BY FOOD BANK OF CC & SOLANO
DESCRIPTION:IN PARTNERSHIP WITH FOOD BANK OF CONTRA COSTA & SOLANO\, WE WILL PROVIDE FREE PRODUCE TO ONE PERSON PER FAMILY. BRING ONE OR TWO BAGS WITH HANDLES. MUST BE PRESENT TO RECEIVE FOOD
URL:https://www.pachecocommunitycenter.com/events/free-produce-by-food-bank-of-cc-solano-40/
LOCATION:Pacheco Community Center Parking Lot\, 5800 Pacheco Blvd\, Pacheco\, California\, 94553
ORGANIZER;CN="FOOD BANK of CONTRA COSTA and SOLANO":MAILTO:info@foodbankccs.org
END:VEVENT
END:VCALENDAR