BEGIN:VCALENDAR
VERSION:2.0
PRODID:-//Pacheco Community Center - ECPv6.15.15//NONSGML v1.0//EN
CALSCALE:GREGORIAN
METHOD:PUBLISH
X-WR-CALNAME:Pacheco Community Center
X-ORIGINAL-URL:https://www.pachecocommunitycenter.com
X-WR-CALDESC:Events for Pacheco Community Center
REFRESH-INTERVAL;VALUE=DURATION:PT1H
X-Robots-Tag:noindex
X-PUBLISHED-TTL:PT1H
BEGIN:VTIMEZONE
TZID:America/Los_Angeles
BEGIN:DAYLIGHT
TZOFFSETFROM:-0800
TZOFFSETTO:-0700
TZNAME:PDT
DTSTART:20240310T100000
END:DAYLIGHT
BEGIN:STANDARD
TZOFFSETFROM:-0700
TZOFFSETTO:-0800
TZNAME:PST
DTSTART:20241103T090000
END:STANDARD
BEGIN:DAYLIGHT
TZOFFSETFROM:-0800
TZOFFSETTO:-0700
TZNAME:PDT
DTSTART:20250309T100000
END:DAYLIGHT
BEGIN:STANDARD
TZOFFSETFROM:-0700
TZOFFSETTO:-0800
TZNAME:PST
DTSTART:20251102T090000
END:STANDARD
BEGIN:DAYLIGHT
TZOFFSETFROM:-0800
TZOFFSETTO:-0700
TZNAME:PDT
DTSTART:20260308T100000
END:DAYLIGHT
BEGIN:STANDARD
TZOFFSETFROM:-0700
TZOFFSETTO:-0800
TZNAME:PST
DTSTART:20261101T090000
END:STANDARD
END:VTIMEZONE
BEGIN:VEVENT
DTSTART;TZID=America/Los_Angeles:20250729T190000
DTEND;TZID=America/Los_Angeles:20250729T213000
DTSTAMP:20260419T113143
CREATED:20250116T234258Z
LAST-MODIFIED:20250116T234258Z
UID:5803-1753815600-1753824600@www.pachecocommunitycenter.com
SUMMARY:Martinez Swingers Square Dance
DESCRIPTION:Advanced Workshop
URL:https://www.pachecocommunitycenter.com/events/martinez-swingers-square-dance-155/
LOCATION:Pacheco Community Center\, 5800 Pacheco Blvd.\, Pacheco\, CA\, 94553\, United States
END:VEVENT
BEGIN:VEVENT
DTSTART;TZID=America/Los_Angeles:20250730T090000
DTEND;TZID=America/Los_Angeles:20250730T130000
DTSTAMP:20260419T113143
CREATED:20250701T022320Z
LAST-MODIFIED:20250701T022320Z
UID:6195-1753866000-1753880400@www.pachecocommunitycenter.com
SUMMARY:Concord Day Adult Program
DESCRIPTION:Concord Day Adult Program
URL:https://www.pachecocommunitycenter.com/events/concord-day-adult-program-26/
LOCATION:Pacheco Community Center\, 5800 Pacheco Blvd.\, Pacheco\, CA\, 94553\, United States
END:VEVENT
BEGIN:VEVENT
DTSTART;TZID=America/Los_Angeles:20250730T180000
DTEND;TZID=America/Los_Angeles:20250730T184500
DTSTAMP:20260419T113143
CREATED:20250214T202009Z
LAST-MODIFIED:20250625T140604Z
UID:5890-1753898400-1753901100@www.pachecocommunitycenter.com
SUMMARY:New You Dance Center Dance Class
DESCRIPTION:New You Dance Class
URL:https://www.pachecocommunitycenter.com/events/new-you-dance-center-dance-class-77/
LOCATION:Pacheco Community Center\, 5800 Pacheco Blvd.\, Pacheco\, CA\, 94553\, United States
ORGANIZER;CN="New You Dance Center":MAILTO:newyoudancecenter@gmail.com
END:VEVENT
BEGIN:VEVENT
DTSTART;TZID=America/Los_Angeles:20250730T190000
DTEND;TZID=America/Los_Angeles:20250730T213000
DTSTAMP:20260419T113143
CREATED:20250116T220046Z
LAST-MODIFIED:20250116T220046Z
UID:5763-1753902000-1753911000@www.pachecocommunitycenter.com
SUMMARY:Martinez Swingers Square Dance
DESCRIPTION:SSD and Plus Workshop
URL:https://www.pachecocommunitycenter.com/events/martinez-swingers-square-dance-117/
LOCATION:Pacheco Community Center\, 5800 Pacheco Blvd.\, Pacheco\, CA\, 94553\, United States
END:VEVENT
BEGIN:VEVENT
DTSTART;TZID=America/Los_Angeles:20250801T090000
DTEND;TZID=America/Los_Angeles:20250801T090000
DTSTAMP:20260419T113143
CREATED:20250701T022320Z
LAST-MODIFIED:20250701T022320Z
UID:6196-1754038800-1754038800@www.pachecocommunitycenter.com
SUMMARY:Concord Day Adult Program
DESCRIPTION:
URL:https://www.pachecocommunitycenter.com/events/concord-day-adult-program-27/
LOCATION:Pacheco Community Center\, 5800 Pacheco Blvd.\, Pacheco\, CA\, 94553\, United States
END:VEVENT
BEGIN:VEVENT
DTSTART;TZID=America/Los_Angeles:20250804T090000
DTEND;TZID=America/Los_Angeles:20250804T090000
DTSTAMP:20260419T113143
CREATED:20250701T022321Z
LAST-MODIFIED:20250701T022321Z
UID:6197-1754298000-1754298000@www.pachecocommunitycenter.com
SUMMARY:Concord Day Adult Program
DESCRIPTION:
URL:https://www.pachecocommunitycenter.com/events/concord-day-adult-program-28/
LOCATION:Pacheco Community Center\, 5800 Pacheco Blvd.\, Pacheco\, CA\, 94553\, United States
END:VEVENT
BEGIN:VEVENT
DTSTART;TZID=America/Los_Angeles:20250805T190000
DTEND;TZID=America/Los_Angeles:20250805T213000
DTSTAMP:20260419T113143
CREATED:20250116T234457Z
LAST-MODIFIED:20250116T234457Z
UID:5804-1754420400-1754429400@www.pachecocommunitycenter.com
SUMMARY:Martinez Swingers Square Dance
DESCRIPTION:Advanced Workshop
URL:https://www.pachecocommunitycenter.com/events/martinez-swingers-square-dance-156/
LOCATION:Pacheco Community Center\, 5800 Pacheco Blvd.\, Pacheco\, CA\, 94553\, United States
END:VEVENT
BEGIN:VEVENT
DTSTART;TZID=America/Los_Angeles:20250806T090000
DTEND;TZID=America/Los_Angeles:20250806T090000
DTSTAMP:20260419T113143
CREATED:20250701T022511Z
LAST-MODIFIED:20250701T022511Z
UID:6198-1754470800-1754470800@www.pachecocommunitycenter.com
SUMMARY:Concord Day Adult Program
DESCRIPTION:
URL:https://www.pachecocommunitycenter.com/events/concord-day-adult-program-29/
LOCATION:Pacheco Community Center\, 5800 Pacheco Blvd.\, Pacheco\, CA\, 94553\, United States
END:VEVENT
BEGIN:VEVENT
DTSTART;TZID=America/Los_Angeles:20250806T120000
DTEND;TZID=America/Los_Angeles:20250806T130000
DTSTAMP:20260419T113143
CREATED:20250426T235408Z
LAST-MODIFIED:20250426T235408Z
UID:6037-1754481600-1754485200@www.pachecocommunitycenter.com
SUMMARY:FREE PRODUCE BY FOOD BANK OF CC & SOLANO
DESCRIPTION:IN PARTNERSHIP WITH FOOD BANK OF CONTRA COSTA & SOLANO\, WE WILL PROVIDE FREE PRODUCE TO ONE PERSON PER FAMILY. BRING ONE OR TWO BAGS WITH HANDLES. MUST BE PRESENT TO RECEIVE FOOD
URL:https://www.pachecocommunitycenter.com/events/free-produce-by-food-bank-of-cc-solano-7/
LOCATION:Pacheco Community Center Parking Lot\, 5800 Pacheco Blvd\, Pacheco\, California\, 94553
ORGANIZER;CN="FOOD BANK of CONTRA COSTA and SOLANO":MAILTO:info@foodbankccs.org
END:VEVENT
BEGIN:VEVENT
DTSTART;TZID=America/Los_Angeles:20250806T190000
DTEND;TZID=America/Los_Angeles:20250806T213000
DTSTAMP:20260419T113143
CREATED:20250116T220059Z
LAST-MODIFIED:20250116T220059Z
UID:5764-1754506800-1754515800@www.pachecocommunitycenter.com
SUMMARY:Martinez Swingers Square Dance
DESCRIPTION:SSD and Plus Workshop
URL:https://www.pachecocommunitycenter.com/events/martinez-swingers-square-dance-118/
LOCATION:Pacheco Community Center\, 5800 Pacheco Blvd.\, Pacheco\, CA\, 94553\, United States
END:VEVENT
BEGIN:VEVENT
DTSTART;TZID=America/Los_Angeles:20250807T100000
DTEND;TZID=America/Los_Angeles:20250807T130000
DTSTAMP:20260419T113143
CREATED:20250214T202215Z
LAST-MODIFIED:20250214T202215Z
UID:5896-1754560800-1754571600@www.pachecocommunitycenter.com
SUMMARY:Retiree Support Group Meeting
DESCRIPTION:Retiree Support Group Meeting
URL:https://www.pachecocommunitycenter.com/events/retiree-support-group-meeting-13/
LOCATION:Pacheco Community Center\, 5800 Pacheco Blvd.\, Pacheco\, CA\, 94553\, United States
END:VEVENT
BEGIN:VEVENT
DTSTART;TZID=America/Los_Angeles:20250808T080000
DTEND;TZID=America/Los_Angeles:20250808T170000
DTSTAMP:20260419T113143
CREATED:20250509T194822Z
LAST-MODIFIED:20250509T194824Z
UID:6113-1754640000-1754672400@www.pachecocommunitycenter.com
SUMMARY:PCC Office Closed
DESCRIPTION:
URL:https://www.pachecocommunitycenter.com/events/pcc-office-closed-10/
LOCATION:CA
END:VEVENT
BEGIN:VEVENT
DTSTART;TZID=America/Los_Angeles:20250808T090000
DTEND;TZID=America/Los_Angeles:20250808T090000
DTSTAMP:20260419T113143
CREATED:20250701T022512Z
LAST-MODIFIED:20250701T022512Z
UID:6199-1754643600-1754643600@www.pachecocommunitycenter.com
SUMMARY:Concord Day Adult Program
DESCRIPTION:
URL:https://www.pachecocommunitycenter.com/events/concord-day-adult-program-30/
LOCATION:Pacheco Community Center\, 5800 Pacheco Blvd.\, Pacheco\, CA\, 94553\, United States
END:VEVENT
BEGIN:VEVENT
DTSTART;TZID=America/Los_Angeles:20250811T080000
DTEND;TZID=America/Los_Angeles:20250811T170000
DTSTAMP:20260419T113143
CREATED:20250509T194848Z
LAST-MODIFIED:20250509T194857Z
UID:6118-1754899200-1754931600@www.pachecocommunitycenter.com
SUMMARY:PCC Office Closed
DESCRIPTION:
URL:https://www.pachecocommunitycenter.com/events/pcc-office-closed-11/
LOCATION:CA
END:VEVENT
BEGIN:VEVENT
DTSTART;TZID=America/Los_Angeles:20250811T090000
DTEND;TZID=America/Los_Angeles:20250811T090000
DTSTAMP:20260419T113143
CREATED:20250701T022513Z
LAST-MODIFIED:20250701T022513Z
UID:6200-1754902800-1754902800@www.pachecocommunitycenter.com
SUMMARY:Concord Day Adult Program
DESCRIPTION:
URL:https://www.pachecocommunitycenter.com/events/concord-day-adult-program-31/
LOCATION:Pacheco Community Center\, 5800 Pacheco Blvd.\, Pacheco\, CA\, 94553\, United States
END:VEVENT
BEGIN:VEVENT
DTSTART;TZID=America/Los_Angeles:20250812T190000
DTEND;TZID=America/Los_Angeles:20250812T213000
DTSTAMP:20260419T113143
CREATED:20250116T234457Z
LAST-MODIFIED:20250116T234457Z
UID:5805-1755025200-1755034200@www.pachecocommunitycenter.com
SUMMARY:Martinez Swingers Square Dance
DESCRIPTION:Advanced Workshop
URL:https://www.pachecocommunitycenter.com/events/martinez-swingers-square-dance-157/
LOCATION:Pacheco Community Center\, 5800 Pacheco Blvd.\, Pacheco\, CA\, 94553\, United States
END:VEVENT
BEGIN:VEVENT
DTSTART;TZID=America/Los_Angeles:20250813T080000
DTEND;TZID=America/Los_Angeles:20250813T170000
DTSTAMP:20260419T113143
CREATED:20250509T195008Z
LAST-MODIFIED:20250509T195025Z
UID:6119-1755072000-1755104400@www.pachecocommunitycenter.com
SUMMARY:PCC Office Closed
DESCRIPTION:
URL:https://www.pachecocommunitycenter.com/events/pcc-office-closed-12/
LOCATION:CA
END:VEVENT
BEGIN:VEVENT
DTSTART;TZID=America/Los_Angeles:20250813T090000
DTEND;TZID=America/Los_Angeles:20250813T090000
DTSTAMP:20260419T113143
CREATED:20250701T022514Z
LAST-MODIFIED:20250701T022514Z
UID:6201-1755075600-1755075600@www.pachecocommunitycenter.com
SUMMARY:Concord Day Adult Program
DESCRIPTION:
URL:https://www.pachecocommunitycenter.com/events/concord-day-adult-program-32/
LOCATION:Pacheco Community Center\, 5800 Pacheco Blvd.\, Pacheco\, CA\, 94553\, United States
END:VEVENT
BEGIN:VEVENT
DTSTART;TZID=America/Los_Angeles:20250813T183000
DTEND;TZID=America/Los_Angeles:20250813T193000
DTSTAMP:20260419T113143
CREATED:20250117T001030Z
LAST-MODIFIED:20250117T001030Z
UID:5834-1755109800-1755113400@www.pachecocommunitycenter.com
SUMMARY:PMAC Meeting - CANCELED
DESCRIPTION:Pacheco Municipal Advisory Council Meeting
URL:https://www.pachecocommunitycenter.com/events/pmac-meeting-canceled/
LOCATION:Pacheco Community Center\, 5800 Pacheco Blvd.\, Pacheco\, CA\, 94553\, United States
END:VEVENT
BEGIN:VEVENT
DTSTART;TZID=America/Los_Angeles:20250813T190000
DTEND;TZID=America/Los_Angeles:20250813T213000
DTSTAMP:20260419T113143
CREATED:20250116T220100Z
LAST-MODIFIED:20250116T220100Z
UID:5765-1755111600-1755120600@www.pachecocommunitycenter.com
SUMMARY:Martinez Swingers Square Dance
DESCRIPTION:SSD and Plus Workshop
URL:https://www.pachecocommunitycenter.com/events/martinez-swingers-square-dance-119/
LOCATION:Pacheco Community Center\, 5800 Pacheco Blvd.\, Pacheco\, CA\, 94553\, United States
END:VEVENT
BEGIN:VEVENT
DTSTART;TZID=America/Los_Angeles:20250815T080000
DTEND;TZID=America/Los_Angeles:20250815T170000
DTSTAMP:20260419T113143
CREATED:20250509T195300Z
LAST-MODIFIED:20250509T195310Z
UID:6120-1755244800-1755277200@www.pachecocommunitycenter.com
SUMMARY:PCC Office Closed
DESCRIPTION:
URL:https://www.pachecocommunitycenter.com/events/pcc-office-closed-13/
LOCATION:CA
END:VEVENT
BEGIN:VEVENT
DTSTART;TZID=America/Los_Angeles:20250815T090000
DTEND;TZID=America/Los_Angeles:20250815T090000
DTSTAMP:20260419T113143
CREATED:20250701T022515Z
LAST-MODIFIED:20250701T022515Z
UID:6202-1755248400-1755248400@www.pachecocommunitycenter.com
SUMMARY:Concord Day Adult Program
DESCRIPTION:
URL:https://www.pachecocommunitycenter.com/events/concord-day-adult-program-33/
LOCATION:Pacheco Community Center\, 5800 Pacheco Blvd.\, Pacheco\, CA\, 94553\, United States
END:VEVENT
BEGIN:VEVENT
DTSTART;TZID=America/Los_Angeles:20250818T090000
DTEND;TZID=America/Los_Angeles:20250818T090000
DTSTAMP:20260419T113143
CREATED:20250701T022523Z
LAST-MODIFIED:20250701T022523Z
UID:6203-1755507600-1755507600@www.pachecocommunitycenter.com
SUMMARY:Concord Day Adult Program
DESCRIPTION:
URL:https://www.pachecocommunitycenter.com/events/concord-day-adult-program-34/
LOCATION:Pacheco Community Center\, 5800 Pacheco Blvd.\, Pacheco\, CA\, 94553\, United States
END:VEVENT
BEGIN:VEVENT
DTSTART;TZID=America/Los_Angeles:20250819T190000
DTEND;TZID=America/Los_Angeles:20250819T213000
DTSTAMP:20260419T113143
CREATED:20250116T234458Z
LAST-MODIFIED:20250116T234458Z
UID:5806-1755630000-1755639000@www.pachecocommunitycenter.com
SUMMARY:Martinez Swingers Square Dance
DESCRIPTION:Advanced Workshop
URL:https://www.pachecocommunitycenter.com/events/martinez-swingers-square-dance-158/
LOCATION:Pacheco Community Center\, 5800 Pacheco Blvd.\, Pacheco\, CA\, 94553\, United States
END:VEVENT
BEGIN:VEVENT
DTSTART;TZID=America/Los_Angeles:20250820T090000
DTEND;TZID=America/Los_Angeles:20250820T090000
DTSTAMP:20260419T113143
CREATED:20250701T022523Z
LAST-MODIFIED:20250701T022523Z
UID:6204-1755680400-1755680400@www.pachecocommunitycenter.com
SUMMARY:Concord Day Adult Program
DESCRIPTION:
URL:https://www.pachecocommunitycenter.com/events/concord-day-adult-program-35/
LOCATION:Pacheco Community Center\, 5800 Pacheco Blvd.\, Pacheco\, CA\, 94553\, United States
END:VEVENT
BEGIN:VEVENT
DTSTART;TZID=America/Los_Angeles:20250820T120000
DTEND;TZID=America/Los_Angeles:20250820T130000
DTSTAMP:20260419T113143
CREATED:20250426T235410Z
LAST-MODIFIED:20250426T235410Z
UID:6038-1755691200-1755694800@www.pachecocommunitycenter.com
SUMMARY:FREE PRODUCE BY FOOD BANK OF CC & SOLANO
DESCRIPTION:IN PARTNERSHIP WITH FOOD BANK OF CONTRA COSTA & SOLANO\, WE WILL PROVIDE FREE PRODUCE TO ONE PERSON PER FAMILY. BRING ONE OR TWO BAGS WITH HANDLES. MUST BE PRESENT TO RECEIVE FOOD
URL:https://www.pachecocommunitycenter.com/events/free-produce-by-food-bank-of-cc-solano-8/
LOCATION:Pacheco Community Center Parking Lot\, 5800 Pacheco Blvd\, Pacheco\, California\, 94553
ORGANIZER;CN="FOOD BANK of CONTRA COSTA and SOLANO":MAILTO:info@foodbankccs.org
END:VEVENT
BEGIN:VEVENT
DTSTART;TZID=America/Los_Angeles:20250820T190000
DTEND;TZID=America/Los_Angeles:20250820T213000
DTSTAMP:20260419T113143
CREATED:20250116T220100Z
LAST-MODIFIED:20250116T220100Z
UID:5766-1755716400-1755725400@www.pachecocommunitycenter.com
SUMMARY:Martinez Swingers Square Dance
DESCRIPTION:SSD and Plus Workshop
URL:https://www.pachecocommunitycenter.com/events/martinez-swingers-square-dance-120/
LOCATION:Pacheco Community Center\, 5800 Pacheco Blvd.\, Pacheco\, CA\, 94553\, United States
END:VEVENT
BEGIN:VEVENT
DTSTART;TZID=America/Los_Angeles:20250822T090000
DTEND;TZID=America/Los_Angeles:20250822T090000
DTSTAMP:20260419T113143
CREATED:20250701T022523Z
LAST-MODIFIED:20250701T022523Z
UID:6205-1755853200-1755853200@www.pachecocommunitycenter.com
SUMMARY:Concord Day Adult Program
DESCRIPTION:
URL:https://www.pachecocommunitycenter.com/events/concord-day-adult-program-36/
LOCATION:Pacheco Community Center\, 5800 Pacheco Blvd.\, Pacheco\, CA\, 94553\, United States
END:VEVENT
BEGIN:VEVENT
DTSTART;TZID=America/Los_Angeles:20250823T110000
DTEND;TZID=America/Los_Angeles:20250823T130000
DTSTAMP:20260419T113143
CREATED:20250625T010957Z
LAST-MODIFIED:20250625T010959Z
UID:6149-1755946800-1755954000@www.pachecocommunitycenter.com
SUMMARY:Martinez Swingers Club Meeting
DESCRIPTION:Meeting for Martinez Swingers – club members only
URL:https://www.pachecocommunitycenter.com/events/martinez-swingers-club-meeting-2/
LOCATION:Conference Room at PCC\, 5800 Pacheco Blvd\, Pacheco\, California\, 94553
END:VEVENT
BEGIN:VEVENT
DTSTART;TZID=America/Los_Angeles:20250825T090000
DTEND;TZID=America/Los_Angeles:20250825T090000
DTSTAMP:20260419T113143
CREATED:20250701T022524Z
LAST-MODIFIED:20250701T022524Z
UID:6206-1756112400-1756112400@www.pachecocommunitycenter.com
SUMMARY:Concord Day Adult Program
DESCRIPTION:
URL:https://www.pachecocommunitycenter.com/events/concord-day-adult-program-37/
LOCATION:Pacheco Community Center\, 5800 Pacheco Blvd.\, Pacheco\, CA\, 94553\, United States
END:VEVENT
END:VCALENDAR