BEGIN:VCALENDAR
VERSION:2.0
PRODID:-//Pacheco Community Center - ECPv6.15.15//NONSGML v1.0//EN
CALSCALE:GREGORIAN
METHOD:PUBLISH
X-WR-CALNAME:Pacheco Community Center
X-ORIGINAL-URL:https://www.pachecocommunitycenter.com
X-WR-CALDESC:Events for Pacheco Community Center
REFRESH-INTERVAL;VALUE=DURATION:PT1H
X-Robots-Tag:noindex
X-PUBLISHED-TTL:PT1H
BEGIN:VTIMEZONE
TZID:America/Los_Angeles
BEGIN:DAYLIGHT
TZOFFSETFROM:-0800
TZOFFSETTO:-0700
TZNAME:PDT
DTSTART:20230312T100000
END:DAYLIGHT
BEGIN:STANDARD
TZOFFSETFROM:-0700
TZOFFSETTO:-0800
TZNAME:PST
DTSTART:20231105T090000
END:STANDARD
BEGIN:DAYLIGHT
TZOFFSETFROM:-0800
TZOFFSETTO:-0700
TZNAME:PDT
DTSTART:20240310T100000
END:DAYLIGHT
BEGIN:STANDARD
TZOFFSETFROM:-0700
TZOFFSETTO:-0800
TZNAME:PST
DTSTART:20241103T090000
END:STANDARD
BEGIN:DAYLIGHT
TZOFFSETFROM:-0800
TZOFFSETTO:-0700
TZNAME:PDT
DTSTART:20250309T100000
END:DAYLIGHT
BEGIN:STANDARD
TZOFFSETFROM:-0700
TZOFFSETTO:-0800
TZNAME:PST
DTSTART:20251102T090000
END:STANDARD
BEGIN:DAYLIGHT
TZOFFSETFROM:-0800
TZOFFSETTO:-0700
TZNAME:PDT
DTSTART:20260308T100000
END:DAYLIGHT
BEGIN:STANDARD
TZOFFSETFROM:-0700
TZOFFSETTO:-0800
TZNAME:PST
DTSTART:20261101T090000
END:STANDARD
END:VTIMEZONE
BEGIN:VEVENT
DTSTART;TZID=America/Los_Angeles:20250218T190000
DTEND;TZID=America/Los_Angeles:20250218T213000
DTSTAMP:20260419T141121
CREATED:20250116T233908Z
LAST-MODIFIED:20250116T233908Z
UID:5780-1739905200-1739914200@www.pachecocommunitycenter.com
SUMMARY:Martinez Swingers Square Dance
DESCRIPTION:Advanced Workshop
URL:https://www.pachecocommunitycenter.com/events/martinez-swingers-square-dance-132/
LOCATION:Pacheco Community Center\, 5800 Pacheco Blvd.\, Pacheco\, CA\, 94553\, United States
END:VEVENT
BEGIN:VEVENT
DTSTART;TZID=America/Los_Angeles:20250218T090000
DTEND;TZID=America/Los_Angeles:20250218T150000
DTSTAMP:20260419T141121
CREATED:20250116T234852Z
LAST-MODIFIED:20250116T234852Z
UID:5816-1739869200-1739890800@www.pachecocommunitycenter.com
SUMMARY:AARP Tax-Aide
DESCRIPTION:AARP Tax-Aide by appointment only
URL:https://www.pachecocommunitycenter.com/events/aarp-tax-aide-5/
LOCATION:Pacheco Community Center\, 5800 Pacheco Blvd.\, Pacheco\, CA\, 94553\, United States
END:VEVENT
BEGIN:VEVENT
DTSTART;TZID=America/Los_Angeles:20250216T150000
DTEND;TZID=America/Los_Angeles:20250216T200000
DTSTAMP:20260419T141121
CREATED:20250122T195549Z
LAST-MODIFIED:20250122T195551Z
UID:5857-1739718000-1739736000@www.pachecocommunitycenter.com
SUMMARY:Private Event: Retirement Party
DESCRIPTION:
URL:https://www.pachecocommunitycenter.com/events/private-event-retirement-party-2/
LOCATION:CA
END:VEVENT
BEGIN:VEVENT
DTSTART;TZID=America/Los_Angeles:20250212T190000
DTEND;TZID=America/Los_Angeles:20250212T213000
DTSTAMP:20260419T141121
CREATED:20250116T215717Z
LAST-MODIFIED:20250116T215717Z
UID:5739-1739386800-1739395800@www.pachecocommunitycenter.com
SUMMARY:Martinez Swingers Square Dance
DESCRIPTION:SSD and Plus Workshop
URL:https://www.pachecocommunitycenter.com/events/martinez-swingers-square-dance-93/
LOCATION:Pacheco Community Center\, 5800 Pacheco Blvd.\, Pacheco\, CA\, 94553\, United States
END:VEVENT
BEGIN:VEVENT
DTSTART;TZID=America/Los_Angeles:20250212T183000
DTEND;TZID=America/Los_Angeles:20250212T193000
DTSTAMP:20260419T141121
CREATED:20250117T001027Z
LAST-MODIFIED:20250117T001027Z
UID:5828-1739385000-1739388600@www.pachecocommunitycenter.com
SUMMARY:PMAC Meeting
DESCRIPTION:Pacheco Municipal Advisory Council Meeting
URL:https://www.pachecocommunitycenter.com/events/pmac-meeting-11/
LOCATION:Pacheco Community Center\, 5800 Pacheco Blvd.\, Pacheco\, CA\, 94553\, United States
END:VEVENT
BEGIN:VEVENT
DTSTART;TZID=America/Los_Angeles:20250212T180000
DTEND;TZID=America/Los_Angeles:20250212T184500
DTSTAMP:20260419T141121
CREATED:20250214T201849Z
LAST-MODIFIED:20250214T201849Z
UID:5866-1739383200-1739385900@www.pachecocommunitycenter.com
SUMMARY:New You Dance Center Dance Class
DESCRIPTION:New You Dance Class
URL:https://www.pachecocommunitycenter.com/events/new-you-dance-center-dance-class-53/
LOCATION:Pacheco Community Center\, 5800 Pacheco Blvd.\, Pacheco\, CA\, 94553\, United States
ORGANIZER;CN="New You Dance Center":MAILTO:newyoudancecenter@gmail.com
END:VEVENT
BEGIN:VEVENT
DTSTART;TZID=America/Los_Angeles:20250211T190000
DTEND;TZID=America/Los_Angeles:20250211T213000
DTSTAMP:20260419T141121
CREATED:20250116T233908Z
LAST-MODIFIED:20250116T233908Z
UID:5779-1739300400-1739309400@www.pachecocommunitycenter.com
SUMMARY:Martinez Swingers Square Dance
DESCRIPTION:Advanced Workshop
URL:https://www.pachecocommunitycenter.com/events/martinez-swingers-square-dance-131/
LOCATION:Pacheco Community Center\, 5800 Pacheco Blvd.\, Pacheco\, CA\, 94553\, United States
END:VEVENT
BEGIN:VEVENT
DTSTART;TZID=America/Los_Angeles:20250211T090000
DTEND;TZID=America/Los_Angeles:20250211T150000
DTSTAMP:20260419T141121
CREATED:20250116T234852Z
LAST-MODIFIED:20250116T234852Z
UID:5815-1739264400-1739286000@www.pachecocommunitycenter.com
SUMMARY:AARP Tax-Aide
DESCRIPTION:AARP Tax-Aide by appointment only
URL:https://www.pachecocommunitycenter.com/events/aarp-tax-aide-4/
LOCATION:Pacheco Community Center\, 5800 Pacheco Blvd.\, Pacheco\, CA\, 94553\, United States
END:VEVENT
BEGIN:VEVENT
DTSTART;TZID=America/Los_Angeles:20250210T080000
DTEND;TZID=America/Los_Angeles:20250210T170000
DTSTAMP:20260419T141121
CREATED:20250122T195624Z
LAST-MODIFIED:20250122T195627Z
UID:5859-1739174400-1739206800@www.pachecocommunitycenter.com
SUMMARY:Public Event: :Lifeline Screening
DESCRIPTION:
URL:https://www.pachecocommunitycenter.com/events/public-event-lifeline-screening/
LOCATION:CA
END:VEVENT
BEGIN:VEVENT
DTSTART;TZID=America/Los_Angeles:20250207T100000
DTEND;TZID=America/Los_Angeles:20250207T130000
DTSTAMP:20260419T141121
CREATED:20250214T202213Z
LAST-MODIFIED:20250214T202213Z
UID:5893-1738922400-1738933200@www.pachecocommunitycenter.com
SUMMARY:Retiree Support Group Meeting
DESCRIPTION:Retiree Support Group Meeting
URL:https://www.pachecocommunitycenter.com/events/retiree-support-group-meeting-10/
LOCATION:Pacheco Community Center\, 5800 Pacheco Blvd.\, Pacheco\, CA\, 94553\, United States
END:VEVENT
BEGIN:VEVENT
DTSTART;TZID=America/Los_Angeles:20250205T190000
DTEND;TZID=America/Los_Angeles:20250205T213000
DTSTAMP:20260419T141121
CREATED:20250116T215715Z
LAST-MODIFIED:20250116T215715Z
UID:5738-1738782000-1738791000@www.pachecocommunitycenter.com
SUMMARY:Martinez Swingers Square Dance
DESCRIPTION:SSD and Plus Workshop
URL:https://www.pachecocommunitycenter.com/events/martinez-swingers-square-dance-92/
LOCATION:Pacheco Community Center\, 5800 Pacheco Blvd.\, Pacheco\, CA\, 94553\, United States
END:VEVENT
BEGIN:VEVENT
DTSTART;TZID=America/Los_Angeles:20250204T190000
DTEND;TZID=America/Los_Angeles:20250204T213000
DTSTAMP:20260419T141121
CREATED:20250116T233905Z
LAST-MODIFIED:20250116T233905Z
UID:5778-1738695600-1738704600@www.pachecocommunitycenter.com
SUMMARY:Martinez Swingers Square Dance
DESCRIPTION:Advanced Workshop
URL:https://www.pachecocommunitycenter.com/events/martinez-swingers-square-dance-130/
LOCATION:Pacheco Community Center\, 5800 Pacheco Blvd.\, Pacheco\, CA\, 94553\, United States
END:VEVENT
BEGIN:VEVENT
DTSTART;TZID=America/Los_Angeles:20250204T090000
DTEND;TZID=America/Los_Angeles:20250204T150000
DTSTAMP:20260419T141121
CREATED:20250116T234852Z
LAST-MODIFIED:20250116T234852Z
UID:5814-1738659600-1738681200@www.pachecocommunitycenter.com
SUMMARY:AARP Tax-Aide
DESCRIPTION:AARP Tax-Aide by appointment only
URL:https://www.pachecocommunitycenter.com/events/aarp-tax-aide-3/
LOCATION:Pacheco Community Center\, 5800 Pacheco Blvd.\, Pacheco\, CA\, 94553\, United States
END:VEVENT
BEGIN:VEVENT
DTSTART;TZID=America/Los_Angeles:20250201T120000
DTEND;TZID=America/Los_Angeles:20250201T220000
DTSTAMP:20260419T141121
CREATED:20250122T195441Z
LAST-MODIFIED:20250122T195443Z
UID:5855-1738411200-1738447200@www.pachecocommunitycenter.com
SUMMARY:Private Event: Birthday Party
DESCRIPTION:
URL:https://www.pachecocommunitycenter.com/events/private-event-birthday-party-29/
LOCATION:CA
END:VEVENT
BEGIN:VEVENT
DTSTART;TZID=America/Los_Angeles:20250129T190000
DTEND;TZID=America/Los_Angeles:20250129T213000
DTSTAMP:20260419T141121
CREATED:20250116T215715Z
LAST-MODIFIED:20250116T215715Z
UID:5737-1738177200-1738186200@www.pachecocommunitycenter.com
SUMMARY:Martinez Swingers Square Dance
DESCRIPTION:SSD and Plus Workshop
URL:https://www.pachecocommunitycenter.com/events/martinez-swingers-square-dance-91/
LOCATION:Pacheco Community Center\, 5800 Pacheco Blvd.\, Pacheco\, CA\, 94553\, United States
END:VEVENT
BEGIN:VEVENT
DTSTART;TZID=America/Los_Angeles:20250128T190000
DTEND;TZID=America/Los_Angeles:20250128T213000
DTSTAMP:20260419T141121
CREATED:20250116T233905Z
LAST-MODIFIED:20250116T233905Z
UID:5777-1738090800-1738099800@www.pachecocommunitycenter.com
SUMMARY:Martinez Swingers Square Dance
DESCRIPTION:Advanced Workshop
URL:https://www.pachecocommunitycenter.com/events/martinez-swingers-square-dance-129/
LOCATION:Pacheco Community Center\, 5800 Pacheco Blvd.\, Pacheco\, CA\, 94553\, United States
END:VEVENT
BEGIN:VEVENT
DTSTART;TZID=America/Los_Angeles:20250126T130000
DTEND;TZID=America/Los_Angeles:20250126T180000
DTSTAMP:20260419T141121
CREATED:20250122T195338Z
LAST-MODIFIED:20250122T195340Z
UID:5853-1737896400-1737914400@www.pachecocommunitycenter.com
SUMMARY:Private Event: Celebration of Life
DESCRIPTION:
URL:https://www.pachecocommunitycenter.com/events/private-event-celebration-of-life-23/
LOCATION:CA
END:VEVENT
BEGIN:VEVENT
DTSTART;TZID=America/Los_Angeles:20250125T110000
DTEND;TZID=America/Los_Angeles:20250125T170000
DTSTAMP:20260419T141121
CREATED:20250122T195251Z
LAST-MODIFIED:20250122T195253Z
UID:5851-1737802800-1737824400@www.pachecocommunitycenter.com
SUMMARY:Private Event: Celebration of Life
DESCRIPTION:
URL:https://www.pachecocommunitycenter.com/events/private-event-celebration-of-life-22/
LOCATION:CA
END:VEVENT
BEGIN:VEVENT
DTSTART;TZID=America/Los_Angeles:20250122T190000
DTEND;TZID=America/Los_Angeles:20250122T213000
DTSTAMP:20260419T141121
CREATED:20250116T215714Z
LAST-MODIFIED:20250116T215714Z
UID:5736-1737572400-1737581400@www.pachecocommunitycenter.com
SUMMARY:Martinez Swingers Square Dance
DESCRIPTION:SSD and Plus Workshop
URL:https://www.pachecocommunitycenter.com/events/martinez-swingers-square-dance-90/
LOCATION:Pacheco Community Center\, 5800 Pacheco Blvd.\, Pacheco\, CA\, 94553\, United States
END:VEVENT
BEGIN:VEVENT
DTSTART;TZID=America/Los_Angeles:20250122T183000
DTEND;TZID=America/Los_Angeles:20250122T183000
DTSTAMP:20260419T141122
CREATED:20250117T001045Z
LAST-MODIFIED:20250117T001045Z
UID:5839-1737570600-1737570600@www.pachecocommunitycenter.com
SUMMARY:PTC Meeting
DESCRIPTION:Pacheco Town Council Meeting
URL:https://www.pachecocommunitycenter.com/events/ptc-meeting-6/
LOCATION:Pacheco Community Center\, 5800 Pacheco Blvd.\, Pacheco\, CA\, 94553\, United States
END:VEVENT
BEGIN:VEVENT
DTSTART;TZID=America/Los_Angeles:20250121T190000
DTEND;TZID=America/Los_Angeles:20250121T213000
DTSTAMP:20260419T141122
CREATED:20250116T233905Z
LAST-MODIFIED:20250116T233905Z
UID:5776-1737486000-1737495000@www.pachecocommunitycenter.com
SUMMARY:Martinez Swingers Square Dance
DESCRIPTION:Advanced Workshop
URL:https://www.pachecocommunitycenter.com/events/martinez-swingers-square-dance-128/
LOCATION:Pacheco Community Center\, 5800 Pacheco Blvd.\, Pacheco\, CA\, 94553\, United States
END:VEVENT
BEGIN:VEVENT
DTSTART;TZID=America/Los_Angeles:20250115T190000
DTEND;TZID=America/Los_Angeles:20250115T213000
DTSTAMP:20260419T141122
CREATED:20250116T215714Z
LAST-MODIFIED:20250116T215714Z
UID:5735-1736967600-1736976600@www.pachecocommunitycenter.com
SUMMARY:Martinez Swingers Square Dance
DESCRIPTION:SSD and Plus Workshop
URL:https://www.pachecocommunitycenter.com/events/martinez-swingers-square-dance-89/
LOCATION:Pacheco Community Center\, 5800 Pacheco Blvd.\, Pacheco\, CA\, 94553\, United States
END:VEVENT
BEGIN:VEVENT
DTSTART;TZID=America/Los_Angeles:20250114T190000
DTEND;TZID=America/Los_Angeles:20250114T213000
DTSTAMP:20260419T141122
CREATED:20250116T233904Z
LAST-MODIFIED:20250116T233904Z
UID:5775-1736881200-1736890200@www.pachecocommunitycenter.com
SUMMARY:Martinez Swingers Square Dance
DESCRIPTION:Advanced Workshop
URL:https://www.pachecocommunitycenter.com/events/martinez-swingers-square-dance-127/
LOCATION:Pacheco Community Center\, 5800 Pacheco Blvd.\, Pacheco\, CA\, 94553\, United States
END:VEVENT
BEGIN:VEVENT
DTSTART;TZID=America/Los_Angeles:20250108T190000
DTEND;TZID=America/Los_Angeles:20250108T213000
DTSTAMP:20260419T141122
CREATED:20250116T215714Z
LAST-MODIFIED:20250116T215714Z
UID:5734-1736362800-1736371800@www.pachecocommunitycenter.com
SUMMARY:Martinez Swingers Square Dance
DESCRIPTION:SSD and Plus Workshop
URL:https://www.pachecocommunitycenter.com/events/martinez-swingers-square-dance-88/
LOCATION:Pacheco Community Center\, 5800 Pacheco Blvd.\, Pacheco\, CA\, 94553\, United States
END:VEVENT
BEGIN:VEVENT
DTSTART;TZID=America/Los_Angeles:20250108T183000
DTEND;TZID=America/Los_Angeles:20250108T193000
DTSTAMP:20260419T141122
CREATED:20250117T001027Z
LAST-MODIFIED:20250117T001027Z
UID:5827-1736361000-1736364600@www.pachecocommunitycenter.com
SUMMARY:PMAC Meeting
DESCRIPTION:Pacheco Municipal Advisory Council Meeting
URL:https://www.pachecocommunitycenter.com/events/pmac-meeting-10/
LOCATION:Pacheco Community Center\, 5800 Pacheco Blvd.\, Pacheco\, CA\, 94553\, United States
END:VEVENT
BEGIN:VEVENT
DTSTART;TZID=America/Los_Angeles:20250107T190000
DTEND;TZID=America/Los_Angeles:20250107T213000
DTSTAMP:20260419T141122
CREATED:20250116T233904Z
LAST-MODIFIED:20250116T233904Z
UID:5774-1736276400-1736285400@www.pachecocommunitycenter.com
SUMMARY:Martinez Swingers Square Dance
DESCRIPTION:Advanced Workshop
URL:https://www.pachecocommunitycenter.com/events/martinez-swingers-square-dance-126/
LOCATION:Pacheco Community Center\, 5800 Pacheco Blvd.\, Pacheco\, CA\, 94553\, United States
END:VEVENT
BEGIN:VEVENT
DTSTART;TZID=America/Los_Angeles:20241224T000000
DTEND;TZID=America/Los_Angeles:20250101T235959
DTSTAMP:20260419T141122
CREATED:20240916T225524Z
LAST-MODIFIED:20240916T225740Z
UID:5609-1734998400-1735775999@www.pachecocommunitycenter.com
SUMMARY:Pacheco Community Center Closed
DESCRIPTION:
URL:https://www.pachecocommunitycenter.com/events/pacheco-community-center-closed-17/
LOCATION:CA
END:VEVENT
BEGIN:VEVENT
DTSTART;TZID=America/Los_Angeles:20241221T100000
DTEND;TZID=America/Los_Angeles:20241221T120000
DTSTAMP:20260419T141122
CREATED:20240916T225323Z
LAST-MODIFIED:20241115T215316Z
UID:5607-1734775200-1734782400@www.pachecocommunitycenter.com
SUMMARY:Santa Visits Pacheco Community Center
DESCRIPTION:Bring the family for holiday snacks\, games and activities for the kids. Take pictures with Santa.
URL:https://www.pachecocommunitycenter.com/events/tentatively-pcc-santa-day/
LOCATION:CA
END:VEVENT
BEGIN:VEVENT
DTSTART;TZID=America/Los_Angeles:20241218T190000
DTEND;TZID=America/Los_Angeles:20241218T213000
DTSTAMP:20260419T141122
CREATED:20241115T215905Z
LAST-MODIFIED:20241115T215905Z
UID:5699-1734548400-1734557400@www.pachecocommunitycenter.com
SUMMARY:Martinez Swingers Square Dance
DESCRIPTION:Beginner Square Dancing Class
URL:https://www.pachecocommunitycenter.com/events/martinez-swingers-square-dance-87/
LOCATION:Pacheco Community Center\, 5800 Pacheco Blvd.\, Pacheco\, CA\, 94553\, United States
END:VEVENT
BEGIN:VEVENT
DTSTART;TZID=America/Los_Angeles:20241217T190000
DTEND;TZID=America/Los_Angeles:20241217T213000
DTSTAMP:20260419T141122
CREATED:20240824T003641Z
LAST-MODIFIED:20240824T005403Z
UID:5485-1734462000-1734471000@www.pachecocommunitycenter.com
SUMMARY:Martinez Swingers Advanced Workshop
DESCRIPTION:Advanced Program Workshop
URL:https://www.pachecocommunitycenter.com/events/martinez-swingers-square-dance-81/
LOCATION:Pacheco Community Center\, 5800 Pacheco Blvd.\, Pacheco\, CA\, 94553\, United States
END:VEVENT
END:VCALENDAR