BEGIN:VCALENDAR
VERSION:2.0
PRODID:-//Pacheco Community Center - ECPv6.15.15//NONSGML v1.0//EN
CALSCALE:GREGORIAN
METHOD:PUBLISH
X-ORIGINAL-URL:https://www.pachecocommunitycenter.com
X-WR-CALDESC:Events for Pacheco Community Center
REFRESH-INTERVAL;VALUE=DURATION:PT1H
X-Robots-Tag:noindex
X-PUBLISHED-TTL:PT1H
BEGIN:VTIMEZONE
TZID:America/Los_Angeles
BEGIN:DAYLIGHT
TZOFFSETFROM:-0800
TZOFFSETTO:-0700
TZNAME:PDT
DTSTART:20240310T100000
END:DAYLIGHT
BEGIN:STANDARD
TZOFFSETFROM:-0700
TZOFFSETTO:-0800
TZNAME:PST
DTSTART:20241103T090000
END:STANDARD
BEGIN:DAYLIGHT
TZOFFSETFROM:-0800
TZOFFSETTO:-0700
TZNAME:PDT
DTSTART:20250309T100000
END:DAYLIGHT
BEGIN:STANDARD
TZOFFSETFROM:-0700
TZOFFSETTO:-0800
TZNAME:PST
DTSTART:20251102T090000
END:STANDARD
BEGIN:DAYLIGHT
TZOFFSETFROM:-0800
TZOFFSETTO:-0700
TZNAME:PDT
DTSTART:20260308T100000
END:DAYLIGHT
BEGIN:STANDARD
TZOFFSETFROM:-0700
TZOFFSETTO:-0800
TZNAME:PST
DTSTART:20261101T090000
END:STANDARD
END:VTIMEZONE
BEGIN:VEVENT
DTSTART;TZID=America/Los_Angeles:20250826T090000
DTEND;TZID=America/Los_Angeles:20250826T130000
DTSTAMP:20260419T124149
CREATED:20250822T180711Z
LAST-MODIFIED:20250822T180723Z
UID:6274-1756198800-1756213200@www.pachecocommunitycenter.com
SUMMARY:Concord Day Adult Program
DESCRIPTION:
URL:https://www.pachecocommunitycenter.com/events/concord-day-adult-program-53/
LOCATION:CA
END:VEVENT
BEGIN:VEVENT
DTSTART;TZID=America/Los_Angeles:20250826T190000
DTEND;TZID=America/Los_Angeles:20250826T213000
DTSTAMP:20260419T124149
CREATED:20250116T234458Z
LAST-MODIFIED:20250116T234458Z
UID:5807-1756234800-1756243800@www.pachecocommunitycenter.com
SUMMARY:Martinez Swingers Square Dance
DESCRIPTION:Advanced Workshop
URL:https://www.pachecocommunitycenter.com/events/martinez-swingers-square-dance-159/
LOCATION:Pacheco Community Center\, 5800 Pacheco Blvd.\, Pacheco\, CA\, 94553\, United States
END:VEVENT
BEGIN:VEVENT
DTSTART;TZID=America/Los_Angeles:20250827T090000
DTEND;TZID=America/Los_Angeles:20250827T090000
DTSTAMP:20260419T124149
CREATED:20250701T022524Z
LAST-MODIFIED:20250701T022524Z
UID:6207-1756285200-1756285200@www.pachecocommunitycenter.com
SUMMARY:Concord Day Adult Program
DESCRIPTION:
URL:https://www.pachecocommunitycenter.com/events/concord-day-adult-program-38/
LOCATION:Pacheco Community Center\, 5800 Pacheco Blvd.\, Pacheco\, CA\, 94553\, United States
END:VEVENT
BEGIN:VEVENT
DTSTART;TZID=America/Los_Angeles:20250827T183000
DTEND;TZID=America/Los_Angeles:20250827T183000
DTSTAMP:20260419T124149
CREATED:20250117T001100Z
LAST-MODIFIED:20250117T001100Z
UID:5846-1756319400-1756319400@www.pachecocommunitycenter.com
SUMMARY:PTC Meeting
DESCRIPTION:Pacheco Town Council Meeting
URL:https://www.pachecocommunitycenter.com/events/ptc-meeting-13/
LOCATION:Pacheco Community Center\, 5800 Pacheco Blvd.\, Pacheco\, CA\, 94553\, United States
END:VEVENT
BEGIN:VEVENT
DTSTART;TZID=America/Los_Angeles:20250827T190000
DTEND;TZID=America/Los_Angeles:20250827T213000
DTSTAMP:20260419T124149
CREATED:20250116T220100Z
LAST-MODIFIED:20250116T220100Z
UID:5767-1756321200-1756330200@www.pachecocommunitycenter.com
SUMMARY:Martinez Swingers Square Dance
DESCRIPTION:SSD and Plus Workshop
URL:https://www.pachecocommunitycenter.com/events/martinez-swingers-square-dance-121/
LOCATION:Pacheco Community Center\, 5800 Pacheco Blvd.\, Pacheco\, CA\, 94553\, United States
END:VEVENT
BEGIN:VEVENT
DTSTART;TZID=America/Los_Angeles:20250828T090000
DTEND;TZID=America/Los_Angeles:20250828T130000
DTSTAMP:20260419T124149
CREATED:20250822T180800Z
LAST-MODIFIED:20250822T180806Z
UID:6276-1756371600-1756386000@www.pachecocommunitycenter.com
SUMMARY:Concord Day Adult Program
DESCRIPTION:
URL:https://www.pachecocommunitycenter.com/events/concord-day-adult-program-54/
LOCATION:CA
END:VEVENT
BEGIN:VEVENT
DTSTART;TZID=America/Los_Angeles:20250829T090000
DTEND;TZID=America/Los_Angeles:20250829T090000
DTSTAMP:20260419T124149
CREATED:20250701T022535Z
LAST-MODIFIED:20250701T022535Z
UID:6208-1756458000-1756458000@www.pachecocommunitycenter.com
SUMMARY:Concord Day Adult Program
DESCRIPTION:
URL:https://www.pachecocommunitycenter.com/events/concord-day-adult-program-39/
LOCATION:Pacheco Community Center\, 5800 Pacheco Blvd.\, Pacheco\, CA\, 94553\, United States
END:VEVENT
BEGIN:VEVENT
DTSTART;TZID=America/Los_Angeles:20250830T080000
DTEND;TZID=America/Los_Angeles:20250901T170000
DTSTAMP:20260419T124149
CREATED:20250509T195406Z
LAST-MODIFIED:20250509T195415Z
UID:6122-1756540800-1756746000@www.pachecocommunitycenter.com
SUMMARY:Pacheco Community Center Closed: Labor Day Weekend
DESCRIPTION:
URL:https://www.pachecocommunitycenter.com/events/pacheco-community-center-closed-labor-day-weekend/
LOCATION:CA
END:VEVENT
BEGIN:VEVENT
DTSTART;TZID=America/Los_Angeles:20250902T090000
DTEND;TZID=America/Los_Angeles:20250902T130000
DTSTAMP:20260419T124149
CREATED:20250822T184434Z
LAST-MODIFIED:20250822T184437Z
UID:6279-1756803600-1756818000@www.pachecocommunitycenter.com
SUMMARY:Concord Day Adult Program
DESCRIPTION:
URL:https://www.pachecocommunitycenter.com/events/concord-day-adult-program-55/
LOCATION:CA
END:VEVENT
BEGIN:VEVENT
DTSTART;TZID=America/Los_Angeles:20250902T190000
DTEND;TZID=America/Los_Angeles:20250902T213000
DTSTAMP:20260419T124149
CREATED:20250116T234458Z
LAST-MODIFIED:20250116T234458Z
UID:5808-1756839600-1756848600@www.pachecocommunitycenter.com
SUMMARY:Martinez Swingers Square Dance
DESCRIPTION:Advanced Workshop
URL:https://www.pachecocommunitycenter.com/events/martinez-swingers-square-dance-160/
LOCATION:Pacheco Community Center\, 5800 Pacheco Blvd.\, Pacheco\, CA\, 94553\, United States
END:VEVENT
BEGIN:VEVENT
DTSTART;TZID=America/Los_Angeles:20250903T090000
DTEND;TZID=America/Los_Angeles:20250903T090000
DTSTAMP:20260419T124149
CREATED:20250701T022536Z
LAST-MODIFIED:20250701T022536Z
UID:6210-1756890000-1756890000@www.pachecocommunitycenter.com
SUMMARY:Concord Day Adult Program
DESCRIPTION:
URL:https://www.pachecocommunitycenter.com/events/concord-day-adult-program-41/
LOCATION:Pacheco Community Center\, 5800 Pacheco Blvd.\, Pacheco\, CA\, 94553\, United States
END:VEVENT
BEGIN:VEVENT
DTSTART;TZID=America/Los_Angeles:20250903T120000
DTEND;TZID=America/Los_Angeles:20250903T130000
DTSTAMP:20260419T124149
CREATED:20250426T235411Z
LAST-MODIFIED:20250426T235411Z
UID:6039-1756900800-1756904400@www.pachecocommunitycenter.com
SUMMARY:FREE PRODUCE BY FOOD BANK OF CC & SOLANO
DESCRIPTION:IN PARTNERSHIP WITH FOOD BANK OF CONTRA COSTA & SOLANO\, WE WILL PROVIDE FREE PRODUCE TO ONE PERSON PER FAMILY. BRING ONE OR TWO BAGS WITH HANDLES. MUST BE PRESENT TO RECEIVE FOOD
URL:https://www.pachecocommunitycenter.com/events/free-produce-by-food-bank-of-cc-solano-9/
LOCATION:Pacheco Community Center Parking Lot\, 5800 Pacheco Blvd\, Pacheco\, California\, 94553
ORGANIZER;CN="FOOD BANK of CONTRA COSTA and SOLANO":MAILTO:info@foodbankccs.org
END:VEVENT
BEGIN:VEVENT
DTSTART;TZID=America/Los_Angeles:20250903T190000
DTEND;TZID=America/Los_Angeles:20250903T213000
DTSTAMP:20260419T124149
CREATED:20250116T220101Z
LAST-MODIFIED:20250116T220101Z
UID:5768-1756926000-1756935000@www.pachecocommunitycenter.com
SUMMARY:Martinez Swingers Square Dance
DESCRIPTION:SSD and Plus Workshop
URL:https://www.pachecocommunitycenter.com/events/martinez-swingers-square-dance-122/
LOCATION:Pacheco Community Center\, 5800 Pacheco Blvd.\, Pacheco\, CA\, 94553\, United States
END:VEVENT
BEGIN:VEVENT
DTSTART;TZID=America/Los_Angeles:20250904T090000
DTEND;TZID=America/Los_Angeles:20250904T130000
DTSTAMP:20260419T124149
CREATED:20250822T184540Z
LAST-MODIFIED:20250822T184547Z
UID:6282-1756976400-1756990800@www.pachecocommunitycenter.com
SUMMARY:Concord Day Adult Program
DESCRIPTION:
URL:https://www.pachecocommunitycenter.com/events/concord-day-adult-program-56/
LOCATION:CA
END:VEVENT
BEGIN:VEVENT
DTSTART;TZID=America/Los_Angeles:20250905T090000
DTEND;TZID=America/Los_Angeles:20250905T090000
DTSTAMP:20260419T124149
CREATED:20250701T022536Z
LAST-MODIFIED:20250701T022536Z
UID:6211-1757062800-1757062800@www.pachecocommunitycenter.com
SUMMARY:Concord Day Adult Program
DESCRIPTION:
URL:https://www.pachecocommunitycenter.com/events/concord-day-adult-program-42/
LOCATION:Pacheco Community Center\, 5800 Pacheco Blvd.\, Pacheco\, CA\, 94553\, United States
END:VEVENT
BEGIN:VEVENT
DTSTART;TZID=America/Los_Angeles:20250908T090000
DTEND;TZID=America/Los_Angeles:20250908T090000
DTSTAMP:20260419T124149
CREATED:20250701T022537Z
LAST-MODIFIED:20250701T022537Z
UID:6212-1757322000-1757322000@www.pachecocommunitycenter.com
SUMMARY:Concord Day Adult Program
DESCRIPTION:
URL:https://www.pachecocommunitycenter.com/events/concord-day-adult-program-43/
LOCATION:Pacheco Community Center\, 5800 Pacheco Blvd.\, Pacheco\, CA\, 94553\, United States
END:VEVENT
BEGIN:VEVENT
DTSTART;TZID=America/Los_Angeles:20250909T090000
DTEND;TZID=America/Los_Angeles:20250909T130000
DTSTAMP:20260419T124149
CREATED:20250822T184837Z
LAST-MODIFIED:20250822T184841Z
UID:6284-1757408400-1757422800@www.pachecocommunitycenter.com
SUMMARY:Concord Day Adult Program
DESCRIPTION:
URL:https://www.pachecocommunitycenter.com/events/concord-day-adult-program-57/
LOCATION:CA
END:VEVENT
BEGIN:VEVENT
DTSTART;TZID=America/Los_Angeles:20250909T190000
DTEND;TZID=America/Los_Angeles:20250909T213000
DTSTAMP:20260419T124149
CREATED:20250116T234657Z
LAST-MODIFIED:20250116T234657Z
UID:5809-1757444400-1757453400@www.pachecocommunitycenter.com
SUMMARY:Martinez Swingers Square Dance
DESCRIPTION:Advanced Workshop
URL:https://www.pachecocommunitycenter.com/events/martinez-swingers-square-dance-161/
LOCATION:Pacheco Community Center\, 5800 Pacheco Blvd.\, Pacheco\, CA\, 94553\, United States
END:VEVENT
BEGIN:VEVENT
DTSTART;TZID=America/Los_Angeles:20250910T090000
DTEND;TZID=America/Los_Angeles:20250910T090000
DTSTAMP:20260419T124149
CREATED:20250701T022735Z
LAST-MODIFIED:20250701T022735Z
UID:6213-1757494800-1757494800@www.pachecocommunitycenter.com
SUMMARY:Concord Day Adult Program
DESCRIPTION:
URL:https://www.pachecocommunitycenter.com/events/concord-day-adult-program-44/
LOCATION:Pacheco Community Center\, 5800 Pacheco Blvd.\, Pacheco\, CA\, 94553\, United States
END:VEVENT
BEGIN:VEVENT
DTSTART;TZID=America/Los_Angeles:20250910T183000
DTEND;TZID=America/Los_Angeles:20250910T193000
DTSTAMP:20260419T124149
CREATED:20250117T001030Z
LAST-MODIFIED:20250117T001030Z
UID:5835-1757529000-1757532600@www.pachecocommunitycenter.com
SUMMARY:PMAC Meeting
DESCRIPTION:Pacheco Municipal Advisory Council Meeting
URL:https://www.pachecocommunitycenter.com/events/pmac-meeting-17/
LOCATION:Pacheco Community Center\, 5800 Pacheco Blvd.\, Pacheco\, CA\, 94553\, United States
END:VEVENT
BEGIN:VEVENT
DTSTART;TZID=America/Los_Angeles:20250910T190000
DTEND;TZID=America/Los_Angeles:20250910T213000
DTSTAMP:20260419T124149
CREATED:20250116T220259Z
LAST-MODIFIED:20250116T220259Z
UID:5769-1757530800-1757539800@www.pachecocommunitycenter.com
SUMMARY:Martinez Swingers Square Dance
DESCRIPTION:SSD and Plus Workshop
URL:https://www.pachecocommunitycenter.com/events/martinez-swingers-square-dance-123/
LOCATION:Pacheco Community Center\, 5800 Pacheco Blvd.\, Pacheco\, CA\, 94553\, United States
END:VEVENT
BEGIN:VEVENT
DTSTART;TZID=America/Los_Angeles:20250911T090000
DTEND;TZID=America/Los_Angeles:20250911T130000
DTSTAMP:20260419T124149
CREATED:20250822T185022Z
LAST-MODIFIED:20250822T185026Z
UID:6286-1757581200-1757595600@www.pachecocommunitycenter.com
SUMMARY:Concord Day Adult Program
DESCRIPTION:
URL:https://www.pachecocommunitycenter.com/events/concord-day-adult-program-58/
LOCATION:CA
END:VEVENT
BEGIN:VEVENT
DTSTART;TZID=America/Los_Angeles:20250912T090000
DTEND;TZID=America/Los_Angeles:20250912T090000
DTSTAMP:20260419T124149
CREATED:20250701T022736Z
LAST-MODIFIED:20250701T022736Z
UID:6214-1757667600-1757667600@www.pachecocommunitycenter.com
SUMMARY:Concord Day Adult Program
DESCRIPTION:
URL:https://www.pachecocommunitycenter.com/events/concord-day-adult-program-45/
LOCATION:Pacheco Community Center\, 5800 Pacheco Blvd.\, Pacheco\, CA\, 94553\, United States
END:VEVENT
BEGIN:VEVENT
DTSTART;TZID=America/Los_Angeles:20250915T090000
DTEND;TZID=America/Los_Angeles:20250915T090000
DTSTAMP:20260419T124149
CREATED:20250701T022736Z
LAST-MODIFIED:20250701T022736Z
UID:6215-1757926800-1757926800@www.pachecocommunitycenter.com
SUMMARY:Concord Day Adult Program
DESCRIPTION:
URL:https://www.pachecocommunitycenter.com/events/concord-day-adult-program-46/
LOCATION:Pacheco Community Center\, 5800 Pacheco Blvd.\, Pacheco\, CA\, 94553\, United States
END:VEVENT
BEGIN:VEVENT
DTSTART;TZID=America/Los_Angeles:20250916T090000
DTEND;TZID=America/Los_Angeles:20250916T130000
DTSTAMP:20260419T124149
CREATED:20250822T185124Z
LAST-MODIFIED:20250822T185127Z
UID:6288-1758013200-1758027600@www.pachecocommunitycenter.com
SUMMARY:Concord Day Adult Program
DESCRIPTION:
URL:https://www.pachecocommunitycenter.com/events/concord-day-adult-program-59/
LOCATION:CA
END:VEVENT
BEGIN:VEVENT
DTSTART;TZID=America/Los_Angeles:20250916T190000
DTEND;TZID=America/Los_Angeles:20250916T213000
DTSTAMP:20260419T124149
CREATED:20250116T234658Z
LAST-MODIFIED:20250116T234658Z
UID:5810-1758049200-1758058200@www.pachecocommunitycenter.com
SUMMARY:Martinez Swingers Square Dance
DESCRIPTION:Advanced Workshop
URL:https://www.pachecocommunitycenter.com/events/martinez-swingers-square-dance-162/
LOCATION:Pacheco Community Center\, 5800 Pacheco Blvd.\, Pacheco\, CA\, 94553\, United States
END:VEVENT
BEGIN:VEVENT
DTSTART;TZID=America/Los_Angeles:20250917T090000
DTEND;TZID=America/Los_Angeles:20250917T090000
DTSTAMP:20260419T124149
CREATED:20250701T022736Z
LAST-MODIFIED:20250701T022736Z
UID:6216-1758099600-1758099600@www.pachecocommunitycenter.com
SUMMARY:Concord Day Adult Program
DESCRIPTION:
URL:https://www.pachecocommunitycenter.com/events/concord-day-adult-program-47/
LOCATION:Pacheco Community Center\, 5800 Pacheco Blvd.\, Pacheco\, CA\, 94553\, United States
END:VEVENT
BEGIN:VEVENT
DTSTART;TZID=America/Los_Angeles:20250917T120000
DTEND;TZID=America/Los_Angeles:20250917T130000
DTSTAMP:20260419T124149
CREATED:20250426T235412Z
LAST-MODIFIED:20250426T235412Z
UID:6040-1758110400-1758114000@www.pachecocommunitycenter.com
SUMMARY:FREE PRODUCE BY FOOD BANK OF CC & SOLANO
DESCRIPTION:IN PARTNERSHIP WITH FOOD BANK OF CONTRA COSTA & SOLANO\, WE WILL PROVIDE FREE PRODUCE TO ONE PERSON PER FAMILY. BRING ONE OR TWO BAGS WITH HANDLES. MUST BE PRESENT TO RECEIVE FOOD
URL:https://www.pachecocommunitycenter.com/events/free-produce-by-food-bank-of-cc-solano-10/
LOCATION:Pacheco Community Center Parking Lot\, 5800 Pacheco Blvd\, Pacheco\, California\, 94553
ORGANIZER;CN="FOOD BANK of CONTRA COSTA and SOLANO":MAILTO:info@foodbankccs.org
END:VEVENT
BEGIN:VEVENT
DTSTART;TZID=America/Los_Angeles:20250917T190000
DTEND;TZID=America/Los_Angeles:20250917T213000
DTSTAMP:20260419T124149
CREATED:20250116T220300Z
LAST-MODIFIED:20250116T220300Z
UID:5770-1758135600-1758144600@www.pachecocommunitycenter.com
SUMMARY:Martinez Swingers Square Dance
DESCRIPTION:SSD and Plus Workshop
URL:https://www.pachecocommunitycenter.com/events/martinez-swingers-square-dance-124/
LOCATION:Pacheco Community Center\, 5800 Pacheco Blvd.\, Pacheco\, CA\, 94553\, United States
END:VEVENT
BEGIN:VEVENT
DTSTART;TZID=America/Los_Angeles:20250918T090000
DTEND;TZID=America/Los_Angeles:20250918T130000
DTSTAMP:20260419T124149
CREATED:20250822T185154Z
LAST-MODIFIED:20250822T185157Z
UID:6290-1758186000-1758200400@www.pachecocommunitycenter.com
SUMMARY:Concord Day Adult Program
DESCRIPTION:
URL:https://www.pachecocommunitycenter.com/events/concord-day-adult-program-60/
LOCATION:CA
END:VEVENT
END:VCALENDAR