BEGIN:VCALENDAR
VERSION:2.0
PRODID:-//Pacheco Community Center - ECPv6.15.15//NONSGML v1.0//EN
CALSCALE:GREGORIAN
METHOD:PUBLISH
X-WR-CALNAME:Pacheco Community Center
X-ORIGINAL-URL:https://www.pachecocommunitycenter.com
X-WR-CALDESC:Events for Pacheco Community Center
REFRESH-INTERVAL;VALUE=DURATION:PT1H
X-Robots-Tag:noindex
X-PUBLISHED-TTL:PT1H
BEGIN:VTIMEZONE
TZID:America/Los_Angeles
BEGIN:DAYLIGHT
TZOFFSETFROM:-0800
TZOFFSETTO:-0700
TZNAME:PDT
DTSTART:20230312T100000
END:DAYLIGHT
BEGIN:STANDARD
TZOFFSETFROM:-0700
TZOFFSETTO:-0800
TZNAME:PST
DTSTART:20231105T090000
END:STANDARD
BEGIN:DAYLIGHT
TZOFFSETFROM:-0800
TZOFFSETTO:-0700
TZNAME:PDT
DTSTART:20240310T100000
END:DAYLIGHT
BEGIN:STANDARD
TZOFFSETFROM:-0700
TZOFFSETTO:-0800
TZNAME:PST
DTSTART:20241103T090000
END:STANDARD
BEGIN:DAYLIGHT
TZOFFSETFROM:-0800
TZOFFSETTO:-0700
TZNAME:PDT
DTSTART:20250309T100000
END:DAYLIGHT
BEGIN:STANDARD
TZOFFSETFROM:-0700
TZOFFSETTO:-0800
TZNAME:PST
DTSTART:20251102T090000
END:STANDARD
END:VTIMEZONE
BEGIN:VEVENT
DTSTART;TZID=America/Los_Angeles:20241030T193000
DTEND;TZID=America/Los_Angeles:20241030T210000
DTSTAMP:20260419T164519
CREATED:20240824T003413Z
LAST-MODIFIED:20240914T220716Z
UID:5470-1730316600-1730322000@www.pachecocommunitycenter.com
SUMMARY:Martinez Swingers - Beg. Square Dancing Class
DESCRIPTION:Beginner Square Dancing Class
URL:https://www.pachecocommunitycenter.com/events/martinez-swingers-square-dance-68/
LOCATION:Pacheco Community Center\, 5800 Pacheco Blvd.\, Pacheco\, CA\, 94553\, United States
END:VEVENT
BEGIN:VEVENT
DTSTART;TZID=America/Los_Angeles:20241029T190000
DTEND;TZID=America/Los_Angeles:20241029T213000
DTSTAMP:20260419T164519
CREATED:20240824T003626Z
LAST-MODIFIED:20240824T005257Z
UID:5478-1730228400-1730237400@www.pachecocommunitycenter.com
SUMMARY:Martinez Swingers Advanced Workshop
DESCRIPTION:Advanced Program Workshop
URL:https://www.pachecocommunitycenter.com/events/martinez-swingers-square-dance-74/
LOCATION:Pacheco Community Center\, 5800 Pacheco Blvd.\, Pacheco\, CA\, 94553\, United States
END:VEVENT
BEGIN:VEVENT
DTSTART;TZID=America/Los_Angeles:20241027T110000
DTEND;TZID=America/Los_Angeles:20241027T180000
DTSTAMP:20260419T164519
CREATED:20241021T201856Z
LAST-MODIFIED:20241021T201858Z
UID:5646-1730026800-1730052000@www.pachecocommunitycenter.com
SUMMARY:Private Event
DESCRIPTION:
URL:https://www.pachecocommunitycenter.com/events/private-event-16/
LOCATION:CA
END:VEVENT
BEGIN:VEVENT
DTSTART;TZID=America/Los_Angeles:20241026T120000
DTEND;TZID=America/Los_Angeles:20241026T230000
DTSTAMP:20260419T164519
CREATED:20240916T235208Z
LAST-MODIFIED:20240916T235336Z
UID:5633-1729944000-1729983600@www.pachecocommunitycenter.com
SUMMARY:Pacheco Community Center Closed
DESCRIPTION:
URL:https://www.pachecocommunitycenter.com/events/pacheco-community-center-closed-19/
LOCATION:CA
END:VEVENT
BEGIN:VEVENT
DTSTART;TZID=America/Los_Angeles:20241026T090000
DTEND;TZID=America/Los_Angeles:20241026T120000
DTSTAMP:20260419T164519
CREATED:20240914T221301Z
LAST-MODIFIED:20240914T221304Z
UID:5587-1729933200-1729944000@www.pachecocommunitycenter.com
SUMMARY:Pacheco Community Cleanup
DESCRIPTION:Join your friends and neighbors to help make the community of Pacheco a cleaner and greener place for all of us.
URL:https://www.pachecocommunitycenter.com/events/pacheco-community-cleanup/
LOCATION:CA
END:VEVENT
BEGIN:VEVENT
DTSTART;TZID=America/Los_Angeles:20241025T080000
DTEND;TZID=America/Los_Angeles:20241025T170000
DTSTAMP:20260419T164519
CREATED:20240916T234404Z
LAST-MODIFIED:20240916T234406Z
UID:5620-1729843200-1729875600@www.pachecocommunitycenter.com
SUMMARY:Tax AIDE Training
DESCRIPTION:
URL:https://www.pachecocommunitycenter.com/events/tax-aide-training/
LOCATION:CA
END:VEVENT
BEGIN:VEVENT
DTSTART;TZID=America/Los_Angeles:20241023T193000
DTEND;TZID=America/Los_Angeles:20241023T210000
DTSTAMP:20260419T164519
CREATED:20240824T003413Z
LAST-MODIFIED:20240914T220624Z
UID:5469-1729711800-1729717200@www.pachecocommunitycenter.com
SUMMARY:Martinez Swingers - Beg. Square Dancing Class
DESCRIPTION:Beginner Square Dancing Class
URL:https://www.pachecocommunitycenter.com/events/martinez-swingers-square-dance-67/
LOCATION:Pacheco Community Center\, 5800 Pacheco Blvd.\, Pacheco\, CA\, 94553\, United States
END:VEVENT
BEGIN:VEVENT
DTSTART;TZID=America/Los_Angeles:20241022T190000
DTEND;TZID=America/Los_Angeles:20241022T213000
DTSTAMP:20260419T164519
CREATED:20240824T003622Z
LAST-MODIFIED:20240824T004916Z
UID:5477-1729623600-1729632600@www.pachecocommunitycenter.com
SUMMARY:Martinez Swingers Advanced Workshop
DESCRIPTION:Advanced Program Workshop
URL:https://www.pachecocommunitycenter.com/events/martinez-swingers-square-dance-73/
LOCATION:Pacheco Community Center\, 5800 Pacheco Blvd.\, Pacheco\, CA\, 94553\, United States
END:VEVENT
BEGIN:VEVENT
DTSTART;TZID=America/Los_Angeles:20241019T080000
DTEND;TZID=America/Los_Angeles:20241019T140000
DTSTAMP:20260419T164519
CREATED:20240914T221003Z
LAST-MODIFIED:20240914T221009Z
UID:5585-1729324800-1729346400@www.pachecocommunitycenter.com
SUMMARY:PARKING LOT RUMMAGE SALE
DESCRIPTION:Find some hidden treasures at our bi-annual parking lot Rummage Sale
URL:https://www.pachecocommunitycenter.com/events/parking-lot-rummage-sale/
LOCATION:Pacheco Community Center\, 5800 Pacheco Blvd.\, Pacheco\, CA\, 94553\, United States
END:VEVENT
BEGIN:VEVENT
DTSTART;TZID=America/Los_Angeles:20241016T193000
DTEND;TZID=America/Los_Angeles:20241016T210000
DTSTAMP:20260419T164519
CREATED:20240824T003213Z
LAST-MODIFIED:20240914T220551Z
UID:5468-1729107000-1729112400@www.pachecocommunitycenter.com
SUMMARY:Martinez Swingers - Beg. Square Dancing Class
DESCRIPTION:Beginner Square Dancing Class
URL:https://www.pachecocommunitycenter.com/events/martinez-swingers-square-dance-66/
LOCATION:Pacheco Community Center\, 5800 Pacheco Blvd.\, Pacheco\, CA\, 94553\, United States
END:VEVENT
BEGIN:VEVENT
DTSTART;TZID=America/Los_Angeles:20241015T190000
DTEND;TZID=America/Los_Angeles:20241015T213000
DTSTAMP:20260419T164519
CREATED:20240824T003622Z
LAST-MODIFIED:20240824T004902Z
UID:5476-1729018800-1729027800@www.pachecocommunitycenter.com
SUMMARY:Martinez Swingers Advanced Workshop
DESCRIPTION:Advanced Program Workshop
URL:https://www.pachecocommunitycenter.com/events/martinez-swingers-square-dance-72/
LOCATION:Pacheco Community Center\, 5800 Pacheco Blvd.\, Pacheco\, CA\, 94553\, United States
END:VEVENT
BEGIN:VEVENT
DTSTART;TZID=America/Los_Angeles:20241009T193000
DTEND;TZID=America/Los_Angeles:20241009T210000
DTSTAMP:20260419T164519
CREATED:20240824T003213Z
LAST-MODIFIED:20240914T220517Z
UID:5467-1728502200-1728507600@www.pachecocommunitycenter.com
SUMMARY:Martinez Swingers- Beg. Square Dancing Class
DESCRIPTION:Beginner Square Dancing Class
URL:https://www.pachecocommunitycenter.com/events/martinez-swingers-square-dance-65/
LOCATION:Pacheco Community Center\, 5800 Pacheco Blvd.\, Pacheco\, CA\, 94553\, United States
END:VEVENT
BEGIN:VEVENT
DTSTART;TZID=America/Los_Angeles:20241009T183000
DTEND;TZID=America/Los_Angeles:20241009T193000
DTSTAMP:20260419T164519
CREATED:20240314T135119Z
LAST-MODIFIED:20240314T135120Z
UID:5240-1728498600-1728502200@www.pachecocommunitycenter.com
SUMMARY:PMAC Meeting
DESCRIPTION:Pacheco Municipal Advisory Council MeetingMeeting is open to the public\, and is held in the conference room at the Pacheco Community Center.\nEntrance to conference room is on the side of the building next to the parking lot.
URL:https://www.pachecocommunitycenter.com/events/pmac-meeting-8/
LOCATION:Pacheco Community Center\, 5800 Pacheco Blvd.\, Pacheco\, CA\, 94553\, United States
END:VEVENT
BEGIN:VEVENT
DTSTART;TZID=America/Los_Angeles:20241008T190000
DTEND;TZID=America/Los_Angeles:20241008T213000
DTSTAMP:20260419T164519
CREATED:20240824T003621Z
LAST-MODIFIED:20240824T004843Z
UID:5475-1728414000-1728423000@www.pachecocommunitycenter.com
SUMMARY:Martinez Swingers Advanced Workshop
DESCRIPTION:Advanced Program Workshop
URL:https://www.pachecocommunitycenter.com/events/martinez-swingers-square-dance-71/
LOCATION:Pacheco Community Center\, 5800 Pacheco Blvd.\, Pacheco\, CA\, 94553\, United States
END:VEVENT
BEGIN:VEVENT
DTSTART;TZID=America/Los_Angeles:20241004T080000
DTEND;TZID=America/Los_Angeles:20241004T160000
DTSTAMP:20260419T164519
CREATED:20240904T195609Z
LAST-MODIFIED:20240904T195611Z
UID:5549-1728028800-1728057600@www.pachecocommunitycenter.com
SUMMARY:Lifeline Screening Public Screening
DESCRIPTION:
URL:https://www.pachecocommunitycenter.com/events/lifeline-screening-public-screening/
LOCATION:CA
END:VEVENT
BEGIN:VEVENT
DTSTART;TZID=America/Los_Angeles:20241003T100000
DTEND;TZID=America/Los_Angeles:20241003T130000
DTSTAMP:20260419T164519
CREATED:20240404T004232Z
LAST-MODIFIED:20240410T232652Z
UID:5370-1727949600-1727960400@www.pachecocommunitycenter.com
SUMMARY:Retiree Support Group Meeting
DESCRIPTION:Retiree Support Group Meeting
URL:https://www.pachecocommunitycenter.com/events/retiree-support-group-meeting-9/
LOCATION:Pacheco Community Center\, 5800 Pacheco Blvd.\, Pacheco\, CA\, 94553\, United States
END:VEVENT
BEGIN:VEVENT
DTSTART;TZID=America/Los_Angeles:20241002T193000
DTEND;TZID=America/Los_Angeles:20241002T210000
DTSTAMP:20260419T164519
CREATED:20240824T003213Z
LAST-MODIFIED:20240914T220442Z
UID:5466-1727897400-1727902800@www.pachecocommunitycenter.com
SUMMARY:Martinez Swingers - Beg. Square Dancing Class
DESCRIPTION:Beginner Square Dancing Class
URL:https://www.pachecocommunitycenter.com/events/martinez-swingers-square-dance-64/
LOCATION:Pacheco Community Center\, 5800 Pacheco Blvd.\, Pacheco\, CA\, 94553\, United States
END:VEVENT
BEGIN:VEVENT
DTSTART;TZID=America/Los_Angeles:20241001T190000
DTEND;TZID=America/Los_Angeles:20241001T213000
DTSTAMP:20260419T164519
CREATED:20240824T003621Z
LAST-MODIFIED:20240824T004825Z
UID:5474-1727809200-1727818200@www.pachecocommunitycenter.com
SUMMARY:Martinez Swingers Advanced Workshop
DESCRIPTION:Advanced Program Workshop
URL:https://www.pachecocommunitycenter.com/events/martinez-swingers-square-dance-70/
LOCATION:Pacheco Community Center\, 5800 Pacheco Blvd.\, Pacheco\, CA\, 94553\, United States
END:VEVENT
BEGIN:VEVENT
DTSTART;TZID=America/Los_Angeles:20240927T080000
DTEND;TZID=America/Los_Angeles:20240927T123000
DTSTAMP:20260419T164519
CREATED:20240916T234922Z
LAST-MODIFIED:20240916T234923Z
UID:5627-1727424000-1727440200@www.pachecocommunitycenter.com
SUMMARY:CCC Public Defenders
DESCRIPTION:
URL:https://www.pachecocommunitycenter.com/events/ccc-public-defenders/
LOCATION:CA
END:VEVENT
BEGIN:VEVENT
DTSTART;TZID=America/Los_Angeles:20240927T000000
DTEND;TZID=America/Los_Angeles:20240927T003000
DTSTAMP:20260419T164519
CREATED:20240904T190409Z
LAST-MODIFIED:20240904T190411Z
UID:5545-1727395200-1727397000@www.pachecocommunitycenter.com
SUMMARY:CCC Public Defenders Training
DESCRIPTION:
URL:https://www.pachecocommunitycenter.com/events/ccc-public-defenders-training-2/
LOCATION:CA
END:VEVENT
BEGIN:VEVENT
DTSTART;TZID=America/Los_Angeles:20240925T193000
DTEND;TZID=America/Los_Angeles:20240925T210000
DTSTAMP:20260419T164519
CREATED:20240824T003212Z
LAST-MODIFIED:20240914T220357Z
UID:5465-1727292600-1727298000@www.pachecocommunitycenter.com
SUMMARY:Martinez Swingers - Beg. Square Dancing Class
DESCRIPTION:Beginner Square Dancing Class
URL:https://www.pachecocommunitycenter.com/events/martinez-swingers-square-dance-63/
LOCATION:Pacheco Community Center\, 5800 Pacheco Blvd.\, Pacheco\, CA\, 94553\, United States
END:VEVENT
BEGIN:VEVENT
DTSTART;TZID=America/Los_Angeles:20240924T190000
DTEND;TZID=America/Los_Angeles:20240924T213000
DTSTAMP:20260419T164519
CREATED:20240824T003621Z
LAST-MODIFIED:20240824T005206Z
UID:5473-1727204400-1727213400@www.pachecocommunitycenter.com
SUMMARY:Martinez Swingers Advanced Workshop
DESCRIPTION:Advanced Program Workshop
URL:https://www.pachecocommunitycenter.com/events/martinez-swingers-square-dance-69/
LOCATION:Pacheco Community Center\, 5800 Pacheco Blvd.\, Pacheco\, CA\, 94553\, United States
END:VEVENT
BEGIN:VEVENT
DTSTART;TZID=America/Los_Angeles:20240922T080000
DTEND;TZID=America/Los_Angeles:20240922T180000
DTSTAMP:20260419T164519
CREATED:20240904T181715Z
LAST-MODIFIED:20240904T181717Z
UID:5542-1726992000-1727028000@www.pachecocommunitycenter.com
SUMMARY:Private Event
DESCRIPTION:
URL:https://www.pachecocommunitycenter.com/events/private-event-10/
LOCATION:CA
END:VEVENT
BEGIN:VEVENT
DTSTART;TZID=America/Los_Angeles:20240921T110000
DTEND;TZID=America/Los_Angeles:20240921T140000
DTSTAMP:20260419T164519
CREATED:20240207T230302Z
LAST-MODIFIED:20240223T183728Z
UID:4926-1726916400-1726927200@www.pachecocommunitycenter.com
SUMMARY:CCC Housing Authority
DESCRIPTION:
URL:https://www.pachecocommunitycenter.com/events/ccc-housing-authority-2/
LOCATION:CA
END:VEVENT
BEGIN:VEVENT
DTSTART;TZID=America/Los_Angeles:20240918T193000
DTEND;TZID=America/Los_Angeles:20240918T210000
DTSTAMP:20260419T164519
CREATED:20240824T003212Z
LAST-MODIFIED:20240914T220153Z
UID:5464-1726687800-1726693200@www.pachecocommunitycenter.com
SUMMARY:Martinez Swingers - Beg. Square Dancing Class
DESCRIPTION:Beginner Square Dancing Class
URL:https://www.pachecocommunitycenter.com/events/martinez-swingers-square-dance-62/
LOCATION:Pacheco Community Center\, 5800 Pacheco Blvd.\, Pacheco\, CA\, 94553\, United States
END:VEVENT
BEGIN:VEVENT
DTSTART;TZID=America/Los_Angeles:20240918T080000
DTEND;TZID=America/Los_Angeles:20240918T160000
DTSTAMP:20260419T164519
CREATED:20240904T180459Z
LAST-MODIFIED:20240904T180502Z
UID:5530-1726646400-1726675200@www.pachecocommunitycenter.com
SUMMARY:VistAbility Meeting
DESCRIPTION:
URL:https://www.pachecocommunitycenter.com/events/vistability-meeting/
LOCATION:CA
END:VEVENT
BEGIN:VEVENT
DTSTART;TZID=America/Los_Angeles:20240917T190000
DTEND;TZID=America/Los_Angeles:20240917T213000
DTSTAMP:20260419T164519
CREATED:20240824T002417Z
LAST-MODIFIED:20240824T005156Z
UID:5451-1726599600-1726608600@www.pachecocommunitycenter.com
SUMMARY:Martinez Swingers Advanced Workshop
DESCRIPTION:Advanced Program Workshop
URL:https://www.pachecocommunitycenter.com/events/martinez-swingers-square-dance-51/
LOCATION:Pacheco Community Center\, 5800 Pacheco Blvd.\, Pacheco\, CA\, 94553\, United States
END:VEVENT
BEGIN:VEVENT
DTSTART;TZID=America/Los_Angeles:20240916T120000
DTEND;TZID=America/Los_Angeles:20240916T170000
DTSTAMP:20260419T164519
CREATED:20240916T234959Z
LAST-MODIFIED:20240916T235001Z
UID:5629-1726488000-1726506000@www.pachecocommunitycenter.com
SUMMARY:Private Event:
DESCRIPTION:
URL:https://www.pachecocommunitycenter.com/events/private-event-13/
LOCATION:CA
END:VEVENT
BEGIN:VEVENT
DTSTART;TZID=America/Los_Angeles:20240914T180000
DTEND;TZID=America/Los_Angeles:20240914T230000
DTSTAMP:20260419T164519
CREATED:20240904T181134Z
LAST-MODIFIED:20240904T181136Z
UID:5539-1726336800-1726354800@www.pachecocommunitycenter.com
SUMMARY:Private Event
DESCRIPTION:
URL:https://www.pachecocommunitycenter.com/events/private-event-9/
LOCATION:CA
END:VEVENT
BEGIN:VEVENT
DTSTART;TZID=America/Los_Angeles:20240911T190000
DTEND;TZID=America/Los_Angeles:20240911T213000
DTSTAMP:20260419T164519
CREATED:20240824T003157Z
LAST-MODIFIED:20240824T003949Z
UID:5463-1726081200-1726090200@www.pachecocommunitycenter.com
SUMMARY:Martinez Swingers  - Free Introduction to Square Dance Class
DESCRIPTION:Beginner Square Dancing Class
URL:https://www.pachecocommunitycenter.com/events/martinez-swingers-square-dance-61/
LOCATION:Pacheco Community Center\, 5800 Pacheco Blvd.\, Pacheco\, CA\, 94553\, United States
END:VEVENT
END:VCALENDAR