BEGIN:VCALENDAR
VERSION:2.0
PRODID:-//Pacheco Community Center - ECPv6.15.15//NONSGML v1.0//EN
CALSCALE:GREGORIAN
METHOD:PUBLISH
X-ORIGINAL-URL:https://www.pachecocommunitycenter.com
X-WR-CALDESC:Events for Pacheco Community Center
REFRESH-INTERVAL;VALUE=DURATION:PT1H
X-Robots-Tag:noindex
X-PUBLISHED-TTL:PT1H
BEGIN:VTIMEZONE
TZID:America/Los_Angeles
BEGIN:DAYLIGHT
TZOFFSETFROM:-0800
TZOFFSETTO:-0700
TZNAME:PDT
DTSTART:20240310T100000
END:DAYLIGHT
BEGIN:STANDARD
TZOFFSETFROM:-0700
TZOFFSETTO:-0800
TZNAME:PST
DTSTART:20241103T090000
END:STANDARD
BEGIN:DAYLIGHT
TZOFFSETFROM:-0800
TZOFFSETTO:-0700
TZNAME:PDT
DTSTART:20250309T100000
END:DAYLIGHT
BEGIN:STANDARD
TZOFFSETFROM:-0700
TZOFFSETTO:-0800
TZNAME:PST
DTSTART:20251102T090000
END:STANDARD
BEGIN:DAYLIGHT
TZOFFSETFROM:-0800
TZOFFSETTO:-0700
TZNAME:PDT
DTSTART:20260308T100000
END:DAYLIGHT
BEGIN:STANDARD
TZOFFSETFROM:-0700
TZOFFSETTO:-0800
TZNAME:PST
DTSTART:20261101T090000
END:STANDARD
END:VTIMEZONE
BEGIN:VEVENT
DTSTART;TZID=America/Los_Angeles:20251014T090000
DTEND;TZID=America/Los_Angeles:20251014T130000
DTSTAMP:20260419T151348
CREATED:20251007T220858Z
LAST-MODIFIED:20251007T220858Z
UID:6435-1760432400-1760446800@www.pachecocommunitycenter.com
SUMMARY:Concord Day Adult Program
DESCRIPTION:Concord Day Adult Program
URL:https://www.pachecocommunitycenter.com/events/concord-day-adult-program-73/
LOCATION:Pacheco Community Center\, 5800 Pacheco Blvd.\, Pacheco\, CA\, 94553\, United States
END:VEVENT
BEGIN:VEVENT
DTSTART;TZID=America/Los_Angeles:20251014T190000
DTEND;TZID=America/Los_Angeles:20251014T213000
DTSTAMP:20260419T151348
CREATED:20251007T223507Z
LAST-MODIFIED:20251007T223507Z
UID:6454-1760468400-1760477400@www.pachecocommunitycenter.com
SUMMARY:Martinez Swingers Square Dance
DESCRIPTION:Advanced Workshop
URL:https://www.pachecocommunitycenter.com/events/martinez-swingers-square-dance-165/
LOCATION:Pacheco Community Center\, 5800 Pacheco Blvd.\, Pacheco\, CA\, 94553\, United States
END:VEVENT
BEGIN:VEVENT
DTSTART;TZID=America/Los_Angeles:20251015T090000
DTEND;TZID=America/Los_Angeles:20251015T130000
DTSTAMP:20260419T151348
CREATED:20251007T220909Z
LAST-MODIFIED:20251007T220909Z
UID:6436-1760518800-1760533200@www.pachecocommunitycenter.com
SUMMARY:Concord Day Adult Program
DESCRIPTION:Concord Day Adult Program
URL:https://www.pachecocommunitycenter.com/events/concord-day-adult-program-74/
LOCATION:Pacheco Community Center\, 5800 Pacheco Blvd.\, Pacheco\, CA\, 94553\, United States
END:VEVENT
BEGIN:VEVENT
DTSTART;TZID=America/Los_Angeles:20251015T120000
DTEND;TZID=America/Los_Angeles:20251015T130000
DTSTAMP:20260419T151348
CREATED:20250426T235412Z
LAST-MODIFIED:20250426T235412Z
UID:6042-1760529600-1760533200@www.pachecocommunitycenter.com
SUMMARY:FREE PRODUCE BY FOOD BANK OF CC & SOLANO
DESCRIPTION:IN PARTNERSHIP WITH FOOD BANK OF CONTRA COSTA & SOLANO\, WE WILL PROVIDE FREE PRODUCE TO ONE PERSON PER FAMILY. BRING ONE OR TWO BAGS WITH HANDLES. MUST BE PRESENT TO RECEIVE FOOD
URL:https://www.pachecocommunitycenter.com/events/free-produce-by-food-bank-of-cc-solano-12/
LOCATION:Pacheco Community Center Parking Lot\, 5800 Pacheco Blvd\, Pacheco\, California\, 94553
ORGANIZER;CN="FOOD BANK of CONTRA COSTA and SOLANO":MAILTO:info@foodbankccs.org
END:VEVENT
BEGIN:VEVENT
DTSTART;TZID=America/Los_Angeles:20251015T190000
DTEND;TZID=America/Los_Angeles:20251015T213000
DTSTAMP:20260419T151348
CREATED:20251007T225204Z
LAST-MODIFIED:20251007T225204Z
UID:6474-1760554800-1760563800@www.pachecocommunitycenter.com
SUMMARY:Martinez Swingers Square Dance
DESCRIPTION:
URL:https://www.pachecocommunitycenter.com/events/martinez-swingers-square-dance-179/
LOCATION:Pacheco Community Center\, 5800 Pacheco Blvd.\, Pacheco\, CA\, 94553\, United States
END:VEVENT
BEGIN:VEVENT
DTSTART;TZID=America/Los_Angeles:20251016T090000
DTEND;TZID=America/Los_Angeles:20251016T130000
DTSTAMP:20260419T151348
CREATED:20251007T220910Z
LAST-MODIFIED:20251007T220910Z
UID:6437-1760605200-1760619600@www.pachecocommunitycenter.com
SUMMARY:Concord Day Adult Program
DESCRIPTION:Concord Day Adult Program
URL:https://www.pachecocommunitycenter.com/events/concord-day-adult-program-75/
LOCATION:Pacheco Community Center\, 5800 Pacheco Blvd.\, Pacheco\, CA\, 94553\, United States
END:VEVENT
BEGIN:VEVENT
DTSTART;TZID=America/Los_Angeles:20251017T090000
DTEND;TZID=America/Los_Angeles:20251017T130000
DTSTAMP:20260419T151348
CREATED:20251007T220910Z
LAST-MODIFIED:20251007T220910Z
UID:6438-1760691600-1760706000@www.pachecocommunitycenter.com
SUMMARY:Concord Day Adult Program
DESCRIPTION:Concord Day Adult Program
URL:https://www.pachecocommunitycenter.com/events/concord-day-adult-program-76/
LOCATION:Pacheco Community Center\, 5800 Pacheco Blvd.\, Pacheco\, CA\, 94553\, United States
END:VEVENT
BEGIN:VEVENT
DTSTART;TZID=America/Los_Angeles:20251018T080000
DTEND;TZID=America/Los_Angeles:20251018T140000
DTSTAMP:20260419T151348
CREATED:20250701T021202Z
LAST-MODIFIED:20250701T021212Z
UID:6177-1760774400-1760796000@www.pachecocommunitycenter.com
SUMMARY:Pacheco Community Rummage Sale
DESCRIPTION:
URL:https://www.pachecocommunitycenter.com/events/pacheco-community-rummage-sale-2/
LOCATION:CA
END:VEVENT
BEGIN:VEVENT
DTSTART;TZID=America/Los_Angeles:20251020T090000
DTEND;TZID=America/Los_Angeles:20251020T130000
DTSTAMP:20260419T151348
CREATED:20251007T220911Z
LAST-MODIFIED:20251007T220911Z
UID:6439-1760950800-1760965200@www.pachecocommunitycenter.com
SUMMARY:Concord Day Adult Program
DESCRIPTION:Concord Day Adult Program
URL:https://www.pachecocommunitycenter.com/events/concord-day-adult-program-77/
LOCATION:Pacheco Community Center\, 5800 Pacheco Blvd.\, Pacheco\, CA\, 94553\, United States
END:VEVENT
BEGIN:VEVENT
DTSTART;TZID=America/Los_Angeles:20251021T090000
DTEND;TZID=America/Los_Angeles:20251021T130000
DTSTAMP:20260419T151348
CREATED:20251007T220911Z
LAST-MODIFIED:20251007T220911Z
UID:6440-1761037200-1761051600@www.pachecocommunitycenter.com
SUMMARY:Concord Day Adult Program
DESCRIPTION:Concord Day Adult Program
URL:https://www.pachecocommunitycenter.com/events/concord-day-adult-program-78/
LOCATION:Pacheco Community Center\, 5800 Pacheco Blvd.\, Pacheco\, CA\, 94553\, United States
END:VEVENT
BEGIN:VEVENT
DTSTART;TZID=America/Los_Angeles:20251021T190000
DTEND;TZID=America/Los_Angeles:20251021T213000
DTSTAMP:20260419T151348
CREATED:20251007T223508Z
LAST-MODIFIED:20251007T223508Z
UID:6455-1761073200-1761082200@www.pachecocommunitycenter.com
SUMMARY:Martinez Swingers Square Dance
DESCRIPTION:Advanced Workshop
URL:https://www.pachecocommunitycenter.com/events/martinez-swingers-square-dance-166/
LOCATION:Pacheco Community Center\, 5800 Pacheco Blvd.\, Pacheco\, CA\, 94553\, United States
END:VEVENT
BEGIN:VEVENT
DTSTART;TZID=America/Los_Angeles:20251022T090000
DTEND;TZID=America/Los_Angeles:20251022T130000
DTSTAMP:20260419T151348
CREATED:20251007T220949Z
LAST-MODIFIED:20251007T220949Z
UID:6441-1761123600-1761138000@www.pachecocommunitycenter.com
SUMMARY:Concord Day Adult Program
DESCRIPTION:Concord Day Adult Program
URL:https://www.pachecocommunitycenter.com/events/concord-day-adult-program-79/
LOCATION:Pacheco Community Center\, 5800 Pacheco Blvd.\, Pacheco\, CA\, 94553\, United States
END:VEVENT
BEGIN:VEVENT
DTSTART;TZID=America/Los_Angeles:20251022T183000
DTEND;TZID=America/Los_Angeles:20251022T183000
DTSTAMP:20260419T151348
CREATED:20250117T001115Z
LAST-MODIFIED:20250117T001115Z
UID:5848-1761157800-1761157800@www.pachecocommunitycenter.com
SUMMARY:PTC Meeting
DESCRIPTION:Pacheco Town Council Meeting
URL:https://www.pachecocommunitycenter.com/events/ptc-meeting-15/
LOCATION:Pacheco Community Center\, 5800 Pacheco Blvd.\, Pacheco\, CA\, 94553\, United States
END:VEVENT
BEGIN:VEVENT
DTSTART;TZID=America/Los_Angeles:20251022T190000
DTEND;TZID=America/Los_Angeles:20251022T213000
DTSTAMP:20260419T151348
CREATED:20251007T225205Z
LAST-MODIFIED:20251007T225205Z
UID:6475-1761159600-1761168600@www.pachecocommunitycenter.com
SUMMARY:Martinez Swingers Square Dance
DESCRIPTION:
URL:https://www.pachecocommunitycenter.com/events/martinez-swingers-square-dance-180/
LOCATION:Pacheco Community Center\, 5800 Pacheco Blvd.\, Pacheco\, CA\, 94553\, United States
END:VEVENT
BEGIN:VEVENT
DTSTART;TZID=America/Los_Angeles:20251023T090000
DTEND;TZID=America/Los_Angeles:20251023T130000
DTSTAMP:20260419T151348
CREATED:20251007T220950Z
LAST-MODIFIED:20251007T220950Z
UID:6442-1761210000-1761224400@www.pachecocommunitycenter.com
SUMMARY:Concord Day Adult Program
DESCRIPTION:Concord Day Adult Program
URL:https://www.pachecocommunitycenter.com/events/concord-day-adult-program-80/
LOCATION:Pacheco Community Center\, 5800 Pacheco Blvd.\, Pacheco\, CA\, 94553\, United States
END:VEVENT
BEGIN:VEVENT
DTSTART;TZID=America/Los_Angeles:20251024T090000
DTEND;TZID=America/Los_Angeles:20251024T130000
DTSTAMP:20260419T151348
CREATED:20251007T220950Z
LAST-MODIFIED:20251007T220950Z
UID:6443-1761296400-1761310800@www.pachecocommunitycenter.com
SUMMARY:Concord Day Adult Program
DESCRIPTION:Concord Day Adult Program
URL:https://www.pachecocommunitycenter.com/events/concord-day-adult-program-81/
LOCATION:Pacheco Community Center\, 5800 Pacheco Blvd.\, Pacheco\, CA\, 94553\, United States
END:VEVENT
BEGIN:VEVENT
DTSTART;TZID=America/Los_Angeles:20251025T090000
DTEND;TZID=America/Los_Angeles:20251025T120000
DTSTAMP:20260419T151348
CREATED:20250822T005844Z
LAST-MODIFIED:20250822T010052Z
UID:6233-1761382800-1761393600@www.pachecocommunitycenter.com
SUMMARY:Pacheco Community Cleanup
DESCRIPTION:Supervisor Shanelle Scales-Preston is partnering with Rapid Recycle and Republic Services to offer free disposal and recycling services exclusively for Pacheco Residents. This initiative is designed to help clean up our community. More information to be found on our home page
URL:https://www.pachecocommunitycenter.com/events/pacheco-community-cleanup-2/
LOCATION:Pacheco Community Center Parking Lot\, 5800 Pacheco Blvd\, Pacheco\, California\, 94553
END:VEVENT
BEGIN:VEVENT
DTSTART;TZID=America/Los_Angeles:20251027T090000
DTEND;TZID=America/Los_Angeles:20251027T130000
DTSTAMP:20260419T151348
CREATED:20251007T220950Z
LAST-MODIFIED:20251007T220950Z
UID:6444-1761555600-1761570000@www.pachecocommunitycenter.com
SUMMARY:Concord Day Adult Program
DESCRIPTION:Concord Day Adult Program
URL:https://www.pachecocommunitycenter.com/events/concord-day-adult-program-82/
LOCATION:Pacheco Community Center\, 5800 Pacheco Blvd.\, Pacheco\, CA\, 94553\, United States
END:VEVENT
BEGIN:VEVENT
DTSTART;TZID=America/Los_Angeles:20251028T080000
DTEND;TZID=America/Los_Angeles:20251028T170000
DTSTAMP:20260419T151348
CREATED:20250822T165446Z
LAST-MODIFIED:20250822T165449Z
UID:6236-1761638400-1761670800@www.pachecocommunitycenter.com
SUMMARY:Tax AIDE Training
DESCRIPTION:
URL:https://www.pachecocommunitycenter.com/events/tax-aide-training-4/
LOCATION:CA
END:VEVENT
BEGIN:VEVENT
DTSTART;TZID=America/Los_Angeles:20251028T190000
DTEND;TZID=America/Los_Angeles:20251028T213000
DTSTAMP:20260419T151348
CREATED:20251007T223509Z
LAST-MODIFIED:20251007T223509Z
UID:6456-1761678000-1761687000@www.pachecocommunitycenter.com
SUMMARY:Martinez Swingers Square Dance
DESCRIPTION:Advanced Workshop
URL:https://www.pachecocommunitycenter.com/events/martinez-swingers-square-dance-167/
LOCATION:Pacheco Community Center\, 5800 Pacheco Blvd.\, Pacheco\, CA\, 94553\, United States
END:VEVENT
BEGIN:VEVENT
DTSTART;TZID=America/Los_Angeles:20251029T090000
DTEND;TZID=America/Los_Angeles:20251029T130000
DTSTAMP:20260419T151348
CREATED:20251007T221008Z
LAST-MODIFIED:20251007T221008Z
UID:6446-1761728400-1761742800@www.pachecocommunitycenter.com
SUMMARY:Concord Day Adult Program
DESCRIPTION:Concord Day Adult Program
URL:https://www.pachecocommunitycenter.com/events/concord-day-adult-program-84/
LOCATION:Pacheco Community Center\, 5800 Pacheco Blvd.\, Pacheco\, CA\, 94553\, United States
END:VEVENT
BEGIN:VEVENT
DTSTART;TZID=America/Los_Angeles:20251029T190000
DTEND;TZID=America/Los_Angeles:20251029T213000
DTSTAMP:20260419T151348
CREATED:20251007T225205Z
LAST-MODIFIED:20251007T225205Z
UID:6476-1761764400-1761773400@www.pachecocommunitycenter.com
SUMMARY:Martinez Swingers Square Dance
DESCRIPTION:
URL:https://www.pachecocommunitycenter.com/events/martinez-swingers-square-dance-181/
LOCATION:Pacheco Community Center\, 5800 Pacheco Blvd.\, Pacheco\, CA\, 94553\, United States
END:VEVENT
BEGIN:VEVENT
DTSTART;TZID=America/Los_Angeles:20251030T090000
DTEND;TZID=America/Los_Angeles:20251030T130000
DTSTAMP:20260419T151348
CREATED:20251007T221009Z
LAST-MODIFIED:20251007T221009Z
UID:6447-1761814800-1761829200@www.pachecocommunitycenter.com
SUMMARY:Concord Day Adult Program
DESCRIPTION:Concord Day Adult Program
URL:https://www.pachecocommunitycenter.com/events/concord-day-adult-program-85/
LOCATION:Pacheco Community Center\, 5800 Pacheco Blvd.\, Pacheco\, CA\, 94553\, United States
END:VEVENT
BEGIN:VEVENT
DTSTART;TZID=America/Los_Angeles:20251031T090000
DTEND;TZID=America/Los_Angeles:20251031T130000
DTSTAMP:20260419T151348
CREATED:20251007T221010Z
LAST-MODIFIED:20251007T221010Z
UID:6448-1761901200-1761915600@www.pachecocommunitycenter.com
SUMMARY:Concord Day Adult Program
DESCRIPTION:Concord Day Adult Program
URL:https://www.pachecocommunitycenter.com/events/concord-day-adult-program-86/
LOCATION:Pacheco Community Center\, 5800 Pacheco Blvd.\, Pacheco\, CA\, 94553\, United States
END:VEVENT
BEGIN:VEVENT
DTSTART;TZID=America/Los_Angeles:20251101T110000
DTEND;TZID=America/Los_Angeles:20251101T130000
DTSTAMP:20260419T151348
CREATED:20251023T024659Z
LAST-MODIFIED:20251023T024702Z
UID:6497-1761994800-1762002000@www.pachecocommunitycenter.com
SUMMARY:Martinez Swingers Club Meeting
DESCRIPTION:Meeting for Martinez Swingers – club members only
URL:https://www.pachecocommunitycenter.com/events/martinez-swingers-club-meeting-3/
LOCATION:Conference Room at PCC\, 5800 Pacheco Blvd\, Pacheco\, California\, 94553
END:VEVENT
BEGIN:VEVENT
DTSTART;TZID=America/Los_Angeles:20251104T070000
DTEND;TZID=America/Los_Angeles:20251104T200000
DTSTAMP:20260419T151348
CREATED:20250822T171336Z
LAST-MODIFIED:20251030T050912Z
UID:6252-1762239600-1762286400@www.pachecocommunitycenter.com
SUMMARY:Election Day - Vote Here
DESCRIPTION:Pacheco Community Center is your local Election Day polling place. 7am – 8pm
URL:https://www.pachecocommunitycenter.com/events/ccc-elections/
LOCATION:Pacheco Community Center\, 5800 Pacheco Blvd.\, Pacheco\, CA\, 94553\, United States
END:VEVENT
BEGIN:VEVENT
DTSTART;TZID=America/Los_Angeles:20251105T120000
DTEND;TZID=America/Los_Angeles:20251105T130000
DTSTAMP:20260419T151348
CREATED:20250426T235425Z
LAST-MODIFIED:20250426T235425Z
UID:6043-1762344000-1762347600@www.pachecocommunitycenter.com
SUMMARY:FREE PRODUCE BY FOOD BANK OF CC & SOLANO
DESCRIPTION:IN PARTNERSHIP WITH FOOD BANK OF CONTRA COSTA & SOLANO\, WE WILL PROVIDE FREE PRODUCE TO ONE PERSON PER FAMILY. BRING ONE OR TWO BAGS WITH HANDLES. MUST BE PRESENT TO RECEIVE FOOD
URL:https://www.pachecocommunitycenter.com/events/free-produce-by-food-bank-of-cc-solano-13/
LOCATION:Pacheco Community Center Parking Lot\, 5800 Pacheco Blvd\, Pacheco\, California\, 94553
ORGANIZER;CN="FOOD BANK of CONTRA COSTA and SOLANO":MAILTO:info@foodbankccs.org
END:VEVENT
BEGIN:VEVENT
DTSTART;TZID=America/Los_Angeles:20251105T190000
DTEND;TZID=America/Los_Angeles:20251105T213000
DTSTAMP:20260419T151348
CREATED:20251007T225209Z
LAST-MODIFIED:20251007T225209Z
UID:6477-1762369200-1762378200@www.pachecocommunitycenter.com
SUMMARY:Martinez Swingers Square Dance
DESCRIPTION:
URL:https://www.pachecocommunitycenter.com/events/martinez-swingers-square-dance-182/
LOCATION:Pacheco Community Center\, 5800 Pacheco Blvd.\, Pacheco\, CA\, 94553\, United States
END:VEVENT
BEGIN:VEVENT
DTSTART;TZID=America/Los_Angeles:20251108T080000
DTEND;TZID=America/Los_Angeles:20251108T170000
DTSTAMP:20260419T151348
CREATED:20250822T170901Z
LAST-MODIFIED:20250822T170906Z
UID:6248-1762588800-1762621200@www.pachecocommunitycenter.com
SUMMARY:The Wildlife Society - Workshop
DESCRIPTION:
URL:https://www.pachecocommunitycenter.com/events/the-wildlife-society-workshop/
LOCATION:CA
END:VEVENT
BEGIN:VEVENT
DTSTART;TZID=America/Los_Angeles:20251111T190000
DTEND;TZID=America/Los_Angeles:20251111T213000
DTSTAMP:20260419T151348
CREATED:20251007T223509Z
LAST-MODIFIED:20251007T223509Z
UID:6457-1762887600-1762896600@www.pachecocommunitycenter.com
SUMMARY:Martinez Swingers Square Dance
DESCRIPTION:Advanced Workshop
URL:https://www.pachecocommunitycenter.com/events/martinez-swingers-square-dance-168/
LOCATION:Pacheco Community Center\, 5800 Pacheco Blvd.\, Pacheco\, CA\, 94553\, United States
END:VEVENT
END:VCALENDAR