BEGIN:VCALENDAR
VERSION:2.0
PRODID:-//Pacheco Community Center - ECPv6.15.15//NONSGML v1.0//EN
CALSCALE:GREGORIAN
METHOD:PUBLISH
X-WR-CALNAME:Pacheco Community Center
X-ORIGINAL-URL:https://www.pachecocommunitycenter.com
X-WR-CALDESC:Events for Pacheco Community Center
REFRESH-INTERVAL;VALUE=DURATION:PT1H
X-Robots-Tag:noindex
X-PUBLISHED-TTL:PT1H
BEGIN:VTIMEZONE
TZID:America/Los_Angeles
BEGIN:DAYLIGHT
TZOFFSETFROM:-0800
TZOFFSETTO:-0700
TZNAME:PDT
DTSTART:20230312T100000
END:DAYLIGHT
BEGIN:STANDARD
TZOFFSETFROM:-0700
TZOFFSETTO:-0800
TZNAME:PST
DTSTART:20231105T090000
END:STANDARD
BEGIN:DAYLIGHT
TZOFFSETFROM:-0800
TZOFFSETTO:-0700
TZNAME:PDT
DTSTART:20240310T100000
END:DAYLIGHT
BEGIN:STANDARD
TZOFFSETFROM:-0700
TZOFFSETTO:-0800
TZNAME:PST
DTSTART:20241103T090000
END:STANDARD
BEGIN:DAYLIGHT
TZOFFSETFROM:-0800
TZOFFSETTO:-0700
TZNAME:PDT
DTSTART:20250309T100000
END:DAYLIGHT
BEGIN:STANDARD
TZOFFSETFROM:-0700
TZOFFSETTO:-0800
TZNAME:PST
DTSTART:20251102T090000
END:STANDARD
END:VTIMEZONE
BEGIN:VEVENT
DTSTART;TZID=America/Los_Angeles:20240710T190000
DTEND;TZID=America/Los_Angeles:20240710T213000
DTSTAMP:20260419T194124
CREATED:20240824T003154Z
LAST-MODIFIED:20240824T003154Z
UID:5454-1720638000-1720647000@www.pachecocommunitycenter.com
SUMMARY:Martinez Swingers Square Dance
DESCRIPTION:Plus Program Workshop
URL:https://www.pachecocommunitycenter.com/events/martinez-swingers-square-dance-52/
LOCATION:Pacheco Community Center\, 5800 Pacheco Blvd.\, Pacheco\, CA\, 94553\, United States
END:VEVENT
BEGIN:VEVENT
DTSTART;TZID=America/Los_Angeles:20240710T183000
DTEND;TZID=America/Los_Angeles:20240710T193000
DTSTAMP:20260419T194124
CREATED:20240314T135116Z
LAST-MODIFIED:20240314T135116Z
UID:5238-1720636200-1720639800@www.pachecocommunitycenter.com
SUMMARY:PMAC Meeting
DESCRIPTION:Pacheco Municipal Advisory Council MeetingMeeting is open to the public\, and is held in the conference room at the Pacheco Community Center.\nEntrance to conference room is on the side of the building next to the parking lot.
URL:https://www.pachecocommunitycenter.com/events/pmac-meeting-6/
LOCATION:Pacheco Community Center\, 5800 Pacheco Blvd.\, Pacheco\, CA\, 94553\, United States
END:VEVENT
BEGIN:VEVENT
DTSTART;TZID=America/Los_Angeles:20240709T190000
DTEND;TZID=America/Los_Angeles:20240709T213000
DTSTAMP:20260419T194124
CREATED:20240404T002501Z
LAST-MODIFIED:20240404T002501Z
UID:5339-1720551600-1720560600@www.pachecocommunitycenter.com
SUMMARY:Martinez Swingers Square Dance
DESCRIPTION:Advanced Program Workshop
URL:https://www.pachecocommunitycenter.com/events/martinez-swingers-square-dance-41/
LOCATION:Pacheco Community Center\, 5800 Pacheco Blvd.\, Pacheco\, CA\, 94553\, United States
END:VEVENT
BEGIN:VEVENT
DTSTART;VALUE=DATE:20240704
DTEND;VALUE=DATE:20240710
DTSTAMP:20260419T194124
CREATED:20240207T230051Z
LAST-MODIFIED:20240207T230051Z
UID:4920-1720054800-1720486799@www.pachecocommunitycenter.com
SUMMARY:PCC Closed
DESCRIPTION:
URL:https://www.pachecocommunitycenter.com/events/pcc-closed-5/
LOCATION:CA
END:VEVENT
BEGIN:VEVENT
DTSTART;TZID=America/Los_Angeles:20240702T190000
DTEND;TZID=America/Los_Angeles:20240702T213000
DTSTAMP:20260419T194124
CREATED:20240404T002500Z
LAST-MODIFIED:20240404T002500Z
UID:5338-1719946800-1719955800@www.pachecocommunitycenter.com
SUMMARY:Martinez Swingers Square Dance
DESCRIPTION:Advanced Program Workshop
URL:https://www.pachecocommunitycenter.com/events/martinez-swingers-square-dance-40/
LOCATION:Pacheco Community Center\, 5800 Pacheco Blvd.\, Pacheco\, CA\, 94553\, United States
END:VEVENT
BEGIN:VEVENT
DTSTART;TZID=America/Los_Angeles:20240626T183000
DTEND;TZID=America/Los_Angeles:20240626T193000
DTSTAMP:20260419T194124
CREATED:20240314T135119Z
LAST-MODIFIED:20240314T135120Z
UID:5244-1719426600-1719430200@www.pachecocommunitycenter.com
SUMMARY:PTC Meeting
DESCRIPTION:Pacheco Town Council MeetingMeeting is open to the public\, and is held in the conference room at the Pacheco Community Center.\nEntrance to conference room is on the side of the building next to the parking lot.
URL:https://www.pachecocommunitycenter.com/events/ptc-meeting-5/
LOCATION:Pacheco Community Center\, 5800 Pacheco Blvd.\, Pacheco\, CA\, 94553\, United States
END:VEVENT
BEGIN:VEVENT
DTSTART;TZID=America/Los_Angeles:20240626T173000
DTEND;TZID=America/Los_Angeles:20240626T184500
DTSTAMP:20260419T194124
CREATED:20240404T001646Z
LAST-MODIFIED:20240404T001646Z
UID:5310-1719423000-1719427500@www.pachecocommunitycenter.com
SUMMARY:New You Dance Center Dance Class
DESCRIPTION:New You Dance Class
URL:https://www.pachecocommunitycenter.com/events/new-you-dance-center-dance-class-38/
LOCATION:Pacheco Community Center\, 5800 Pacheco Blvd.\, Pacheco\, CA\, 94553\, United States
ORGANIZER;CN="New You Dance Center":MAILTO:newyoudancecenter@gmail.com
END:VEVENT
BEGIN:VEVENT
DTSTART;TZID=America/Los_Angeles:20240625T190000
DTEND;TZID=America/Los_Angeles:20240625T213000
DTSTAMP:20260419T194124
CREATED:20240404T002500Z
LAST-MODIFIED:20240404T002500Z
UID:5337-1719342000-1719351000@www.pachecocommunitycenter.com
SUMMARY:Martinez Swingers Square Dance
DESCRIPTION:Advanced Program Workshop
URL:https://www.pachecocommunitycenter.com/events/martinez-swingers-square-dance-39/
LOCATION:Pacheco Community Center\, 5800 Pacheco Blvd.\, Pacheco\, CA\, 94553\, United States
END:VEVENT
BEGIN:VEVENT
DTSTART;TZID=America/Los_Angeles:20240624T183000
DTEND;TZID=America/Los_Angeles:20240624T203000
DTSTAMP:20260419T194124
CREATED:20240624T194250Z
LAST-MODIFIED:20240624T194252Z
UID:5420-1719253800-1719261000@www.pachecocommunitycenter.com
SUMMARY:Belmont Terrace HOA Elections
DESCRIPTION:
URL:https://www.pachecocommunitycenter.com/events/belmont-terrace-hoa-elections/
LOCATION:CA
END:VEVENT
BEGIN:VEVENT
DTSTART;TZID=America/Los_Angeles:20240622T110000
DTEND;TZID=America/Los_Angeles:20240622T140000
DTSTAMP:20260419T194124
CREATED:20240207T230022Z
LAST-MODIFIED:20240207T230022Z
UID:4918-1719054000-1719064800@www.pachecocommunitycenter.com
SUMMARY:CCC Housing Authority
DESCRIPTION:
URL:https://www.pachecocommunitycenter.com/events/ccc-housing-authority/
LOCATION:CA
END:VEVENT
BEGIN:VEVENT
DTSTART;TZID=America/Los_Angeles:20240619T173000
DTEND;TZID=America/Los_Angeles:20240619T184500
DTSTAMP:20260419T194124
CREATED:20240404T001646Z
LAST-MODIFIED:20240404T001646Z
UID:5309-1718818200-1718822700@www.pachecocommunitycenter.com
SUMMARY:New You Dance Center Dance Class
DESCRIPTION:New You Dance Class
URL:https://www.pachecocommunitycenter.com/events/new-you-dance-center-dance-class-37/
LOCATION:Pacheco Community Center\, 5800 Pacheco Blvd.\, Pacheco\, CA\, 94553\, United States
ORGANIZER;CN="New You Dance Center":MAILTO:newyoudancecenter@gmail.com
END:VEVENT
BEGIN:VEVENT
DTSTART;TZID=America/Los_Angeles:20240618T190000
DTEND;TZID=America/Los_Angeles:20240618T213000
DTSTAMP:20260419T194124
CREATED:20240404T002500Z
LAST-MODIFIED:20240404T002500Z
UID:5336-1718737200-1718746200@www.pachecocommunitycenter.com
SUMMARY:Martinez Swingers Square Dance
DESCRIPTION:Advanced Program Workshop
URL:https://www.pachecocommunitycenter.com/events/martinez-swingers-square-dance-38/
LOCATION:Pacheco Community Center\, 5800 Pacheco Blvd.\, Pacheco\, CA\, 94553\, United States
END:VEVENT
BEGIN:VEVENT
DTSTART;TZID=America/Los_Angeles:20240612T190000
DTEND;TZID=America/Los_Angeles:20240612T213000
DTSTAMP:20260419T194124
CREATED:20240404T002152Z
LAST-MODIFIED:20240404T002153Z
UID:5322-1718218800-1718227800@www.pachecocommunitycenter.com
SUMMARY:Martinez Swingers Square Dance
DESCRIPTION:Plus Program Workshop
URL:https://www.pachecocommunitycenter.com/events/martinez-swingers-square-dance-31/
LOCATION:Pacheco Community Center\, 5800 Pacheco Blvd.\, Pacheco\, CA\, 94553\, United States
END:VEVENT
BEGIN:VEVENT
DTSTART;TZID=America/Los_Angeles:20240612T183000
DTEND;TZID=America/Los_Angeles:20240612T193000
DTSTAMP:20260419T194124
CREATED:20240314T135116Z
LAST-MODIFIED:20240314T135116Z
UID:5237-1718217000-1718220600@www.pachecocommunitycenter.com
SUMMARY:PMAC Meeting
DESCRIPTION:Pacheco Municipal Advisory Council MeetingMeeting is open to the public\, and is held in the conference room at the Pacheco Community Center.\nEntrance to conference room is on the side of the building next to the parking lot.
URL:https://www.pachecocommunitycenter.com/events/pmac-meeting-5/
LOCATION:Pacheco Community Center\, 5800 Pacheco Blvd.\, Pacheco\, CA\, 94553\, United States
END:VEVENT
BEGIN:VEVENT
DTSTART;TZID=America/Los_Angeles:20240612T173000
DTEND;TZID=America/Los_Angeles:20240612T184500
DTSTAMP:20260419T194124
CREATED:20240404T001646Z
LAST-MODIFIED:20240404T001646Z
UID:5308-1718213400-1718217900@www.pachecocommunitycenter.com
SUMMARY:New You Dance Center Dance Class
DESCRIPTION:New You Dance Class
URL:https://www.pachecocommunitycenter.com/events/new-you-dance-center-dance-class-36/
LOCATION:Pacheco Community Center\, 5800 Pacheco Blvd.\, Pacheco\, CA\, 94553\, United States
ORGANIZER;CN="New You Dance Center":MAILTO:newyoudancecenter@gmail.com
END:VEVENT
BEGIN:VEVENT
DTSTART;TZID=America/Los_Angeles:20240611T190000
DTEND;TZID=America/Los_Angeles:20240611T213000
DTSTAMP:20260419T194124
CREATED:20240404T002500Z
LAST-MODIFIED:20240404T002500Z
UID:5335-1718132400-1718141400@www.pachecocommunitycenter.com
SUMMARY:Martinez Swingers Square Dance
DESCRIPTION:Advanced Program Workshop
URL:https://www.pachecocommunitycenter.com/events/martinez-swingers-square-dance-37/
LOCATION:Pacheco Community Center\, 5800 Pacheco Blvd.\, Pacheco\, CA\, 94553\, United States
END:VEVENT
BEGIN:VEVENT
DTSTART;TZID=America/Los_Angeles:20240608T150000
DTEND;TZID=America/Los_Angeles:20240608T230000
DTSTAMP:20260419T194124
CREATED:20240207T225923Z
LAST-MODIFIED:20240404T004429Z
UID:4916-1717858800-1717887600@www.pachecocommunitycenter.com
SUMMARY:Private Event
DESCRIPTION:
URL:https://www.pachecocommunitycenter.com/events/private-event-2/
LOCATION:CA
END:VEVENT
BEGIN:VEVENT
DTSTART;TZID=America/Los_Angeles:20240606T163000
DTEND;TZID=America/Los_Angeles:20240606T183000
DTSTAMP:20260419T194124
CREATED:20240404T003032Z
LAST-MODIFIED:20240404T003033Z
UID:5351-1717691400-1717698600@www.pachecocommunitycenter.com
SUMMARY:New You Dance Center Dance Class
DESCRIPTION:New You Dance Class
URL:https://www.pachecocommunitycenter.com/events/new-you-dance-center-dance-class-48/
LOCATION:Pacheco Community Center\, 5800 Pacheco Blvd.\, Pacheco\, CA\, 94553\, United States
ORGANIZER;CN="New You Dance Center":MAILTO:newyoudancecenter@gmail.com
END:VEVENT
BEGIN:VEVENT
DTSTART;TZID=America/Los_Angeles:20240606T100000
DTEND;TZID=America/Los_Angeles:20240606T130000
DTSTAMP:20260419T194124
CREATED:20240404T004232Z
LAST-MODIFIED:20240404T004232Z
UID:5368-1717668000-1717678800@www.pachecocommunitycenter.com
SUMMARY:Retiree Support Group Meeting
DESCRIPTION:Retiree Support Group Meeting
URL:https://www.pachecocommunitycenter.com/events/retiree-support-group-meeting-7/
LOCATION:Pacheco Community Center\, 5800 Pacheco Blvd.\, Pacheco\, CA\, 94553\, United States
END:VEVENT
BEGIN:VEVENT
DTSTART;TZID=America/Los_Angeles:20240605T190000
DTEND;TZID=America/Los_Angeles:20240605T213000
DTSTAMP:20260419T194124
CREATED:20240404T002152Z
LAST-MODIFIED:20240404T002153Z
UID:5321-1717614000-1717623000@www.pachecocommunitycenter.com
SUMMARY:Martinez Swingers Square Dance
DESCRIPTION:Plus Program Workshop
URL:https://www.pachecocommunitycenter.com/events/martinez-swingers-square-dance-30/
LOCATION:Pacheco Community Center\, 5800 Pacheco Blvd.\, Pacheco\, CA\, 94553\, United States
END:VEVENT
BEGIN:VEVENT
DTSTART;TZID=America/Los_Angeles:20240605T173000
DTEND;TZID=America/Los_Angeles:20240605T184500
DTSTAMP:20260419T194124
CREATED:20240404T001631Z
LAST-MODIFIED:20240404T001631Z
UID:5307-1717608600-1717613100@www.pachecocommunitycenter.com
SUMMARY:New You Dance Center Dance Class
DESCRIPTION:New You Dance Class
URL:https://www.pachecocommunitycenter.com/events/new-you-dance-center-dance-class-35/
LOCATION:Pacheco Community Center\, 5800 Pacheco Blvd.\, Pacheco\, CA\, 94553\, United States
ORGANIZER;CN="New You Dance Center":MAILTO:newyoudancecenter@gmail.com
END:VEVENT
BEGIN:VEVENT
DTSTART;TZID=America/Los_Angeles:20240604T190000
DTEND;TZID=America/Los_Angeles:20240604T213000
DTSTAMP:20260419T194124
CREATED:20240404T002459Z
LAST-MODIFIED:20240404T002459Z
UID:5334-1717527600-1717536600@www.pachecocommunitycenter.com
SUMMARY:Martinez Swingers Square Dance
DESCRIPTION:Advanced Program Workshop
URL:https://www.pachecocommunitycenter.com/events/martinez-swingers-square-dance-36/
LOCATION:Pacheco Community Center\, 5800 Pacheco Blvd.\, Pacheco\, CA\, 94553\, United States
END:VEVENT
BEGIN:VEVENT
DTSTART;TZID=America/Los_Angeles:20240530T163000
DTEND;TZID=America/Los_Angeles:20240530T183000
DTSTAMP:20260419T194124
CREATED:20240404T003032Z
LAST-MODIFIED:20240404T003032Z
UID:5350-1717086600-1717093800@www.pachecocommunitycenter.com
SUMMARY:New You Dance Center Dance Class
DESCRIPTION:New You Dance Class
URL:https://www.pachecocommunitycenter.com/events/new-you-dance-center-dance-class-47/
LOCATION:Pacheco Community Center\, 5800 Pacheco Blvd.\, Pacheco\, CA\, 94553\, United States
ORGANIZER;CN="New You Dance Center":MAILTO:newyoudancecenter@gmail.com
END:VEVENT
BEGIN:VEVENT
DTSTART;TZID=America/Los_Angeles:20240529T190000
DTEND;TZID=America/Los_Angeles:20240529T213000
DTSTAMP:20260419T194124
CREATED:20240404T002152Z
LAST-MODIFIED:20240404T002153Z
UID:5320-1717009200-1717018200@www.pachecocommunitycenter.com
SUMMARY:Martinez Swingers Square Dance
DESCRIPTION:Plus Program Workshop
URL:https://www.pachecocommunitycenter.com/events/martinez-swingers-square-dance-29/
LOCATION:Pacheco Community Center\, 5800 Pacheco Blvd.\, Pacheco\, CA\, 94553\, United States
END:VEVENT
BEGIN:VEVENT
DTSTART;TZID=America/Los_Angeles:20240529T173000
DTEND;TZID=America/Los_Angeles:20240529T184500
DTSTAMP:20260419T194124
CREATED:20240404T001631Z
LAST-MODIFIED:20240404T001631Z
UID:5306-1717003800-1717008300@www.pachecocommunitycenter.com
SUMMARY:New You Dance Center Dance Class
DESCRIPTION:New You Dance Class
URL:https://www.pachecocommunitycenter.com/events/new-you-dance-center-dance-class-34/
LOCATION:Pacheco Community Center\, 5800 Pacheco Blvd.\, Pacheco\, CA\, 94553\, United States
ORGANIZER;CN="New You Dance Center":MAILTO:newyoudancecenter@gmail.com
END:VEVENT
BEGIN:VEVENT
DTSTART;TZID=America/Los_Angeles:20240528T190000
DTEND;TZID=America/Los_Angeles:20240528T213000
DTSTAMP:20260419T194124
CREATED:20240404T002459Z
LAST-MODIFIED:20240404T002459Z
UID:5333-1716922800-1716931800@www.pachecocommunitycenter.com
SUMMARY:Martinez Swingers Square Dance
DESCRIPTION:Advanced Program Workshop
URL:https://www.pachecocommunitycenter.com/events/martinez-swingers-square-dance-35/
LOCATION:Pacheco Community Center\, 5800 Pacheco Blvd.\, Pacheco\, CA\, 94553\, United States
END:VEVENT
BEGIN:VEVENT
DTSTART;VALUE=DATE:20240525
DTEND;VALUE=DATE:20240529
DTSTAMP:20260419T194124
CREATED:20240207T225801Z
LAST-MODIFIED:20240207T225801Z
UID:4913-1716598800-1716857999@www.pachecocommunitycenter.com
SUMMARY:PCC Closed
DESCRIPTION:
URL:https://www.pachecocommunitycenter.com/events/pcc-closed-4/
LOCATION:CA
END:VEVENT
BEGIN:VEVENT
DTSTART;TZID=America/Los_Angeles:20240523T163000
DTEND;TZID=America/Los_Angeles:20240523T183000
DTSTAMP:20260419T194124
CREATED:20240404T003032Z
LAST-MODIFIED:20240404T003032Z
UID:5349-1716481800-1716489000@www.pachecocommunitycenter.com
SUMMARY:New You Dance Center Dance Class
DESCRIPTION:New You Dance Class
URL:https://www.pachecocommunitycenter.com/events/new-you-dance-center-dance-class-46/
LOCATION:Pacheco Community Center\, 5800 Pacheco Blvd.\, Pacheco\, CA\, 94553\, United States
ORGANIZER;CN="New You Dance Center":MAILTO:newyoudancecenter@gmail.com
END:VEVENT
BEGIN:VEVENT
DTSTART;TZID=America/Los_Angeles:20240522T190000
DTEND;TZID=America/Los_Angeles:20240522T213000
DTSTAMP:20260419T194124
CREATED:20240404T002152Z
LAST-MODIFIED:20240404T002153Z
UID:5319-1716404400-1716413400@www.pachecocommunitycenter.com
SUMMARY:Martinez Swingers Square Dance
DESCRIPTION:Plus Program Workshop
URL:https://www.pachecocommunitycenter.com/events/martinez-swingers-square-dance-28/
LOCATION:Pacheco Community Center\, 5800 Pacheco Blvd.\, Pacheco\, CA\, 94553\, United States
END:VEVENT
BEGIN:VEVENT
DTSTART;TZID=America/Los_Angeles:20240522T183000
DTEND;TZID=America/Los_Angeles:20240522T193000
DTSTAMP:20260419T194124
CREATED:20240314T135119Z
LAST-MODIFIED:20240314T135120Z
UID:5243-1716402600-1716406200@www.pachecocommunitycenter.com
SUMMARY:PTC Meeting
DESCRIPTION:Pacheco Town Council MeetingMeeting is open to the public\, and is held in the conference room at the Pacheco Community Center.\nEntrance to conference room is on the side of the building next to the parking lot.
URL:https://www.pachecocommunitycenter.com/events/ptc-meeting-4/
LOCATION:Pacheco Community Center\, 5800 Pacheco Blvd.\, Pacheco\, CA\, 94553\, United States
END:VEVENT
END:VCALENDAR