BEGIN:VCALENDAR
VERSION:2.0
PRODID:-//Pacheco Community Center - ECPv6.15.15//NONSGML v1.0//EN
CALSCALE:GREGORIAN
METHOD:PUBLISH
X-WR-CALNAME:Pacheco Community Center
X-ORIGINAL-URL:https://www.pachecocommunitycenter.com
X-WR-CALDESC:Events for Pacheco Community Center
REFRESH-INTERVAL;VALUE=DURATION:PT1H
X-Robots-Tag:noindex
X-PUBLISHED-TTL:PT1H
BEGIN:VTIMEZONE
TZID:America/Los_Angeles
BEGIN:DAYLIGHT
TZOFFSETFROM:-0800
TZOFFSETTO:-0700
TZNAME:PDT
DTSTART:20220313T100000
END:DAYLIGHT
BEGIN:STANDARD
TZOFFSETFROM:-0700
TZOFFSETTO:-0800
TZNAME:PST
DTSTART:20221106T090000
END:STANDARD
BEGIN:DAYLIGHT
TZOFFSETFROM:-0800
TZOFFSETTO:-0700
TZNAME:PDT
DTSTART:20230312T100000
END:DAYLIGHT
BEGIN:STANDARD
TZOFFSETFROM:-0700
TZOFFSETTO:-0800
TZNAME:PST
DTSTART:20231105T090000
END:STANDARD
BEGIN:DAYLIGHT
TZOFFSETFROM:-0800
TZOFFSETTO:-0700
TZNAME:PDT
DTSTART:20240310T100000
END:DAYLIGHT
BEGIN:STANDARD
TZOFFSETFROM:-0700
TZOFFSETTO:-0800
TZNAME:PST
DTSTART:20241103T090000
END:STANDARD
BEGIN:DAYLIGHT
TZOFFSETFROM:-0800
TZOFFSETTO:-0700
TZNAME:PDT
DTSTART:20250309T100000
END:DAYLIGHT
BEGIN:STANDARD
TZOFFSETFROM:-0700
TZOFFSETTO:-0800
TZNAME:PST
DTSTART:20251102T090000
END:STANDARD
END:VTIMEZONE
BEGIN:VEVENT
DTSTART;VALUE=DATE:20231224
DTEND;VALUE=DATE:20240103
DTSTAMP:20260424T035724
CREATED:20230913T231829Z
LAST-MODIFIED:20230913T231829Z
UID:4609-1703379600-1704157199@www.pachecocommunitycenter.com
SUMMARY:Pacheco Community Center Closed
DESCRIPTION:
URL:https://www.pachecocommunitycenter.com/events/pacheco-community-center-closed-16/
END:VEVENT
BEGIN:VEVENT
DTSTART;TZID=America/Los_Angeles:20240109T080000
DTEND;TZID=America/Los_Angeles:20240109T160000
DTSTAMP:20260424T035724
CREATED:20231124T211407Z
LAST-MODIFIED:20231124T211407Z
UID:4776-1704787200-1704816000@www.pachecocommunitycenter.com
SUMMARY:AARP Tax Aide Training
DESCRIPTION:
URL:https://www.pachecocommunitycenter.com/events/aarp-tax-aide-training-2/
END:VEVENT
BEGIN:VEVENT
DTSTART;TZID=America/Los_Angeles:20240110T183000
DTEND;TZID=America/Los_Angeles:20240110T193000
DTSTAMP:20260424T035724
CREATED:20240105T165730Z
LAST-MODIFIED:20240105T165730Z
UID:4818-1704911400-1704915000@www.pachecocommunitycenter.com
SUMMARY:PMAC Meeting
DESCRIPTION:
URL:https://www.pachecocommunitycenter.com/events/pmac-meeting/
LOCATION:Pacheco Community Center\, 5800 Pacheco Blvd.\, Pacheco\, CA\, 94553\, United States
END:VEVENT
BEGIN:VEVENT
DTSTART;TZID=America/Los_Angeles:20240112T080000
DTEND;TZID=America/Los_Angeles:20240112T160000
DTSTAMP:20260424T035724
CREATED:20231124T211608Z
LAST-MODIFIED:20231124T211608Z
UID:4778-1705046400-1705075200@www.pachecocommunitycenter.com
SUMMARY:AARP Tax Aide Training
DESCRIPTION:
URL:https://www.pachecocommunitycenter.com/events/aarp-tax-aide-training-3/
END:VEVENT
BEGIN:VEVENT
DTSTART;TZID=America/Los_Angeles:20240116T080000
DTEND;TZID=America/Los_Angeles:20240116T160000
DTSTAMP:20260424T035724
CREATED:20231124T211737Z
LAST-MODIFIED:20231124T211737Z
UID:4780-1705392000-1705420800@www.pachecocommunitycenter.com
SUMMARY:AARP Tax Aide Training
DESCRIPTION:
URL:https://www.pachecocommunitycenter.com/events/aarp-tax-aide-training-4/
END:VEVENT
BEGIN:VEVENT
DTSTART;TZID=America/Los_Angeles:20240119T080000
DTEND;TZID=America/Los_Angeles:20240119T160000
DTSTAMP:20260424T035724
CREATED:20231124T211755Z
LAST-MODIFIED:20231124T211755Z
UID:4782-1705651200-1705680000@www.pachecocommunitycenter.com
SUMMARY:AARP Tax Aide Training
DESCRIPTION:
URL:https://www.pachecocommunitycenter.com/events/aarp-tax-aide-training-5/
END:VEVENT
BEGIN:VEVENT
DTSTART;TZID=America/Los_Angeles:20240123T080000
DTEND;TZID=America/Los_Angeles:20240123T160000
DTSTAMP:20260424T035724
CREATED:20231124T211824Z
LAST-MODIFIED:20231124T211824Z
UID:4784-1705996800-1706025600@www.pachecocommunitycenter.com
SUMMARY:AARP Tax Aide Training
DESCRIPTION:
URL:https://www.pachecocommunitycenter.com/events/aarp-tax-aide-training-6/
END:VEVENT
BEGIN:VEVENT
DTSTART;TZID=America/Los_Angeles:20240124T183000
DTEND;TZID=America/Los_Angeles:20240124T193000
DTSTAMP:20260424T035724
CREATED:20240105T170014Z
LAST-MODIFIED:20240105T170014Z
UID:4820-1706121000-1706124600@www.pachecocommunitycenter.com
SUMMARY:PTC Meeting
DESCRIPTION:
URL:https://www.pachecocommunitycenter.com/events/ptc-meeting/
LOCATION:Pacheco Community Center\, 5800 Pacheco Blvd.\, Pacheco\, CA\, 94553\, United States
END:VEVENT
BEGIN:VEVENT
DTSTART;TZID=America/Los_Angeles:20240126T080000
DTEND;TZID=America/Los_Angeles:20240126T160000
DTSTAMP:20260424T035724
CREATED:20231124T211845Z
LAST-MODIFIED:20231124T211845Z
UID:4786-1706256000-1706284800@www.pachecocommunitycenter.com
SUMMARY:AARP Tax Aide Training
DESCRIPTION:
URL:https://www.pachecocommunitycenter.com/events/aarp-tax-aide-training-7/
END:VEVENT
BEGIN:VEVENT
DTSTART;TZID=America/Los_Angeles:20240127T130000
DTEND;TZID=America/Los_Angeles:20240127T180000
DTSTAMP:20260424T035724
CREATED:20231124T205015Z
LAST-MODIFIED:20231124T205015Z
UID:4770-1706360400-1706378400@www.pachecocommunitycenter.com
SUMMARY:Private Event: Celebration of Life
DESCRIPTION:
URL:https://www.pachecocommunitycenter.com/events/private-event-celebration-of-life-21/
END:VEVENT
END:VCALENDAR