BEGIN:VCALENDAR
VERSION:2.0
PRODID:-//Pacheco Community Center - ECPv6.15.15//NONSGML v1.0//EN
CALSCALE:GREGORIAN
METHOD:PUBLISH
X-ORIGINAL-URL:https://www.pachecocommunitycenter.com
X-WR-CALDESC:Events for Pacheco Community Center
REFRESH-INTERVAL;VALUE=DURATION:PT1H
X-Robots-Tag:noindex
X-PUBLISHED-TTL:PT1H
BEGIN:VTIMEZONE
TZID:America/Los_Angeles
BEGIN:DAYLIGHT
TZOFFSETFROM:-0800
TZOFFSETTO:-0700
TZNAME:PDT
DTSTART:20230312T100000
END:DAYLIGHT
BEGIN:STANDARD
TZOFFSETFROM:-0700
TZOFFSETTO:-0800
TZNAME:PST
DTSTART:20231105T090000
END:STANDARD
BEGIN:DAYLIGHT
TZOFFSETFROM:-0800
TZOFFSETTO:-0700
TZNAME:PDT
DTSTART:20240310T100000
END:DAYLIGHT
BEGIN:STANDARD
TZOFFSETFROM:-0700
TZOFFSETTO:-0800
TZNAME:PST
DTSTART:20241103T090000
END:STANDARD
BEGIN:DAYLIGHT
TZOFFSETFROM:-0800
TZOFFSETTO:-0700
TZNAME:PDT
DTSTART:20250309T100000
END:DAYLIGHT
BEGIN:STANDARD
TZOFFSETFROM:-0700
TZOFFSETTO:-0800
TZNAME:PST
DTSTART:20251102T090000
END:STANDARD
BEGIN:DAYLIGHT
TZOFFSETFROM:-0800
TZOFFSETTO:-0700
TZNAME:PDT
DTSTART:20260308T100000
END:DAYLIGHT
BEGIN:STANDARD
TZOFFSETFROM:-0700
TZOFFSETTO:-0800
TZNAME:PST
DTSTART:20261101T090000
END:STANDARD
END:VTIMEZONE
BEGIN:VEVENT
DTSTART;TZID=America/Los_Angeles:20241224T000000
DTEND;TZID=America/Los_Angeles:20250101T235959
DTSTAMP:20260423T065645
CREATED:20240916T225524Z
LAST-MODIFIED:20240916T225740Z
UID:5609-1734998400-1735775999@www.pachecocommunitycenter.com
SUMMARY:Pacheco Community Center Closed
DESCRIPTION:
URL:https://www.pachecocommunitycenter.com/events/pacheco-community-center-closed-17/
END:VEVENT
BEGIN:VEVENT
DTSTART;TZID=America/Los_Angeles:20250107T190000
DTEND;TZID=America/Los_Angeles:20250107T213000
DTSTAMP:20260423T065645
CREATED:20250116T233904Z
LAST-MODIFIED:20250116T233904Z
UID:5774-1736276400-1736285400@www.pachecocommunitycenter.com
SUMMARY:Martinez Swingers Square Dance
DESCRIPTION:Advanced Workshop
URL:https://www.pachecocommunitycenter.com/events/martinez-swingers-square-dance-126/
LOCATION:Pacheco Community Center\, 5800 Pacheco Blvd.\, Pacheco\, CA\, 94553\, United States
END:VEVENT
BEGIN:VEVENT
DTSTART;TZID=America/Los_Angeles:20250108T183000
DTEND;TZID=America/Los_Angeles:20250108T193000
DTSTAMP:20260423T065645
CREATED:20250117T001027Z
LAST-MODIFIED:20250117T001027Z
UID:5827-1736361000-1736364600@www.pachecocommunitycenter.com
SUMMARY:PMAC Meeting
DESCRIPTION:Pacheco Municipal Advisory Council Meeting
URL:https://www.pachecocommunitycenter.com/events/pmac-meeting-10/
LOCATION:Pacheco Community Center\, 5800 Pacheco Blvd.\, Pacheco\, CA\, 94553\, United States
END:VEVENT
BEGIN:VEVENT
DTSTART;TZID=America/Los_Angeles:20250108T190000
DTEND;TZID=America/Los_Angeles:20250108T213000
DTSTAMP:20260423T065645
CREATED:20250116T215714Z
LAST-MODIFIED:20250116T215714Z
UID:5734-1736362800-1736371800@www.pachecocommunitycenter.com
SUMMARY:Martinez Swingers Square Dance
DESCRIPTION:SSD and Plus Workshop
URL:https://www.pachecocommunitycenter.com/events/martinez-swingers-square-dance-88/
LOCATION:Pacheco Community Center\, 5800 Pacheco Blvd.\, Pacheco\, CA\, 94553\, United States
END:VEVENT
BEGIN:VEVENT
DTSTART;TZID=America/Los_Angeles:20250114T190000
DTEND;TZID=America/Los_Angeles:20250114T213000
DTSTAMP:20260423T065645
CREATED:20250116T233904Z
LAST-MODIFIED:20250116T233904Z
UID:5775-1736881200-1736890200@www.pachecocommunitycenter.com
SUMMARY:Martinez Swingers Square Dance
DESCRIPTION:Advanced Workshop
URL:https://www.pachecocommunitycenter.com/events/martinez-swingers-square-dance-127/
LOCATION:Pacheco Community Center\, 5800 Pacheco Blvd.\, Pacheco\, CA\, 94553\, United States
END:VEVENT
BEGIN:VEVENT
DTSTART;TZID=America/Los_Angeles:20250115T190000
DTEND;TZID=America/Los_Angeles:20250115T213000
DTSTAMP:20260423T065645
CREATED:20250116T215714Z
LAST-MODIFIED:20250116T215714Z
UID:5735-1736967600-1736976600@www.pachecocommunitycenter.com
SUMMARY:Martinez Swingers Square Dance
DESCRIPTION:SSD and Plus Workshop
URL:https://www.pachecocommunitycenter.com/events/martinez-swingers-square-dance-89/
LOCATION:Pacheco Community Center\, 5800 Pacheco Blvd.\, Pacheco\, CA\, 94553\, United States
END:VEVENT
BEGIN:VEVENT
DTSTART;TZID=America/Los_Angeles:20250121T190000
DTEND;TZID=America/Los_Angeles:20250121T213000
DTSTAMP:20260423T065645
CREATED:20250116T233905Z
LAST-MODIFIED:20250116T233905Z
UID:5776-1737486000-1737495000@www.pachecocommunitycenter.com
SUMMARY:Martinez Swingers Square Dance
DESCRIPTION:Advanced Workshop
URL:https://www.pachecocommunitycenter.com/events/martinez-swingers-square-dance-128/
LOCATION:Pacheco Community Center\, 5800 Pacheco Blvd.\, Pacheco\, CA\, 94553\, United States
END:VEVENT
BEGIN:VEVENT
DTSTART;TZID=America/Los_Angeles:20250122T183000
DTEND;TZID=America/Los_Angeles:20250122T183000
DTSTAMP:20260423T065645
CREATED:20250117T001045Z
LAST-MODIFIED:20250117T001045Z
UID:5839-1737570600-1737570600@www.pachecocommunitycenter.com
SUMMARY:PTC Meeting
DESCRIPTION:Pacheco Town Council Meeting
URL:https://www.pachecocommunitycenter.com/events/ptc-meeting-6/
LOCATION:Pacheco Community Center\, 5800 Pacheco Blvd.\, Pacheco\, CA\, 94553\, United States
END:VEVENT
BEGIN:VEVENT
DTSTART;TZID=America/Los_Angeles:20250122T190000
DTEND;TZID=America/Los_Angeles:20250122T213000
DTSTAMP:20260423T065645
CREATED:20250116T215714Z
LAST-MODIFIED:20250116T215714Z
UID:5736-1737572400-1737581400@www.pachecocommunitycenter.com
SUMMARY:Martinez Swingers Square Dance
DESCRIPTION:SSD and Plus Workshop
URL:https://www.pachecocommunitycenter.com/events/martinez-swingers-square-dance-90/
LOCATION:Pacheco Community Center\, 5800 Pacheco Blvd.\, Pacheco\, CA\, 94553\, United States
END:VEVENT
BEGIN:VEVENT
DTSTART;TZID=America/Los_Angeles:20250125T110000
DTEND;TZID=America/Los_Angeles:20250125T170000
DTSTAMP:20260423T065645
CREATED:20250122T195251Z
LAST-MODIFIED:20250122T195253Z
UID:5851-1737802800-1737824400@www.pachecocommunitycenter.com
SUMMARY:Private Event: Celebration of Life
DESCRIPTION:
URL:https://www.pachecocommunitycenter.com/events/private-event-celebration-of-life-22/
END:VEVENT
BEGIN:VEVENT
DTSTART;TZID=America/Los_Angeles:20250126T130000
DTEND;TZID=America/Los_Angeles:20250126T180000
DTSTAMP:20260423T065645
CREATED:20250122T195338Z
LAST-MODIFIED:20250122T195340Z
UID:5853-1737896400-1737914400@www.pachecocommunitycenter.com
SUMMARY:Private Event: Celebration of Life
DESCRIPTION:
URL:https://www.pachecocommunitycenter.com/events/private-event-celebration-of-life-23/
END:VEVENT
BEGIN:VEVENT
DTSTART;TZID=America/Los_Angeles:20250128T190000
DTEND;TZID=America/Los_Angeles:20250128T213000
DTSTAMP:20260423T065645
CREATED:20250116T233905Z
LAST-MODIFIED:20250116T233905Z
UID:5777-1738090800-1738099800@www.pachecocommunitycenter.com
SUMMARY:Martinez Swingers Square Dance
DESCRIPTION:Advanced Workshop
URL:https://www.pachecocommunitycenter.com/events/martinez-swingers-square-dance-129/
LOCATION:Pacheco Community Center\, 5800 Pacheco Blvd.\, Pacheco\, CA\, 94553\, United States
END:VEVENT
BEGIN:VEVENT
DTSTART;TZID=America/Los_Angeles:20250129T190000
DTEND;TZID=America/Los_Angeles:20250129T213000
DTSTAMP:20260423T065645
CREATED:20250116T215715Z
LAST-MODIFIED:20250116T215715Z
UID:5737-1738177200-1738186200@www.pachecocommunitycenter.com
SUMMARY:Martinez Swingers Square Dance
DESCRIPTION:SSD and Plus Workshop
URL:https://www.pachecocommunitycenter.com/events/martinez-swingers-square-dance-91/
LOCATION:Pacheco Community Center\, 5800 Pacheco Blvd.\, Pacheco\, CA\, 94553\, United States
END:VEVENT
END:VCALENDAR